BEGIN:VCALENDAR
VERSION:2.0
PRODID:-//American Young Coder - ECPv6.10.1.1//NONSGML v1.0//EN
CALSCALE:GREGORIAN
METHOD:PUBLISH
X-WR-CALNAME:American Young Coder
X-ORIGINAL-URL:https://www.ayclogic.com
X-WR-CALDESC:Events for American Young Coder
REFRESH-INTERVAL;VALUE=DURATION:PT1H
X-Robots-Tag:noindex
X-PUBLISHED-TTL:PT1H
BEGIN:VTIMEZONE
TZID:America/Los_Angeles
BEGIN:DAYLIGHT
TZOFFSETFROM:-0800
TZOFFSETTO:-0700
TZNAME:PDT
DTSTART:20260308T100000
END:DAYLIGHT
BEGIN:STANDARD
TZOFFSETFROM:-0700
TZOFFSETTO:-0800
TZNAME:PST
DTSTART:20261101T090000
END:STANDARD
END:VTIMEZONE
BEGIN:VEVENT
DTSTART;TZID=America/Los_Angeles:20260114T190000
DTEND;TZID=America/Los_Angeles:20260114T200000
DTSTAMP:20260419T160702
CREATED:20260115T040103Z
LAST-MODIFIED:20260115T040652Z
UID:32167-1768417200-1768420800@www.ayclogic.com
SUMMARY:7:00 PM – Python Game Development – Darin
DESCRIPTION:What We Did Today:\n\n\n\nAdded collision handling for the target and balloons.\n\nAlso added visual effects for explosions.\n\n\n\nHomework:\nContinue working on your final projects! You have 2 weeks left for the final project! Collaborate with your partner on the game design doc to fully flesh out details\, and finish up the project timeline. \nMake progress as listed on your respective project timelines. \nNotes:\nAll class notes can be found here: https://gitlab.com/billhan5732/wed-630-flappy-duck-bill/-/tree/bill/src \nYou can reach me at ddjapri@ayclogic.com
URL:https://www.ayclogic.com/event/700-pm-python-game-development-darin-11/
CATEGORIES:Python Class,Python Game Development
END:VEVENT
BEGIN:VEVENT
DTSTART;TZID=America/Los_Angeles:20260114T190000
DTEND;TZID=America/Los_Angeles:20260114T200000
DTSTAMP:20260419T160702
CREATED:20260115T075529Z
LAST-MODIFIED:20260115T075529Z
UID:32174-1768417200-1768420800@www.ayclogic.com
SUMMARY:7:00 PM -Intro to Python – Yitong
DESCRIPTION:Today We:\n\nDiscussed project proposals.\nFinished the Kaleido Spiral project.\n\nHomework\n\nStart coding your project proposals. You have 4 weeks left to do it. I will check your progress next class.\n\nEmail me if you need help: yitong@ayclogic.com
URL:https://www.ayclogic.com/event/700-pm-intro-to-python-yitong-2/
CATEGORIES:Python Class,Python Level 1
END:VEVENT
END:VCALENDAR