BEGIN:VCALENDAR
VERSION:2.0
PRODID:-//American Young Coder - ECPv6.10.1.1//NONSGML v1.0//EN
CALSCALE:GREGORIAN
METHOD:PUBLISH
X-ORIGINAL-URL:https://www.ayclogic.com
X-WR-CALDESC:Events for American Young Coder
REFRESH-INTERVAL;VALUE=DURATION:PT1H
X-Robots-Tag:noindex
X-PUBLISHED-TTL:PT1H
BEGIN:VTIMEZONE
TZID:America/Los_Angeles
BEGIN:DAYLIGHT
TZOFFSETFROM:-0800
TZOFFSETTO:-0700
TZNAME:PDT
DTSTART:20260308T100000
END:DAYLIGHT
BEGIN:STANDARD
TZOFFSETFROM:-0700
TZOFFSETTO:-0800
TZNAME:PST
DTSTART:20261101T090000
END:STANDARD
END:VTIMEZONE
BEGIN:VEVENT
DTSTART;TZID=America/Los_Angeles:20260121T190000
DTEND;TZID=America/Los_Angeles:20260121T200000
DTSTAMP:20260419T161035
CREATED:20260122T025909Z
LAST-MODIFIED:20260122T040528Z
UID:32238-1769022000-1769025600@www.ayclogic.com
SUMMARY:7:00 PM – Python Game Development – Darin
DESCRIPTION:What We Did Today:\n\n\n\nAdded score and bad balloons and text visualization\n\n\n\nHomework:\nContinue working on your final projects! You have 1 week left for the final project! Collaborate with your partner to iron out any remaining bugs in the project. \nMake progress as listed on your respective project timelines. \nNotes:\nAll class notes can be found here: https://gitlab.com/billhan5732/wed-630-flappy-duck-bill/-/tree/bill/src \nYou can reach me at ddjapri@ayclogic.com
URL:https://www.ayclogic.com/event/700-pm-python-game-development-darin-12/
CATEGORIES:Python Class,Python Game Development
END:VEVENT
BEGIN:VEVENT
DTSTART;TZID=America/Los_Angeles:20260121T190000
DTEND;TZID=America/Los_Angeles:20260121T200000
DTSTAMP:20260419T161035
CREATED:20260122T040914Z
LAST-MODIFIED:20260122T041222Z
UID:32237-1769022000-1769025600@www.ayclogic.com
SUMMARY:7 PM - Intro to Python - Yitong
DESCRIPTION:Today We:\n\nReviewed final projects.\nStarted the Grocery System project.\n\nHomework\n\nKeep working on your final project. You have 3 weeks left to do it. I will check your progress next class.\n\nAlex Feng\n\nFinish the chicken.\nHave the sky and the ground colored.\n\n\nElise Ho\n\nFinish the background.\nFinish making the function to draw palm trees.\n\n\nPreslie Tong\n\nCombine the code for drawing the leaves (circle()) and the trunk (rectangle()) into one function for drawing trees.\nFinish making a function to draw bushes.\n\n\n\n\n\nEmail me if you need help: yitong@ayclogic.com
URL:https://www.ayclogic.com/event/7-pm-intro-to-python-yitong-21/
CATEGORIES:Python Class,Python Level 1
END:VEVENT
END:VCALENDAR