BEGIN:VCALENDAR
VERSION:2.0
PRODID:-//American Young Coder - ECPv6.10.1.1//NONSGML v1.0//EN
CALSCALE:GREGORIAN
METHOD:PUBLISH
X-WR-CALNAME:American Young Coder
X-ORIGINAL-URL:https://www.ayclogic.com
X-WR-CALDESC:Events for American Young Coder
REFRESH-INTERVAL;VALUE=DURATION:PT1H
X-Robots-Tag:noindex
X-PUBLISHED-TTL:PT1H
BEGIN:VTIMEZONE
TZID:America/Los_Angeles
BEGIN:DAYLIGHT
TZOFFSETFROM:-0800
TZOFFSETTO:-0700
TZNAME:PDT
DTSTART:20260308T100000
END:DAYLIGHT
BEGIN:STANDARD
TZOFFSETFROM:-0700
TZOFFSETTO:-0800
TZNAME:PST
DTSTART:20261101T090000
END:STANDARD
END:VTIMEZONE
BEGIN:VEVENT
DTSTART;TZID=America/Los_Angeles:20260128T190000
DTEND;TZID=America/Los_Angeles:20260128T200000
DTSTAMP:20260419T160702
CREATED:20260129T040135Z
LAST-MODIFIED:20260129T040135Z
UID:32311-1769626800-1769630400@www.ayclogic.com
SUMMARY:7 PM – Intro to Python – Yitong
DESCRIPTION:Today We:\n\nReviewed final projects.\nFinished the Grocery System project.\nStarted the Robux Balance project.\n\nHomework\n\nKeep working on your final project. You have 2 weeks left to do it. I will check your progress next class.\n\nAlex Feng\n\nFinish making the function to draw trees and clouds.\nDraw the trees and clouds in the background.\n\n\nElise Ho\n\nDraw all the trees in the background.\nFinish making the function to draw the seashells. (A function for each seashell.)\n\n\nPreslie Tong\n\nFinish organizing the tree functions into one.\nFinish making the function to draw the path.\n\n\n\n\n\nEmail me if you need help: yitong@ayclogic.com
URL:https://www.ayclogic.com/event/7-pm-intro-to-python-yitong-22/
CATEGORIES:Python Class,Python Level 1
END:VEVENT
BEGIN:VEVENT
DTSTART;TZID=America/Los_Angeles:20260128T190000
DTEND;TZID=America/Los_Angeles:20260128T200000
DTSTAMP:20260419T160702
CREATED:20260129T041200Z
LAST-MODIFIED:20260129T041200Z
UID:32310-1769626800-1769630400@www.ayclogic.com
SUMMARY:7:00 PM – Python Game Development – Darin
DESCRIPTION:What We Did Today:\n\n\nAdded the bug class\n\n\nHomework:\nEthan and Rex commit and push the final version of your project by the next 3 days! \nFor everyone else (ethan and rex included): \n\nMake the bug flap its wings\nMake the bug disappear upon clicking the bug\, and leave a score the same way you pop a balloon\n\nNotes:\nAll class notes can be found here: https://gitlab.com/billhan5732/wed-630-flappy-duck-bill/-/tree/bill/src \nYou can reach me at ddjapri@ayclogic.com
URL:https://www.ayclogic.com/event/700-pm-python-game-development-darin-13/
CATEGORIES:Python Class,Python Game Development
END:VEVENT
END:VCALENDAR