BEGIN:VCALENDAR
VERSION:2.0
PRODID:-//American Young Coder - ECPv6.10.1.1//NONSGML v1.0//EN
CALSCALE:GREGORIAN
METHOD:PUBLISH
X-ORIGINAL-URL:https://www.ayclogic.com
X-WR-CALDESC:Events for American Young Coder
REFRESH-INTERVAL;VALUE=DURATION:PT1H
X-Robots-Tag:noindex
X-PUBLISHED-TTL:PT1H
BEGIN:VTIMEZONE
TZID:America/Los_Angeles
BEGIN:DAYLIGHT
TZOFFSETFROM:-0800
TZOFFSETTO:-0700
TZNAME:PDT
DTSTART:20260308T100000
END:DAYLIGHT
BEGIN:STANDARD
TZOFFSETFROM:-0700
TZOFFSETTO:-0800
TZNAME:PST
DTSTART:20261101T090000
END:STANDARD
END:VTIMEZONE
BEGIN:VEVENT
DTSTART;TZID=America/Los_Angeles:20260130T170000
DTEND;TZID=America/Los_Angeles:20260130T180000
DTSTAMP:20260419T161033
CREATED:20260131T020243Z
LAST-MODIFIED:20260131T020243Z
UID:32328-1769792400-1769796000@www.ayclogic.com
SUMMARY:5 PM – Intro to Python – Darin
DESCRIPTION:What We Did Today:\n\n\n\n\nLearnt the basics of python turtle.\n\nHomework:\nCreate two new files: Jan30_PythonShapesHW1.py and Jan30_PythonShapesHW2.py \nDraw the shapes below\, where in HW1.py you use the .goto() function\, and in HW2.py you use the .forward() function to draw. When using .forward\, you want to use 45 degrees for turning right. \nBOTH files must have shapes that are completely filled with color. \n \nNotes:\nIf you have any questions\, email me at ddjapri@ayclogic.com \nClass notes can be found here: here
URL:https://www.ayclogic.com/event/5-pm-intro-to-python-darin-35/
CATEGORIES:Python Class,Python Level 1
END:VEVENT
END:VCALENDAR