BEGIN:VCALENDAR
VERSION:2.0
PRODID:-//American Young Coder - ECPv6.10.1.1//NONSGML v1.0//EN
CALSCALE:GREGORIAN
METHOD:PUBLISH
X-WR-CALNAME:American Young Coder
X-ORIGINAL-URL:https://www.ayclogic.com
X-WR-CALDESC:Events for American Young Coder
REFRESH-INTERVAL;VALUE=DURATION:PT1H
X-Robots-Tag:noindex
X-PUBLISHED-TTL:PT1H
BEGIN:VTIMEZONE
TZID:America/Los_Angeles
BEGIN:DAYLIGHT
TZOFFSETFROM:-0800
TZOFFSETTO:-0700
TZNAME:PDT
DTSTART:20260308T100000
END:DAYLIGHT
BEGIN:STANDARD
TZOFFSETFROM:-0700
TZOFFSETTO:-0800
TZNAME:PST
DTSTART:20261101T090000
END:STANDARD
END:VTIMEZONE
BEGIN:VEVENT
DTSTART;TZID=America/Los_Angeles:20260414T170000
DTEND;TZID=America/Los_Angeles:20260414T180000
DTSTAMP:20260419T105214
CREATED:20260415T010030Z
LAST-MODIFIED:20260415T010030Z
UID:33169-1776186000-1776189600@www.ayclogic.com
SUMMARY:5 PM – Intro to Python – Brandon (Darin Sub)
DESCRIPTION:What we learned today:\n\nLearnt about bugs and practiced fixing code.\n\nHomework:\n\nContinue in your Apr13_FixingBugs1.py for this: https://www.ayclogic.com/fixing-python-bugs/
URL:https://www.ayclogic.com/event/5-pm-intro-to-python-brandon-darin-sub/
CATEGORIES:Python Class,Python Level 1
END:VEVENT
BEGIN:VEVENT
DTSTART;TZID=America/Los_Angeles:20260414T173000
DTEND;TZID=America/Los_Angeles:20260414T183000
DTSTAMP:20260419T105214
CREATED:20260416T035215Z
LAST-MODIFIED:20260416T035226Z
UID:33194-1776187800-1776191400@www.ayclogic.com
SUMMARY:5:30 PM - Intro to Python - Abigail
DESCRIPTION:Today We\n\n\n\n\nWe went over homework.\nWe went over common Python errors.\n\nHomework\n(Upload your homework into your Google Drive HW folder a day before the class starts) \n\nMake a 2 new file called “April14_FixBugs_HW.py” & “April14_Quiz_Exercises.py”\nDo both of these exercises:\n\nhttps://www.ayclogic.com/fix-python-bugs-2/\nhttps://www.ayclogic.com/intro-to-python-exercises-for-quiz-2/\n\n\n\nIf you have any questions\, email me at abigail@ayclogic.com
URL:https://www.ayclogic.com/event/530-pm-intro-to-python-abigail-7/
CATEGORIES:Python Class,Python Level 1
END:VEVENT
END:VCALENDAR