BEGIN:VCALENDAR
VERSION:2.0
PRODID:-//American Young Coder - ECPv6.10.1.1//NONSGML v1.0//EN
CALSCALE:GREGORIAN
METHOD:PUBLISH
X-WR-CALNAME:American Young Coder
X-ORIGINAL-URL:https://www.ayclogic.com
X-WR-CALDESC:Events for American Young Coder
REFRESH-INTERVAL;VALUE=DURATION:PT1H
X-Robots-Tag:noindex
X-PUBLISHED-TTL:PT1H
BEGIN:VTIMEZONE
TZID:America/Los_Angeles
BEGIN:DAYLIGHT
TZOFFSETFROM:-0800
TZOFFSETTO:-0700
TZNAME:PDT
DTSTART:20260308T100000
END:DAYLIGHT
BEGIN:STANDARD
TZOFFSETFROM:-0700
TZOFFSETTO:-0800
TZNAME:PST
DTSTART:20261101T090000
END:STANDARD
END:VTIMEZONE
BEGIN:VEVENT
DTSTART;TZID=America/Los_Angeles:20260211T190000
DTEND;TZID=America/Los_Angeles:20260211T200000
DTSTAMP:20260419T141226
CREATED:20260212T040323Z
LAST-MODIFIED:20260212T042505Z
UID:32480-1770836400-1770840000@www.ayclogic.com
SUMMARY:7 PM – Intro to Python – Yitong
DESCRIPTION:Today We:\n\nReviewed final projects.\nReviewed for the Final Test.\n\nHomework\n\nKeep working on your final project; it is due Saturday night.\n\nAlex Feng\n\nAdd 3 more clouds in the background.\nFix the letter k in “chicken.”\nDraw the letters repeatedly in different colors.\n\n\nElise Ho\n\nDraw the letters repeatedly in different colors.\n\n\nPreslie Tong\n\nDraw the path.\nDraw the letters repeatedly in different colors.\n\n\n\n\nReview for the final test. You’ve done these problems before\, but check if you still remember how to do them:\n\nhttps://www.ayclogic.com/intro-to-python-exercises/\nhttps://www.ayclogic.com/intro-to-python-exercises-for-quiz-2/\n\n\n\nThe winner of our review session gameshow was Elise!!! \nEmail me if you need help: yitong@ayclogic.com
URL:https://www.ayclogic.com/event/7-pm-intro-to-python-yitong-24/
CATEGORIES:Python Class,Python Level 1
END:VEVENT
END:VCALENDAR