BEGIN:VCALENDAR
VERSION:2.0
PRODID:-//American Young Coder - ECPv6.10.1.1//NONSGML v1.0//EN
CALSCALE:GREGORIAN
METHOD:PUBLISH
X-WR-CALNAME:American Young Coder
X-ORIGINAL-URL:https://www.ayclogic.com
X-WR-CALDESC:Events for American Young Coder
REFRESH-INTERVAL;VALUE=DURATION:PT1H
X-Robots-Tag:noindex
X-PUBLISHED-TTL:PT1H
BEGIN:VTIMEZONE
TZID:America/Los_Angeles
BEGIN:DAYLIGHT
TZOFFSETFROM:-0800
TZOFFSETTO:-0700
TZNAME:PDT
DTSTART:20260308T100000
END:DAYLIGHT
BEGIN:STANDARD
TZOFFSETFROM:-0700
TZOFFSETTO:-0800
TZNAME:PST
DTSTART:20261101T090000
END:STANDARD
END:VTIMEZONE
BEGIN:VEVENT
DTSTART;TZID=America/Los_Angeles:20260410T170000
DTEND;TZID=America/Los_Angeles:20260410T180000
DTSTAMP:20260419T104658
CREATED:20260411T012400Z
LAST-MODIFIED:20260411T012444Z
UID:33140-1775840400-1775844000@www.ayclogic.com
SUMMARY:5 PM – Intro to Python – Darin
DESCRIPTION:NEXT WEEK IS YOUR FINAL EXAM FROM 5-7PM!! STUDY WELL!\nThe google drive notes have been updated with the latest reviews. Your final exam is also open notes\, but not open internet.\nWhat We Did Today:\n\n\n\n\nFinished the robux system project\nReviewed for the final exam.\n\nHomework:\n\n\n\nMake 100% of progress on your final project and submit by Monday!. You should make sure you meet all the requirements as specified here: https://www.ayclogic.com/intro-to-python-final-project-criteria/. \nSubmit the .py file to the google drive if you are done. \n\n\n\nNotes:\nIf you have any questions\, email me at ddjapri@ayclogic.com \nClass notes can be found here: here
URL:https://www.ayclogic.com/event/5-pm-intro-to-python-darin-44/
CATEGORIES:Python Class,Python Level 1
END:VEVENT
END:VCALENDAR