BEGIN:VCALENDAR
VERSION:2.0
PRODID:-//American Young Coder - ECPv6.10.1.1//NONSGML v1.0//EN
CALSCALE:GREGORIAN
METHOD:PUBLISH
X-WR-CALNAME:American Young Coder
X-ORIGINAL-URL:https://www.ayclogic.com
X-WR-CALDESC:Events for American Young Coder
REFRESH-INTERVAL;VALUE=DURATION:PT1H
X-Robots-Tag:noindex
X-PUBLISHED-TTL:PT1H
BEGIN:VTIMEZONE
TZID:America/Los_Angeles
BEGIN:DAYLIGHT
TZOFFSETFROM:-0800
TZOFFSETTO:-0700
TZNAME:PDT
DTSTART:20230312T100000
END:DAYLIGHT
BEGIN:STANDARD
TZOFFSETFROM:-0700
TZOFFSETTO:-0800
TZNAME:PST
DTSTART:20231105T090000
END:STANDARD
END:VTIMEZONE
BEGIN:VEVENT
DTSTART;TZID=America/Los_Angeles:20230103T180000
DTEND;TZID=America/Los_Angeles:20230103T190000
DTSTAMP:20260425T054551
CREATED:20230104T025635Z
LAST-MODIFIED:20230104T025635Z
UID:17352-1672768800-1672772400@www.ayclogic.com
SUMMARY:6 PM Scratch Level 1 - Alex
DESCRIPTION:Today We Did:\n\nContinued with the Mary Had A Little Lamb project\nDid some review before taking the practice test at home.\n\nFor Homework:\n\nHere is the practice test and make sure to take it before next week’s class so I can look at it. https://forms.gle/gZDvNyLkbA8RzzQW8
URL:https://www.ayclogic.com/event/6-pm-scratch-level-1-alex-3/
CATEGORIES:Scratch Class,Scratch Class Level 1
END:VEVENT
BEGIN:VEVENT
DTSTART;TZID=America/Los_Angeles:20230104T170000
DTEND;TZID=America/Los_Angeles:20230104T180000
DTSTAMP:20260425T054551
CREATED:20230105T021432Z
LAST-MODIFIED:20230106T002302Z
UID:17365-1672851600-1672855200@www.ayclogic.com
SUMMARY:5 PM – Scratch Level 1 – Allison
DESCRIPTION:Today we:\n\nReviewed “broadcast\,” “when I receive\,” how to control clones\, and X and Y coordinates.\nLooked at the Scratch Level 1 Practice Test and went over the details of the test.\n\nHomework:\n\nFinish the Scratch Level 1 Practice Test. Make sure to check the instructions and the video one more time when you are finished with the project. Don’t forget to share the project before submitting it.\nContact us at allison@ayclogic.com and gamas@ayclogic.com if you have any questions or need any help.
URL:https://www.ayclogic.com/event/5-pm-scratch-level-1-yitong-liu/
CATEGORIES:Scratch Class,Scratch Class Level 1
END:VEVENT
BEGIN:VEVENT
DTSTART;TZID=America/Los_Angeles:20230105T150000
DTEND;TZID=America/Los_Angeles:20230105T160000
DTSTAMP:20260425T054551
CREATED:20230106T230944Z
LAST-MODIFIED:20230106T230944Z
UID:17402-1672930800-1672934400@www.ayclogic.com
SUMMARY:3 PM - Scratch 1 - Abigail
DESCRIPTION:What we did today\n\nWe finished working on Funny Faces Project\nWe did an introduction to x and y coordinates.\n\nHomework\n\nWork on finding the corner points for the square and rectangle. (x\,y)
URL:https://www.ayclogic.com/event/3-pm-scratch-1-abigail/
CATEGORIES:Scratch Class,Scratch Class Level 1
END:VEVENT
BEGIN:VEVENT
DTSTART;TZID=America/Los_Angeles:20230107T103000
DTEND;TZID=America/Los_Angeles:20230107T113000
DTSTAMP:20260425T054551
CREATED:20230107T194243Z
LAST-MODIFIED:20230107T194243Z
UID:17434-1673087400-1673091000@www.ayclogic.com
SUMMARY:10:30 AM – Scratch 1 – Yitong
DESCRIPTION:Today we:\n\nLearned how to change the code while playing the game using variables.\nFinished the Spiralizer project.\nStarted the Tunnel of Doom project.\nCreated the Tunnel sprite.\n\nHomework:\n\nDo page 127\, #11 in your pink coding book.\n\n\n\n\nEmail me if you need help: yitong@ayclogic.com
URL:https://www.ayclogic.com/event/1030-am-scratch-1-yitong-9/
CATEGORIES:Scratch Class,Scratch Class Level 1
END:VEVENT
BEGIN:VEVENT
DTSTART;TZID=America/Los_Angeles:20230109T160000
DTEND;TZID=America/Los_Angeles:20230109T170000
DTSTAMP:20260425T054551
CREATED:20230110T005308Z
LAST-MODIFIED:20230110T005308Z
UID:17500-1673280000-1673283600@www.ayclogic.com
SUMMARY:4 PM Scratch Level 1 - Alex Lee
DESCRIPTION:Today We Did:\n\nWe started the Draw Shapes project and learned about how to use the pen.\nCreated the rectangle\, square\, and triangle.\n\nFor Homework:\n\nCreate the hexagon that is on your paper\, the picture will be below if you need it.
URL:https://www.ayclogic.com/event/4-pm-scratch-level-1-alex-lee/
CATEGORIES:Scratch Class,Scratch Class Level 1
END:VEVENT
BEGIN:VEVENT
DTSTART;TZID=America/Los_Angeles:20230110T180000
DTEND;TZID=America/Los_Angeles:20230110T190000
DTSTAMP:20260425T054551
CREATED:20230113T022608Z
LAST-MODIFIED:20230113T022608Z
UID:17591-1673373600-1673377200@www.ayclogic.com
SUMMARY:6 PM-Scratch Level 1 - Alex
DESCRIPTION:Today We Did:\n\nWe reviewed the practice test and prepared for the final.\nNext week will be an exam so make sure to be there.
URL:https://www.ayclogic.com/event/6-pm-scratch-level-1-alex-4/
CATEGORIES:Scratch Class,Scratch Class Level 1
END:VEVENT
BEGIN:VEVENT
DTSTART;TZID=America/Los_Angeles:20230110T183000
DTEND;TZID=America/Los_Angeles:20230110T193000
DTSTAMP:20260425T054551
CREATED:20230111T034132Z
LAST-MODIFIED:20230116T225710Z
UID:17543-1673375400-1673379000@www.ayclogic.com
SUMMARY:6:30 PM – Scratch Level 1 – Allison
DESCRIPTION:Today We:\n\nReviewed the Drawing Shapes on Grid project\nStarted the Animal Crossing project\nCoded a sprite to move to the right while switching costumes\n\nImportant Reminders:\n\nThere are new homework rules. After you finish your homework in Scratch\, you have to send an email the night before the day of the class.\nSince our class is on Tuesday\, send an email to allison@ayclogic.com by Monday at 8 PM. In that email\, write down your name and a link to your shared Scratch project homework. Make sure to share your Scratch project.\n\nHomework:\n\nCass and Elizabeth:\n\nIn the “Drawing Shapes on Grid” project\, code the Cat sprite to finish drawing the rectangle and octagon.\n\nNote: use the coordinate plane paper for help. See below for an image of the coordinate plane paper.\n\n\n\n\nEveryone: \n\nIn the “Animal Crossing” project: Add another Mouse sprite.\nCode the Mouse sprite to go to the coordinate (240\, 0) when the game starts. Afterwards\, code the Mouse sprite to forever move to the left (hint: change x by -10) while switching costumes\n\nHint: look at the codes we did in class for help.\n\n\n\n\nContact us at gamas@ayclogic.com or allison@ayclogic.com if you have any questions or need any help\n\n  \nClick here to see answers for the shapes’ coordinates: Numbered Shapes In Grid – Labeled Coordinates \n  \n \n 
URL:https://www.ayclogic.com/event/630-pm-scratch-level-1-allison-18/
CATEGORIES:Scratch Class,Scratch Class Level 1
END:VEVENT
BEGIN:VEVENT
DTSTART;TZID=America/Los_Angeles:20230111T170000
DTEND;TZID=America/Los_Angeles:20230111T180000
DTSTAMP:20260425T054551
CREATED:20230112T020347Z
LAST-MODIFIED:20230112T020347Z
UID:17578-1673456400-1673460000@www.ayclogic.com
SUMMARY:5 PM – Scratch Level 1 – Allison
DESCRIPTION:Today We:\n\nReviewed the Practice Test\n\nHomework:\n\nStudy for the Final Test (which is next week on Wednesday\, January 18)\nCome to our next class 15 minutes early (come into the zoom meeting at 4:45 PM) so I can explain test instructions\nStudy the resources attached below to prepare for the test\nContact us at gamas@ayclogic.com or allison@ayclogic.com if you have any questions or need any help\n\nResources:\n\nSpaceship V1.0: https://scratch.mit.edu/projects/266884838\nAnimal Crossing: https://scratch.mit.edu/projects/559936031\nBirthday Card: https://scratch.mit.edu/projects/557279686\nCat Art: https://scratch.mit.edu/projects/331671044\nAnimal Race: https://scratch.mit.edu/projects/537193836\nYour Practice Final Test\n\nClick on the link below to see a picture of a coordinate plane with labeled coordinates. Make sure to memorize the coordinates (the ones in red). \nNumbered Shapes In Grid – Labeled
URL:https://www.ayclogic.com/event/5-pm-scratch-level-1-allison-52/
CATEGORIES:Scratch Class,Scratch Class Level 1
END:VEVENT
BEGIN:VEVENT
DTSTART;TZID=America/Los_Angeles:20230111T173000
DTEND;TZID=America/Los_Angeles:20230111T183000
DTSTAMP:20260425T054551
CREATED:20230112T022751Z
LAST-MODIFIED:20230112T022759Z
UID:17580-1673458200-1673461800@www.ayclogic.com
SUMMARY:5:30 PM - Moses Make Up Class - Alex
DESCRIPTION:For Homework:\n\nCreate two sprites\, one is going to be the BatStart and the other is going to be the Bat.\nFor the Bat Code\, make it the same as the Dog’s code but with a different start and key pressed.\nTry your best before the next catch-up section.
URL:https://www.ayclogic.com/event/530-pm-moses-make-up-class-alex/
CATEGORIES:Scratch Class,Scratch Class Level 1
END:VEVENT
BEGIN:VEVENT
DTSTART;TZID=America/Los_Angeles:20230114T093000
DTEND;TZID=America/Los_Angeles:20230114T103000
DTSTAMP:20260425T054551
CREATED:20230114T182338Z
LAST-MODIFIED:20230115T172749Z
UID:17602-1673688600-1673692200@www.ayclogic.com
SUMMARY:9:30 AM – Scratch 1 – Yitong
DESCRIPTION:Today we:\n\nStarted the Dino Dance project.\nMade the first Dinosaur sprite change to the next costume when the space key is pressed.\nMade the second Dinosaur sprite switch between costumes A and D forever.\nMade the third Dinosaur sprite switch between costumes A and D while moving back and forth across the screen forever.\nLearned about direction.\n\nHomework:\n\nHOMEWORK IS DUE FRIDAY NIGHT!! Please submit by emailing your homework to: yitong@ayclogic.com and Mr. Gamas’s email: gamas@ayclogic.com\n\nDon’t forget to share your project\, otherwise\, I won’t be to see your code.\nDon’t forget to include the project link in the email. Otherwise\, I cannot see your project.\nIf you need help\, scroll down. I included a tutorial on how to submit homework. If you still need help\, ask your parents.\n\n\nRead and do pages 43-44\, #25-28 in your pink coding book.\n\nIf you do not have the book yet\, please follow the instructions in the images below.\n\n\n\n \n \nHow to submit homework:\n\nClick on the link at the top of your screen.\n\n\n\n\n\nHighlight the complete link including the numbers at the end. Then right-click on the link and click “Copy.”\n\n\n\n\n\nOpen your email and click on the “Compose” button at the top left of the screen. You should see a white box pop up in the bottom right corner.\n\n\n\n\nIn the white message box\, right-click in the empty space then click “Paste.”\n\n\n\n\nGo to the webpage where you get your homework and highlight the email in bold. Right-click on the highlighted email and click “Copy.”\n\n\n\n\nNow back to the message box and click on the place that says “Recipients.” Right-click the empty space next to where it says “To” and click “Paste”.\n\n\n\n\n\nWhen you are done\, the message box should look like this. It is okay to not put a subject. When you have my email address at the top and the link to your Scratch project in the blank space\, click the blue “Send” button. When I receive your email\, I will reply and send you feedback.\n\n\n\n\n\n\n\n\n\n\n\n\nEmail me if you need help: yitong@ayclogic.com
URL:https://www.ayclogic.com/event/930-am-scratch-1-yitong/
CATEGORIES:Scratch Class,Scratch Class Level 1
END:VEVENT
BEGIN:VEVENT
DTSTART;TZID=America/Los_Angeles:20230114T103000
DTEND;TZID=America/Los_Angeles:20230114T233000
DTSTAMP:20260425T054551
CREATED:20230114T195858Z
LAST-MODIFIED:20230121T183302Z
UID:17604-1673692200-1673739000@www.ayclogic.com
SUMMARY:10:30 AM – Scratch 1 – Yitong
DESCRIPTION:Today we:\n\nAdded the Home Button sprite.\nAdded the Banner sprite.\nMade the Cat sprite broadcast “Finished!” when it touches the Home Button sprite.\nMade the Banner show up when it receives “Finished!”\, play music\, and change color.\nMade the stage play background music and stop playing it when received “Finished!”\nFinished the Tunnel of Doom project.\nStarted the Window Cleaner project.\nCreated a Splat sprite.\nMade the Splat sprite create clones forever.\n\nHomework:\n\nMake 2 more splat costumes. They need to be different shapes and different colors.\n\n\n\n\nEmail me if you need help: yitong@ayclogic.com
URL:https://www.ayclogic.com/event/1030-am-scratch-1-yitong-10/
CATEGORIES:Scratch Class,Scratch Class Level 1
END:VEVENT
BEGIN:VEVENT
DTSTART;TZID=America/Los_Angeles:20230117T180000
DTEND;TZID=America/Los_Angeles:20230117T190000
DTSTAMP:20260425T054551
CREATED:20230119T222904Z
LAST-MODIFIED:20230119T222904Z
UID:17733-1673978400-1673982000@www.ayclogic.com
SUMMARY:6PM TUES - Scratch Level 1 - Alex
DESCRIPTION:Today We Did:\n\nHad a test today\, and the test results will be out before next week.
URL:https://www.ayclogic.com/event/6pm-tues-scratch-level-1-alex/
CATEGORIES:Scratch Class,Scratch Class Level 1
END:VEVENT
BEGIN:VEVENT
DTSTART;TZID=America/Los_Angeles:20230117T183000
DTEND;TZID=America/Los_Angeles:20230117T193000
DTSTAMP:20260425T054551
CREATED:20230119T014209Z
LAST-MODIFIED:20230119T014209Z
UID:17712-1673980200-1673983800@www.ayclogic.com
SUMMARY:6:30 PM – Scratch Level 1 – Allison
DESCRIPTION:Today We:\n\nContinued the Animal Crossing project\nCoded sprites to move up\, left\, and down while switching costumes\nCoded sprites to point in a specific direction\nCoded the Dot sprite to say “Hello” after reaching the top edge\nForever changed the background’s colors\n\nImportant Reminders:\n\nThere are new homework rules. After you finish your homework in Scratch\, you have to send an email the night before the day of the class.\nSince our class is on Tuesday\, send an email to allison@ayclogic.com by Monday at 8 PM. In that email\, write down your name and a link to your shared Scratch project homework. Make sure to share your Scratch project.\n\nHomework:\n\nCass and Elizabeth:\n\nIn the “Drawing Shapes on Grid” project\, code the Cat sprite to finish drawing the rectangle and octagon.\n\nNote: use the coordinate plane paper for help. See below for images of the coordinate plane paper.\nPrint the two images below. \n\n\n\n\nEveryone: \n\nIn the “Animal Crossing” project:\nAdd a Dove sprite\nCode the Dove sprite to go to the coordinate (100\, 180) when the game starts. Afterwards\, code the Dove sprite to forever move downwards while switching costumes\nAfter the Dove sprite reaches the bottom edge\, code the Dove to say “Hi!”\n\nHint: you will need the code: “if y position < -180 then”\nHint: look at the codes we did in class for help.\n\n\n\n\nContact us at gamas@ayclogic.com or allison@ayclogic.com if you have any questions or need any help\n\n 
URL:https://www.ayclogic.com/event/630-pm-scratch-level-1-allison-20/
CATEGORIES:Scratch Class,Scratch Class Level 1
END:VEVENT
BEGIN:VEVENT
DTSTART;TZID=America/Los_Angeles:20230118T170000
DTEND;TZID=America/Los_Angeles:20230118T180000
DTSTAMP:20260425T054551
CREATED:20230119T014516Z
LAST-MODIFIED:20230119T014516Z
UID:17714-1674061200-1674064800@www.ayclogic.com
SUMMARY:5 PM – Scratch Level 1 – Allison
DESCRIPTION:Today We:\n\nTook the Final Test\n\nHomework:\n\nContact us if you have any questions or need any help\nThere is no homework this week. Enjoy!
URL:https://www.ayclogic.com/event/5-pm-scratch-level-1-allison-53/
CATEGORIES:Scratch Class,Scratch Class Level 1
END:VEVENT
BEGIN:VEVENT
DTSTART;TZID=America/Los_Angeles:20230121T093000
DTEND;TZID=America/Los_Angeles:20230121T103000
DTSTAMP:20260425T054551
CREATED:20230121T195835Z
LAST-MODIFIED:20230121T200113Z
UID:17755-1674293400-1674297000@www.ayclogic.com
SUMMARY:9:30 AM – Scratch 1 – Yitong
DESCRIPTION:Today we:\n\nGave the Ballerina sprite a set of dance moves.\nLearned about repeat blocks.\nFinished the Dino Dance project.\nStarted the Animal Race project.\nLearned about variables.\nMade the Cat sprite count down from 3.\n\nHomework:\n\nHOMEWORK IS DUE FRIDAY NIGHT!! Please submit by emailing your homework to: yitong@ayclogic.com and Mr. Gamas’s email: gamas@ayclogic.com\n\nDon’t forget to share your project\, otherwise\, I won’t be to see your code.\nDon’t forget to include the project link in the email. Otherwise\, I cannot see your project.\nIf you need help\, scroll down. I included a tutorial on how to submit homework. If you still need help\, ask your parents.\n\n\nRead and do pages 51-52\, #6-11 in your pink coding book.\n\nIf you do not have the book yet\, please follow the instructions in the images below.\n\n\n\n \n \nHow to submit homework:\n\nClick on the link at the top of your screen.\n\n\n\n\n\nHighlight the complete link including the numbers at the end. Then right-click on the link and click “Copy.”\n\n\n\n\n\nOpen your email and click on the “Compose” button at the top left of the screen. You should see a white box pop up in the bottom right corner.\n\n\n\n\nIn the white message box\, right-click in the empty space then click “Paste.”\n\n\n\n\nGo to the webpage where you get your homework and highlight the email in bold. Right-click on the highlighted email and click “Copy.”\n\n\n\n\nNow back to the message box and click on the place that says “Recipients.” Right-click the empty space next to where it says “To” and click “Paste”.\n\n\n\n\n\nWhen you are done\, the message box should look like this. It is okay to not put a subject. When you have my email address at the top and the link to your Scratch project in the blank space\, click the blue “Send” button. When I receive your email\, I will reply and send you feedback.\n\n\n\n\n\n\n\n\n\n\nEmail me if you need help: yitong@ayclogic.com
URL:https://www.ayclogic.com/event/930-am-scratch-1-yitong-2/
CATEGORIES:Scratch Class,Scratch Class Level 1
END:VEVENT
BEGIN:VEVENT
DTSTART;TZID=America/Los_Angeles:20230121T103000
DTEND;TZID=America/Los_Angeles:20230121T233000
DTSTAMP:20260425T054551
CREATED:20230121T200413Z
LAST-MODIFIED:20230121T200413Z
UID:17754-1674297000-1674343800@www.ayclogic.com
SUMMARY:10:30 AM – Scratch 1 – Yitong
DESCRIPTION:Today we:\n\nLearned how to make clones show up in a specific area.\nMade the Splat clones fade away each time the mouse pointer touches them.\nDeleted the Splat clones when they fade away.\nAdded the pop sound when the Splat clones are deleted.\nAdded a SplatsOnScreen variable.\nLearned how to keep track of the Splats on the screen using the variable.\n\nHomework:\n\nIn your pink coding book\, do page 138\, #10-12.\n\n\n\n\nEmail me if you need help: yitong@ayclogic.com
URL:https://www.ayclogic.com/event/1030-am-scratch-1-yitong-11/
CATEGORIES:Scratch Class,Scratch Class Level 1
END:VEVENT
BEGIN:VEVENT
DTSTART;TZID=America/Los_Angeles:20230124T063000
DTEND;TZID=America/Los_Angeles:20230124T193000
DTSTAMP:20260425T054551
CREATED:20230127T231603Z
LAST-MODIFIED:20230221T201859Z
UID:17832-1674541800-1674588600@www.ayclogic.com
SUMMARY:6:30 PM – Scratch Level 1 – Allison
DESCRIPTION:Today We:\n\nFinished the Animal Crossing project\nStarted the Birthday Card project\n\nImportant Reminders:\n\nThere are new homework rules. After you finish your homework in Scratch\, you have to send an email the night before the day of the class.\nSince our class is on Tuesday\, send an email to allison@ayclogic.com by Monday at 8 PM. In that email\, write down your name and a link to your shared Scratch project homework. Make sure to share your Scratch project.\n\nHomework:\n\nCass:\n\nIn the “Drawing Shapes on Grid” project\, code the Cat sprite to finish drawing the rectangle and octagon.\n\nNote: use the coordinate plane paper for help. See below for images of the coordinate plane paper.\n\n\n\n\nElizabeth:\n\nPrint the two images below.\n\n\nEveryone: \n\nIn your Birthday Card project\, read and do the codes in the Scratch Book\n\nPg. 88-89\n\n\n\n\nContact us at gamas@ayclogic.com or allison@ayclogic.com if you have any questions or need any help\n\n 
URL:https://www.ayclogic.com/event/630-pm-scratch-level-1-allison-21/
CATEGORIES:Scratch Class,Scratch Class Level 1
END:VEVENT
BEGIN:VEVENT
DTSTART;TZID=America/Los_Angeles:20230127T170000
DTEND;TZID=America/Los_Angeles:20230127T180000
DTSTAMP:20260425T054551
CREATED:20230128T013439Z
LAST-MODIFIED:20230128T013439Z
UID:17835-1674838800-1674842400@www.ayclogic.com
SUMMARY:5 PM – Scratch Level 1 – Allison
DESCRIPTION:Today We:\n\nReviewed the Final Test\n\nHomework:\n\nStudy for the Retake Test (which is next week on Wednesday\, February 1)\nStudy the resources attached below to prepare for the test\nContact us at gamas@ayclogic.com or allison@ayclogic.com if you have any questions or need any help\n\nResources:\n\nYour Practice Final Test\nYour Final Test\nAnimal Crossing: https://scratch.mit.edu/projects/639911201\nVirtual Snow: https://scratch.mit.edu/projects/763048445\nSpaceship V1.0: https://scratch.mit.edu/projects/266884838\nBirthday Card: https://scratch.mit.edu/projects/557279686\nCat Art: https://scratch.mit.edu/projects/331671044\nAnimal Race: https://scratch.mit.edu/projects/537193836\n\nClick on the link below to see a picture of a coordinate plane with labeled coordinates. Make sure to memorize the coordinates (the ones in red). \nNumbered Shapes In Grid – Labeled
URL:https://www.ayclogic.com/event/5-pm-scratch-level-1-allison-54/
CATEGORIES:Scratch Class,Scratch Class Level 1
END:VEVENT
END:VCALENDAR