BEGIN:VCALENDAR
VERSION:2.0
PRODID:-//American Young Coder - ECPv6.10.1.1//NONSGML v1.0//EN
CALSCALE:GREGORIAN
METHOD:PUBLISH
X-WR-CALNAME:American Young Coder
X-ORIGINAL-URL:https://www.ayclogic.com
X-WR-CALDESC:Events for American Young Coder
REFRESH-INTERVAL;VALUE=DURATION:PT1H
X-Robots-Tag:noindex
X-PUBLISHED-TTL:PT1H
BEGIN:VTIMEZONE
TZID:America/Los_Angeles
BEGIN:DAYLIGHT
TZOFFSETFROM:-0800
TZOFFSETTO:-0700
TZNAME:PDT
DTSTART:20230312T100000
END:DAYLIGHT
BEGIN:STANDARD
TZOFFSETFROM:-0700
TZOFFSETTO:-0800
TZNAME:PST
DTSTART:20231105T090000
END:STANDARD
END:VTIMEZONE
BEGIN:VEVENT
DTSTART;TZID=America/Los_Angeles:20231004T190000
DTEND;TZID=America/Los_Angeles:20231004T200000
DTSTAMP:20260424T052205
CREATED:20231005T051253Z
LAST-MODIFIED:20231005T051253Z
UID:21945-1696446000-1696449600@www.ayclogic.com
SUMMARY:7 PM – Scratch Level 1 – Allison
DESCRIPTION:Today we:\n\nContinued the Birthday Card project\nCoded sprites to show up and glide when the Button sprite is clicked\n\nImportant Reminders:\n\nAfter you finish your homework in Scratch\, send an email to allison@ayclogic.com by Tuesday at 8 PM. In that email\, write down your name and a link to your shared Scratch project homework. Make sure to share your Scratch project.\n\nHomework:\n\nMemorize the four main directions in Scratch\nRead and do the codes in the Scratch Book Pg. 88-89 and 91.\nContact us at gamas@ayclogic.com or allison@ayclogic.com if you have any questions or need any help.
URL:https://www.ayclogic.com/event/7-pm-scratch-level-1-allison-15/
CATEGORIES:Scratch Class,Scratch Class Level 1
END:VEVENT
BEGIN:VEVENT
DTSTART;TZID=America/Los_Angeles:20231007T180000
DTEND;TZID=America/Los_Angeles:20231007T190000
DTSTAMP:20260424T052205
CREATED:20231008T020917Z
LAST-MODIFIED:20231008T021026Z
UID:22008-1696701600-1696705200@www.ayclogic.com
SUMMARY:6 PM – Scratch 1 – Yitong
DESCRIPTION:Today we:\n\nWent over homework.\n\nHomework:\n\nAdd the Beetle sprite.\nFlip the Beetle sprite so that it’s facing LEFT.\nMake the Beetle sprite start at the RIGHT side of the screen and walk to the LEFT.\n\nHint: Look at the Bear sprite for help.\n\n\nMake the Beetle sprite change costumes when walking.\nAdd the Dragonfly sprite.\nFlip the Dragonfly sprite so that it’s facing DOWN.\n\nHint: Use the direction wheel that I showed you in class! Try spinning the Dragonfly sprite around and see what happens.\n\n\nMake the Dragonfly sprite start at the TOP of the screen and fly DOWN.\n\nHint: Look at the Dinosaur3 sprite for help.\n\n\nMake the Dragonfly 3 sprite change costumes when flying.\n\nSubmit your homework here: yitong@ayclogic.com \n\nHomework is due by FRIDAY NIGHT\nDon’t forget to share your project\, otherwise\, I cannot see it.\n\nPoints:\n\nSadev:       III\nPahan:       II\nRoman:      III\nBenjamin:   I\nEmma:       II\n\nHow to submit homework:\n\nGo to your email and compose a new message.\n\n\n\n\nGo to the coding homework calendar to copy my email address and paste it into the email message.\n\n\n\n\n\nGo to your project and make sure it is SHARED. Copy the link and paste it into the email message.\n\n\n\n\n\n\nThis is what your email message should look like when you’re done.
URL:https://www.ayclogic.com/event/6-pm-scratch-1-yitong-12/
CATEGORIES:Scratch Class,Scratch Class Level 1
END:VEVENT
BEGIN:VEVENT
DTSTART;TZID=America/Los_Angeles:20231007T180000
DTEND;TZID=America/Los_Angeles:20231007T190000
DTSTAMP:20260424T052205
CREATED:20231008T031105Z
LAST-MODIFIED:20231008T031105Z
UID:22013-1696701600-1696705200@www.ayclogic.com
SUMMARY:6 PM - Scratch 1 - Abigail
DESCRIPTION:What we did today\n\nWe started and finished the Ask Gobo project.\n\nHomework\n\nDo page 67 on your pink Scratch book.\nIn the “special effects” section\, just create a new option/reply number\, don’t delete and replace everything in “reply number = 2”. (You should have reply number = 7)\n\nIf you have any questions\, email me at abigail@ayclogic.com
URL:https://www.ayclogic.com/event/6-pm-scratch-1-abigail-29/
CATEGORIES:Scratch Class,Scratch Class Level 1
END:VEVENT
BEGIN:VEVENT
DTSTART;TZID=America/Los_Angeles:20231011T190000
DTEND;TZID=America/Los_Angeles:20231011T200000
DTSTAMP:20260424T052205
CREATED:20231012T064137Z
LAST-MODIFIED:20231012T064449Z
UID:22084-1697050800-1697054400@www.ayclogic.com
SUMMARY:7 PM – Scratch Level 1 – Allison
DESCRIPTION:Today we:\n\nFinished the Birthday Card project\nStarted the Tunnel of Doom project\nCreated the Tunnel sprite\n\nImportant Reminders:\n\nAfter you finish your homework in Scratch\, send an email to allison@ayclogic.com by Tuesday at 8 PM. In that email\, write down your name and a link to your shared Scratch project homework. Make sure to share your Scratch project.\n\nHomework:\n\nTitus:\n\nMake sure to read and complete the codes in Scratch Book Pg. 91 for your Birthday Card project\n\n\nEveryone:\n\nCreate a copy of your Birthday Card project in Scratch\n\nInstructions:\nOpen your Birthday card project\nClick on the “Files” button\nClick on the “Save as a copy” button\nRename your new project as “Custom Birthday Card”\n\n\nFor this project\, please take two pictures of yourself. Please also take two pictures of someone else like your guardian. Make sure these pictures are saved on the device you are using for Scratch. Please ask someone for help if needed.\n\nUpload one picture of yourself as the Shark 1 costume.\nUpload the other picture of yourself as the Shark 2 costume.\nUpload the picture of the other person as the Button costume.\nUpload the other picture of the other person as the Cake costume.\n\n\nUpload a background from the internet\nCode your Cake\, Shark 1\, Shark 2\, and Banner sprite to have different coordinates for (go to x: y:) and have different coordinates for (glide to x: y:)\n\nNote: the coordinates should be different from your last project (the Birthday Card project)\n\n\n\n\nContact us at gamas@ayclogic.com or allison@ayclogic.com if you have any questions or need any help.
URL:https://www.ayclogic.com/event/7-pm-scratch-level-1-allison-16/
CATEGORIES:Scratch Class,Scratch Class Level 1
END:VEVENT
BEGIN:VEVENT
DTSTART;TZID=America/Los_Angeles:20231014T180000
DTEND;TZID=America/Los_Angeles:20231014T190000
DTSTAMP:20260424T052205
CREATED:20231015T021658Z
LAST-MODIFIED:20231022T013706Z
UID:22159-1697306400-1697310000@www.ayclogic.com
SUMMARY:6 PM – Scratch 1 – Yitong
DESCRIPTION:Today we:\n\nWent over homework.\n\nHomework:\n\nWhen the Dinosaur3 sprite passes y = -100\, make it say something.\nWhen the Beetle sprite passes the middle of the screen\, make it say something.\n\nHint: Look at the x and y for the middle of the screen\, and figure out if you’re checking the x or the y (LOOK FIGURE OUT WHICH ONE IS CHANGING).\n\n\nWhen the Dragonfly sprite passes y= 100\, make it say something.\n\n+2 points to whoever turns in homework first. It must be COMPLETELY correct. \nSubmit your homework here: yitong@ayclogic.com \n\nHomework is due by FRIDAY NIGHT\nDon’t forget to share your project\, otherwise\, I cannot see it.\n\nPoints:\n\nSadev:       IIII\nPahan:       II\nRoman:      IIII\nBenjamin:   III\nEmma:       III\n\nHow to submit homework:\n\nGo to your email and compose a new message.\n\n\n\n\nGo to the coding homework calendar to copy my email address and paste it into the email message.\n\n\n\n\n\nGo to your project and make sure it is SHARED. Copy the link and paste it into the email message.\n\n\n\n\n\n\nThis is what your email message should look like when you’re done.
URL:https://www.ayclogic.com/event/6-pm-scratch-1-yitong-13/
CATEGORIES:Scratch Class,Scratch Class Level 1
END:VEVENT
BEGIN:VEVENT
DTSTART;TZID=America/Los_Angeles:20231014T180000
DTEND;TZID=America/Los_Angeles:20231014T190000
DTSTAMP:20260424T052205
CREATED:20231015T031139Z
LAST-MODIFIED:20231015T031139Z
UID:22165-1697306400-1697310000@www.ayclogic.com
SUMMARY:6 PM – Scratch 1 – Abigail
DESCRIPTION:What we did today\n\nWe started working on the Funny Faces project.\n\nHomework\n\nMake a Hat2 sprite\, Hair sprite\, Eyebrow sprite\, Bowtie sprite\, and Sunglasses sprite.\nYou don’t have to copy the Hair sprite\, make it better.\nThe Sunglasses sprite is in the sprite gallery.\n\nIf you have any questions\, email me at abigail@ayclogic.com
URL:https://www.ayclogic.com/event/6-pm-scratch-1-abigail-30/
CATEGORIES:Scratch Class,Scratch Class Level 1
END:VEVENT
BEGIN:VEVENT
DTSTART;TZID=America/Los_Angeles:20231018T190000
DTEND;TZID=America/Los_Angeles:20231018T200000
DTSTAMP:20260424T052205
CREATED:20231020T160406Z
LAST-MODIFIED:20231020T160406Z
UID:22223-1697655600-1697659200@www.ayclogic.com
SUMMARY:7 PM – Scratch Level 1 – Allison
DESCRIPTION:Today we:\n\nFinished the Custom Birthday Card project\nContinued the Tunnel of Doom project\nStarted coding the Cat sprite\n\nImportant Reminders:\n\nAfter you finish your homework in Scratch\, send an email to allison@ayclogic.com by Tuesday at 8 PM. In that email\, write down your name and a link to your shared Scratch project homework. Make sure to share your Scratch project.\n\nHomework:\n\nIn your Tunnel of Doom project:\nCode the Tunnel sprite to change colors forever\nCreate two new costumes for your Tunnel sprite (so you should have three costumes in total). Each costume must look different from each other.\nContact us at gamas@ayclogic.com or allison@ayclogic.com if you have any questions or need any help.
URL:https://www.ayclogic.com/event/7-pm-scratch-level-1-allison-18/
CATEGORIES:Scratch Class,Scratch Class Level 1
END:VEVENT
BEGIN:VEVENT
DTSTART;TZID=America/Los_Angeles:20231021T180000
DTEND;TZID=America/Los_Angeles:20231021T190000
DTSTAMP:20260424T052205
CREATED:20231022T015857Z
LAST-MODIFIED:20231022T020741Z
UID:22255-1697911200-1697914800@www.ayclogic.com
SUMMARY:6 PM – Scratch 1 – Yitong
DESCRIPTION:Today we:\n\nFinished the Animal Crossing project.\nStarted the Spiralizer project.\n\nHomework:\n\nInside the pink coding book\, do pages 97-99\, #7-13. DO NOT do anything else. I will take away 3 points if you do not do the right homework.\n\nSubmit your homework here: yitong@ayclogic.com \n\nHomework is due by FRIDAY NIGHT\nDon’t forget to share your project\, otherwise\, I cannot see it.\n\nPoints:\n\nSadev:       IIII\nPahan:       II\nRoman:      IIII\nBenjamin:   III\nEmma:       III\n\nHow to submit homework:\n\nGo to your email and compose a new message.\n\n\n\n\nGo to the coding homework calendar to copy my email address and paste it into the email message.\n\n\n\n\n\nGo to your project and make sure it is SHARED. Copy the link and paste it into the email message.\n\n\n\n\n\n\nThis is what your email message should look like when you’re done.
URL:https://www.ayclogic.com/event/6-pm-scratch-1-yitong-14/
CATEGORIES:Scratch Class,Scratch Class Level 1
END:VEVENT
BEGIN:VEVENT
DTSTART;TZID=America/Los_Angeles:20231021T180000
DTEND;TZID=America/Los_Angeles:20231021T190000
DTSTAMP:20260424T052205
CREATED:20231022T032355Z
LAST-MODIFIED:20231022T032505Z
UID:22267-1697911200-1697914800@www.ayclogic.com
SUMMARY:6 PM – Scratch 1 – Abigail
DESCRIPTION:What we did today\n\nWe finished working on the Funny Faces project.\n\nHomework\n\nPrint out or save this image for next week’s lesson.\nYou can download image here or at in project resources.\n\n \nIf you have any questions\, email me at abigail@ayclogic.com
URL:https://www.ayclogic.com/event/6-pm-scratch-1-abigail-31/
CATEGORIES:Scratch Class,Scratch Class Level 1
END:VEVENT
BEGIN:VEVENT
DTSTART;TZID=America/Los_Angeles:20231025T190000
DTEND;TZID=America/Los_Angeles:20231025T200000
DTSTAMP:20260424T052205
CREATED:20231026T030317Z
LAST-MODIFIED:20231026T030317Z
UID:22319-1698260400-1698264000@www.ayclogic.com
SUMMARY:7 PM – Scratch Level 1 – Allison
DESCRIPTION:Today we:\n\nContinued the Tunnel of Doom project\nContinued coding the Cat sprite\nCoded the Home Button and Banner sprite\n\nImportant Reminders:\n\nAfter you finish your homework in Scratch\, send an email to allison@ayclogic.com by Tuesday at 8 PM. In that email\, write down your name and a link to your shared Scratch project homework. Make sure to share your Scratch project.\n\nHomework:\n\nRead and do the codes in the “Hacks and tweaks” section in Scratch Book Pg. 132-133\nContact us at gamas@ayclogic.com or allison@ayclogic.com if you have any questions or need any help.
URL:https://www.ayclogic.com/event/7-pm-scratch-level-1-allison-19/
CATEGORIES:Scratch Class,Scratch Class Level 1
END:VEVENT
BEGIN:VEVENT
DTSTART;TZID=America/Los_Angeles:20231028T180000
DTEND;TZID=America/Los_Angeles:20231028T190000
DTSTAMP:20260424T052205
CREATED:20231029T014659Z
LAST-MODIFIED:20231202T082615Z
UID:22379-1698516000-1698519600@www.ayclogic.com
SUMMARY:6 PM – Scratch 1 – Yitong
DESCRIPTION:Today we:\n\nFinished the Spiralizer project.\nStarted the Tunnel of Doom project.\n\nHomework:\n\nInside the pink coding book\, do page 127\, #10-11. DO NOT do anything else. I will take away 3 points if you do not do the right homework.\n\nSubmit your homework here: yitong@ayclogic.com \n\nHomework is due by FRIDAY NIGHT\nDon’t forget to share your project\, otherwise\, I cannot see it.\n\nPoints:\n\nSadev:       IIIII\nPahan:       IIIII IIII\nRoman:      IIIII III\nBenjamin:   IIIII I\nEmma:       III\n\nSTUDENTS OF THE MONTH!!!\n\nRoman\nPahan\nBenjamin\n\nHow to submit homework:\n\nGo to your email and compose a new message.\n\n\n\n\nGo to the coding homework calendar to copy my email address and paste it into the email message.\n\n\n\n\n\nGo to your project and make sure it is SHARED. Copy the link and paste it into the email message.\n\n\n\n\n\n\nThis is what your email message should look like when you’re done.
URL:https://www.ayclogic.com/event/6-pm-scratch-1-yitong-15/
CATEGORIES:Scratch Class,Scratch Class Level 1
END:VEVENT
BEGIN:VEVENT
DTSTART;TZID=America/Los_Angeles:20231028T180000
DTEND;TZID=America/Los_Angeles:20231028T190000
DTSTAMP:20260424T052205
CREATED:20231029T031216Z
LAST-MODIFIED:20231029T031216Z
UID:22384-1698516000-1698519600@www.ayclogic.com
SUMMARY:6 PM – Scratch 1 – Abigail
DESCRIPTION:What we did today\n\nWe started learning about x and y coordinates.\n\nHomework\n\nPlot the points of the rectangle and the triangle.\nRectangle (4 points)\, triangle (3 points). You should have a total of 7 points.\n(Optional) Plot the points of the octagon (8 points).\n\n \n\nIf you have any questions\, email me at abigail@ayclogic.com
URL:https://www.ayclogic.com/event/6-pm-scratch-1-abigail-32/
CATEGORIES:Scratch Class,Scratch Class Level 1
END:VEVENT
END:VCALENDAR