BEGIN:VCALENDAR
VERSION:2.0
PRODID:-//American Young Coder - ECPv6.10.1.1//NONSGML v1.0//EN
CALSCALE:GREGORIAN
METHOD:PUBLISH
X-ORIGINAL-URL:https://www.ayclogic.com
X-WR-CALDESC:Events for American Young Coder
REFRESH-INTERVAL;VALUE=DURATION:PT1H
X-Robots-Tag:noindex
X-PUBLISHED-TTL:PT1H
BEGIN:VTIMEZONE
TZID:America/Los_Angeles
BEGIN:DAYLIGHT
TZOFFSETFROM:-0800
TZOFFSETTO:-0700
TZNAME:PDT
DTSTART:20230312T100000
END:DAYLIGHT
BEGIN:STANDARD
TZOFFSETFROM:-0700
TZOFFSETTO:-0800
TZNAME:PST
DTSTART:20231105T090000
END:STANDARD
END:VTIMEZONE
BEGIN:VEVENT
DTSTART;TZID=America/Los_Angeles:20231101T190000
DTEND;TZID=America/Los_Angeles:20231101T200000
DTSTAMP:20260424T023351
CREATED:20231102T040230Z
LAST-MODIFIED:20231102T040230Z
UID:22421-1698865200-1698868800@www.ayclogic.com
SUMMARY:7 PM – Scratch Level 1 – Allison
DESCRIPTION:Today we:\n\nFinished the Tunnel of Doom project\nStarted the Window Cleaner project\n\nImportant Reminders:\n\nAfter you finish your homework in Scratch\, send an email to allison@ayclogic.com by Tuesday at 8 PM. In that email\, write down your name and a link to your shared Scratch project homework. Make sure to share your Scratch project.\n\nHomework:\n\nTitus:\n\nIf you need to finish the Splat sprite’s costume and codes\, here is the class project link to use as an example: Window Cleaner project\n\n\nEveryone:\n\nCreate three new costumes for your Splat sprite (so you should have four costumes in total). Each costume must look different from each other.\n\n\nContact us at gamas@ayclogic.com or allison@ayclogic.com if you have any questions or need any help.
URL:https://www.ayclogic.com/event/7-pm-scratch-level-1-allison-20/
CATEGORIES:Scratch Class,Scratch Class Level 1
END:VEVENT
BEGIN:VEVENT
DTSTART;TZID=America/Los_Angeles:20231104T180000
DTEND;TZID=America/Los_Angeles:20231104T190000
DTSTAMP:20260424T023351
CREATED:20231105T020502Z
LAST-MODIFIED:20231112T021034Z
UID:22471-1699120800-1699124400@www.ayclogic.com
SUMMARY:6 PM – Scratch 1 – Yitong
DESCRIPTION:Today we:\n\nFinished the Cat and Home Button sprite.\n\nHomework:\n\nMake the Tunnel and the Banner sprites change color ALL THE TIME.\n\nHint: You need two blocks\, one to make the sprites change color and the other to KEEP changing color.\n\n\nDO NOT do anything else. I will take away 3 points if you do not do the right homework.\n\n+2 points for turning it in first and correctly! \nSubmit your homework here: yitong@ayclogic.com \n\nHomework is due by FRIDAY NIGHT\nDon’t forget to share your project\, otherwise\, I cannot see it.\n\nPoints:\n\nSadev:      II\nPahan:\nRoman:\nBenjamin:\nEmma:\n\nSTUDENTS OF THE MONTH!!!\n(OCTOBER)\n\nRoman\nPahan\nBenjamin\n\nHow to submit homework:\n\nGo to your email and compose a new message.\n\n\n\n\nGo to the coding homework calendar to copy my email address and paste it into the email message.\n\n\n\n\n\nGo to your project and make sure it is SHARED. Copy the link and paste it into the email message.\n\n\n\n\n\n\nThis is what your email message should look like when you’re done.
URL:https://www.ayclogic.com/event/6-pm-scratch-1-yitong-16/
CATEGORIES:Scratch Class,Scratch Class Level 1
END:VEVENT
BEGIN:VEVENT
DTSTART;TZID=America/Los_Angeles:20231104T180000
DTEND;TZID=America/Los_Angeles:20231104T190000
DTSTAMP:20260424T023351
CREATED:20231105T030827Z
LAST-MODIFIED:20231105T030827Z
UID:22475-1699120800-1699124400@www.ayclogic.com
SUMMARY:6 PM – Scratch 1 – Abigail
DESCRIPTION:What we did today\n\nWe started working on the Drawing Shapes project.\nWe also started working on the Animal Crossing project.\n\nHomework\n\nPlot the points of the octagon.\nDraw the octagon on Scratch using the points that you found.\nUse the rectangle and triangle as reference.\n\n\nIf you have any questions\, email me at abigail@ayclogic.com
URL:https://www.ayclogic.com/event/6-pm-scratch-1-abigail-33/
CATEGORIES:Scratch Class,Scratch Class Level 1
END:VEVENT
BEGIN:VEVENT
DTSTART;TZID=America/Los_Angeles:20231108T190000
DTEND;TZID=America/Los_Angeles:20231108T200000
DTSTAMP:20260424T023351
CREATED:20231109T040624Z
LAST-MODIFIED:20231109T040624Z
UID:22522-1699470000-1699473600@www.ayclogic.com
SUMMARY:7 PM – Scratch Level 1 – Allison
DESCRIPTION:Today we:\n\nContinued the Window Cleaner project\nContinued coding the Splat sprite and clones\n\nImportant Reminders:\n\nAfter you finish your homework in Scratch\, send an email to allison@ayclogic.com by Tuesday at 8 PM. In that email\, write down your name and a link to your shared Scratch project homework. Make sure to share your Scratch project.\n\nHomework:\n\nRead and do the codes in the Scratch Book Pg. 138-139\nContact us at gamas@ayclogic.com or allison@ayclogic.com if you have any questions or need any help.
URL:https://www.ayclogic.com/event/7-pm-scratch-level-1-allison-21/
CATEGORIES:Scratch Class,Scratch Class Level 1
END:VEVENT
BEGIN:VEVENT
DTSTART;TZID=America/Los_Angeles:20231111T180000
DTEND;TZID=America/Los_Angeles:20231111T190000
DTSTAMP:20260424T023351
CREATED:20231112T030340Z
LAST-MODIFIED:20231112T030432Z
UID:22571-1699725600-1699729200@www.ayclogic.com
SUMMARY:6 PM – Scratch 1 – Yitong
DESCRIPTION:Today we:\n\nFinished the Cat and Home Button sprite.\n\nHomework:\n\nIn your pink coding book do page 138\, steps #10-12. Do this code inside the Stage.\nDO NOT do anything else. I will take away 3 points if you do not do the right homework.\n\nSubmit your homework here: yitong@ayclogic.com \n\nHomework is due by FRIDAY NIGHT\nDon’t forget to share your project\, otherwise\, I cannot see it.\n\nPoints:\n\nSadev:      II\nPahan:\nRoman:\nBenjamin:\nEmma:\n\nSTUDENTS OF THE MONTH!!!\n(OCTOBER)\n\nRoman\nPahan\nBenjamin\n\nHow to submit homework:\n\nGo to your email and compose a new message.\n\n\n\n\nGo to the coding homework calendar to copy my email address and paste it into the email message.\n\n\n\n\n\nGo to your project and make sure it is SHARED. Copy the link and paste it into the email message.\n\n\n\n\n\n\nThis is what your email message should look like when you’re done.
URL:https://www.ayclogic.com/event/6-pm-scratch-1-yitong-17/
CATEGORIES:Scratch Class,Scratch Class Level 1
END:VEVENT
BEGIN:VEVENT
DTSTART;TZID=America/Los_Angeles:20231115T190000
DTEND;TZID=America/Los_Angeles:20231115T200000
DTSTAMP:20260424T023351
CREATED:20231116T041111Z
LAST-MODIFIED:20231122T002058Z
UID:22637-1700074800-1700078400@www.ayclogic.com
SUMMARY:7 PM – Scratch Level 1 – Allison
DESCRIPTION:Today we:\n\nContinued the Window Cleaner project\nContinued coding with the video motion\nCoded the Splat clones to delete when video motion is detected or when touching the mouse pointer\n\nImportant News:\n\nTo celebrate Thanksgiving\, the school will be closed from Monday 11/20 – Sunday 11/26. There is no class next week. Our next class will be on Wednesday 11/29.\n\nImportant Reminders:\n\nAfter you finish your homework in Scratch\, send an email to allison@ayclogic.com by Tuesday at 8 PM. In that email\, write down your name and a link to your shared Scratch project homework. Make sure to share your Scratch project.\n\nHomework:\n\nCreate a new project and title it “Punch Dummy”\nCreate a new sprite and title it “Face”\nFor the Face sprite\, create two costumes. One costume will look like a happy face. The other costume will look like an unhappy face.\n\nLook at the images below for reference.\nMake sure to draw a side view of the head like the images.\n\n\nContact us at gamas@ayclogic.com or allison@ayclogic.com if you have any questions or need any help.\n\n 
URL:https://www.ayclogic.com/event/7-pm-scratch-level-1-allison-22/
CATEGORIES:Scratch Class,Scratch Class Level 1
END:VEVENT
BEGIN:VEVENT
DTSTART;TZID=America/Los_Angeles:20231118T180000
DTEND;TZID=America/Los_Angeles:20231118T190000
DTSTAMP:20260424T023351
CREATED:20231119T031559Z
LAST-MODIFIED:20231203T020908Z
UID:22693-1700330400-1700334000@www.ayclogic.com
SUMMARY:6 PM – Scratch 1 – Yitong
DESCRIPTION:Today we:\n\nStarted the Window Cleaner project.\n\nHomework:\n\nIn your pink coding book do pages 140-141. You don’t need to do the Difficulty variable or the Try This part.\nCHALLENGE (if you don’t want to do it\, you don’t have to):\n\nMake the Splat clones show up inside this rectangle. +2 points.\n\n\nDO NOT do anything else. I will take away 3 points if you do not do the right homework.\n\nSubmit your homework here: yitong@ayclogic.com \n\nHomework is due by FRIDAY NIGHT\nDon’t forget to share your project\, otherwise\, I cannot see it.\n\nPoints:\n\nSadev:      IIII\nPahan:      III\nRoman:     IIIII\nBenjamin:  I\nEmma:      II\n\nSTUDENTS OF THE MONTH!!!\n(NOVEMBER)\n\nSadev\nRoman\nPahan\n\nHow to submit homework:\n\nGo to your email and compose a new message.\n\n\n\n\nGo to the coding homework calendar to copy my email address and paste it into the email message.\n\n\n\n\n\nGo to your project and make sure it is SHARED. Copy the link and paste it into the email message.\n\n\n\n\n\n\nThis is what your email message should look like when you’re done.
URL:https://www.ayclogic.com/event/6-pm-scratch-1-yitong-18/
CATEGORIES:Scratch Class,Scratch Class Level 1
END:VEVENT
BEGIN:VEVENT
DTSTART;TZID=America/Los_Angeles:20231129T190000
DTEND;TZID=America/Los_Angeles:20231129T200000
DTSTAMP:20260424T023351
CREATED:20231130T040727Z
LAST-MODIFIED:20231130T040727Z
UID:22782-1701284400-1701288000@www.ayclogic.com
SUMMARY:7 PM – Scratch Level 1 – Allison
DESCRIPTION:Today we:\n\nStarted the Punch Dummy project\nCreated the Eye sprite\nCoded the Eye sprite to move back and forth when it touches the mouse pointer\n\nImportant Reminders:\n\nAfter you finish your homework in Scratch\, send an email to allison@ayclogic.com by Tuesday at 8 PM. In that email\, write down your name and a link to your shared Scratch project homework. Make sure to share your Scratch project.\n\nHomework:\n\nCode the Face sprite to go to the back layer\nIf the mouse touches the Face sprite\, code the Face sprite to move back and forth\nUpload the Pow and Boxing Glove sprites (see images below) into the Punch Dummy project\nContact us at gamas@ayclogic.com or allison@ayclogic.com if you have any questions or need any help.
URL:https://www.ayclogic.com/event/7-pm-scratch-level-1-allison-23/
CATEGORIES:Scratch Class,Scratch Class Level 1
END:VEVENT
END:VCALENDAR