BEGIN:VCALENDAR
VERSION:2.0
PRODID:-//American Young Coder - ECPv6.10.1.1//NONSGML v1.0//EN
CALSCALE:GREGORIAN
METHOD:PUBLISH
X-WR-CALNAME:American Young Coder
X-ORIGINAL-URL:https://www.ayclogic.com
X-WR-CALDESC:Events for American Young Coder
REFRESH-INTERVAL;VALUE=DURATION:PT1H
X-Robots-Tag:noindex
X-PUBLISHED-TTL:PT1H
BEGIN:VTIMEZONE
TZID:America/Los_Angeles
BEGIN:DAYLIGHT
TZOFFSETFROM:-0800
TZOFFSETTO:-0700
TZNAME:PDT
DTSTART:20230312T100000
END:DAYLIGHT
BEGIN:STANDARD
TZOFFSETFROM:-0700
TZOFFSETTO:-0800
TZNAME:PST
DTSTART:20231105T090000
END:STANDARD
END:VTIMEZONE
BEGIN:VEVENT
DTSTART;TZID=America/Los_Angeles:20231202T180000
DTEND;TZID=America/Los_Angeles:20231202T190000
DTSTAMP:20260424T012403
CREATED:20231203T030535Z
LAST-MODIFIED:20231210T030119Z
UID:22831-1701540000-1701543600@www.ayclogic.com
SUMMARY:6 PM – Scratch 1 – Yitong
DESCRIPTION:Today we:\n\nContinued the Window Cleaner project.\n\nHomework:\n\nDo page 137\, step #8 in your pink coding book.\n\nYou do not need to get another “when I start as a clone” block\, just add the code from the book under the “when I start as a clone” block we already have. Email me if you’re still confused.\n\n\n\nSubmit your homework here: yitong@ayclogic.com \n\nHomework is due by FRIDAY NIGHT\nDon’t forget to share your project\, otherwise\, I cannot see it.\n\nPoints:\n\nSadev:      IIII\nPahan:      III\nRoman:     IIIII\nBenjamin:  I\nEmma:      II\n\nSTUDENTS OF THE MONTH!!!\n(NOVEMBER)\n\nSadev\nRoman\nPahan\n\nHow to submit homework:\n\nGo to your email and compose a new message.\n\n\n\n\nGo to the coding homework calendar to copy my email address and paste it into the email message.\n\n\n\n\n\nGo to your project and make sure it is SHARED. Copy the link and paste it into the email message.\n\n\n\n\n\n\nThis is what your email message should look like when you’re done.
URL:https://www.ayclogic.com/event/6-pm-scratch-1-yitong-19/
CATEGORIES:Scratch Class,Scratch Class Level 1
END:VEVENT
BEGIN:VEVENT
DTSTART;TZID=America/Los_Angeles:20231202T180000
DTEND;TZID=America/Los_Angeles:20231202T190000
DTSTAMP:20260424T012403
CREATED:20231203T030557Z
LAST-MODIFIED:20231203T030557Z
UID:22832-1701540000-1701543600@www.ayclogic.com
SUMMARY:6 PM – Scratch 1 – Abigail
DESCRIPTION:Today We Did\n\nWe finished working on the Birthday Card project.\nWe started working on the Spiralizer project.\n\nHomework\n\nDo pages 97-98 on your pink Scratch book.\n\nIf you have any question\, email me at abigail@ayclogic.com
URL:https://www.ayclogic.com/event/6-pm-scratch-1-abigail-35/
CATEGORIES:Scratch Class,Scratch Class Level 1
END:VEVENT
BEGIN:VEVENT
DTSTART;TZID=America/Los_Angeles:20231206T190000
DTEND;TZID=America/Los_Angeles:20231206T200000
DTSTAMP:20260424T012403
CREATED:20231207T040809Z
LAST-MODIFIED:20231207T040809Z
UID:22904-1701889200-1701892800@www.ayclogic.com
SUMMARY:7 PM – Scratch Level 1 – Allison
DESCRIPTION:Today we:\n\nContinued the Punch Dummy project\nCoded the Pow and Boxing Glove sprite\n\nImportant Reminders:\n\nAfter you finish your homework in Scratch\, send an email to allison@ayclogic.com by Tuesday at 8 PM. In that email\, write down your name and a link to your shared Scratch project homework. Make sure to share your Scratch project.\n\nHomework:\n\nWhen the game starts\, turn video on.\nWhen the player presses the space key\, turn video off.\nCode the Face sprite to move back and forth if the Face sprite is touched by the mouse pointer or video motion.\nCode the Eye sprite to move back and forth if the Eye sprite is touched by the mouse pointer or video motion.\nIf the Face sprite is touched by the mouse pointer or video motion\, start the sound “Big Boing”\nContact us at gamas@ayclogic.com or allison@ayclogic.com if you have any questions or need any help.
URL:https://www.ayclogic.com/event/7-pm-scratch-level-1-allison-24/
CATEGORIES:Scratch Class,Scratch Class Level 1
END:VEVENT
BEGIN:VEVENT
DTSTART;TZID=America/Los_Angeles:20231209T180000
DTEND;TZID=America/Los_Angeles:20231209T190000
DTSTAMP:20260424T012403
CREATED:20231210T030220Z
LAST-MODIFIED:20231210T030220Z
UID:22951-1702144800-1702148400@www.ayclogic.com
SUMMARY:6 PM - Scratch 1 - Yitong Liu
DESCRIPTION:Today we:\n\nContinued the Window Cleaner project.\n\nHomework:\n\nDo page 137\, step #8 in your pink coding book.\n\nYou do not need to get another “when I start as a clone” block\, just add the code from the book under the “when I start as a clone” block we already have. Email me if you’re still confused.\n\n\n\nSubmit your homework here: yitong@ayclogic.com \n\nHomework is due by FRIDAY NIGHT\nDon’t forget to share your project\, otherwise\, I cannot see it.\n\nPoints:\n\nSadev:      IIII\nPahan:      III\nRoman:     IIIII\nBenjamin:  I\nEmma:      II\n\nSTUDENTS OF THE MONTH!!!\n(NOVEMBER)\n\nSadev\nRoman\nPahan\n\nHow to submit homework:\n\nGo to your email and compose a new message.\n\n\n\n\nGo to the coding homework calendar to copy my email address and paste it into the email message.\n\n\n\n\n\nGo to your project and make sure it is SHARED. Copy the link and paste it into the email message.\n\n\n\n\n\n\nThis is what your email message should look like when you’re done.
URL:https://www.ayclogic.com/event/6-pm-scratch-1-yitong-liu-2/
CATEGORIES:Scratch Class,Scratch Class Level 1
END:VEVENT
BEGIN:VEVENT
DTSTART;TZID=America/Los_Angeles:20231209T180000
DTEND;TZID=America/Los_Angeles:20231209T190000
DTSTAMP:20260424T012403
CREATED:20231210T030837Z
LAST-MODIFIED:20231210T030837Z
UID:22953-1702144800-1702148400@www.ayclogic.com
SUMMARY:6 PM – Scratch 1 – Abigail
DESCRIPTION:Today We Did\n\nWe finished working on the Spiralizer project.\nWe started working on the Tunnel of Doom project.\n\nHomework\n\nDo pages 129-130 on your pink Scratch book.\n\nIf you have any question\, email me at abigail@ayclogic.com
URL:https://www.ayclogic.com/event/6-pm-scratch-1-abigail-36/
CATEGORIES:Scratch Class,Scratch Class Level 1
END:VEVENT
BEGIN:VEVENT
DTSTART;TZID=America/Los_Angeles:20231216T180000
DTEND;TZID=America/Los_Angeles:20231216T190000
DTSTAMP:20260424T012403
CREATED:20231217T030642Z
LAST-MODIFIED:20231217T031345Z
UID:23085-1702749600-1702753200@www.ayclogic.com
SUMMARY:6 PM – Scratch 1 – Abigail
DESCRIPTION:Today We Did\n\nContinued working on the Tunnel of Doom project.\nCoded the Banner sprite\nCoded the Best Time and Best Player\n\nHomework\n\nCreate two new costumes for your Tunnel sprite (so you should have three costumes in total). Each costume must look different from each other.\n\nMake sure that the “start” and “end” spots for each Tunnel costumes are the same.\n\n\nRandomize the Tunnel costumes when the game starts\nIf you haven’t already\, code the game to forever play the sound “Cave” when the game starts\n\nIf you have any question\, email me at abigail@ayclogic.com
URL:https://www.ayclogic.com/event/6-pm-scratch-1-abigail-37/
CATEGORIES:Scratch Class,Scratch Class Level 1
END:VEVENT
BEGIN:VEVENT
DTSTART;TZID=America/Los_Angeles:20231216T180000
DTEND;TZID=America/Los_Angeles:20231216T190000
DTSTAMP:20260424T012403
CREATED:20231217T030706Z
LAST-MODIFIED:20231217T030706Z
UID:23086-1702749600-1702753200@www.ayclogic.com
SUMMARY:6 PM – Scratch 1 – Yitong Liu
DESCRIPTION:Today we:\n\nFinished the Window Cleaner project.\nStarted the Birthday Card project.\n\nHomework:\n\nWhen the Button is clicked\, make the Cake sprite show up.\nMake a new sprite (click on paint when choosing a sprite) and name it Birthday Banner. Then make the banner using the rectangle tool and the text tool.\n\nSubmit your homework here: yitong@ayclogic.com \n\nHomework is due by FRIDAY NIGHT\nDon’t forget to share your project\, otherwise\, I cannot see it.\n\nPoints:\n\nSadev:      IIII\nPahan:      III\nRoman:     IIIII\nBenjamin:  I\nEmma:      II\n\nSTUDENTS OF THE MONTH!!!\n(NOVEMBER)\n\nSadev\nRoman\nPahan\n\nHow to submit homework:\n\nGo to your email and compose a new message.\n\n\n\n\nGo to the coding homework calendar to copy my email address and paste it into the email message.\n\n\n\n\n\nGo to your project and make sure it is SHARED. Copy the link and paste it into the email message.\n\n\n\n\n\n\nThis is what your email message should look like when you’re done.
URL:https://www.ayclogic.com/event/6-pm-scratch-1-yitong-liu-3/
CATEGORIES:Scratch Class,Scratch Class Level 1
END:VEVENT
BEGIN:VEVENT
DTSTART;TZID=America/Los_Angeles:20231223T180000
DTEND;TZID=America/Los_Angeles:20231223T190000
DTSTAMP:20260424T012403
CREATED:20231224T025949Z
LAST-MODIFIED:20231224T030143Z
UID:23216-1703354400-1703358000@www.ayclogic.com
SUMMARY:6 PM – Scratch 1 – Yitong Liu
DESCRIPTION:Today we:\n\nFinished the Window Cleaner project.\nStarted the Birthday Card project.\n\nHomework:\n\nAdd and color your second Shark sprite.\nIn your pink coding book\, do page 90\, step #18.\n\nSubmit your homework here: yitong@ayclogic.com \n\nHomework is due by FRIDAY NIGHT.\nDon’t forget to share your project\, otherwise\, I cannot see it.\n\nNO CLASS NEXT WEEK! We will be back on January 6th\, 2024. \nPoints:\n\nSadev:      IIII\nPahan:      III\nRoman:     IIIII\nBenjamin:  I\nEmma:      II\n\nSTUDENTS OF THE MONTH!!!\n(NOVEMBER)\n\nSadev\nRoman\nPahan\n\nHow to submit homework:\n\nGo to your email and compose a new message.\n\n\n\n\nGo to the coding homework calendar to copy my email address and paste it into the email message.\n\n\n\n\n\nGo to your project and make sure it is SHARED. Copy the link and paste it into the email message.\n\n\n\n\n\n\nThis is what your email message should look like when you’re done.
URL:https://www.ayclogic.com/event/6-pm-scratch-1-yitong-liu-4/
CATEGORIES:Scratch Class,Scratch Class Level 1
END:VEVENT
BEGIN:VEVENT
DTSTART;TZID=America/Los_Angeles:20231223T180000
DTEND;TZID=America/Los_Angeles:20231223T190000
DTSTAMP:20260424T012403
CREATED:20231224T031513Z
LAST-MODIFIED:20231224T031513Z
UID:23222-1703354400-1703358000@www.ayclogic.com
SUMMARY:6 PM - Scratch 1 - Abigail
DESCRIPTION:What we did today\n\nWe finished working on the Tunnel of Doom project.\nWe started working on the Window Cleaner project.\n\nHomework\n\nMake a minimum of 3 different costumes for the splat sprite.\nMake sure they each look different. (different color\, shape\, size\, etc.)\n\nIf you have any questions\, email me at abigail@ayclogic.com
URL:https://www.ayclogic.com/event/6-pm-scratch-1-abigail-38/
CATEGORIES:Scratch Class,Scratch Class Level 1
END:VEVENT
END:VCALENDAR