BEGIN:VCALENDAR
VERSION:2.0
PRODID:-//American Young Coder - ECPv6.10.1.1//NONSGML v1.0//EN
CALSCALE:GREGORIAN
METHOD:PUBLISH
X-WR-CALNAME:American Young Coder
X-ORIGINAL-URL:https://www.ayclogic.com
X-WR-CALDESC:Events for American Young Coder
REFRESH-INTERVAL;VALUE=DURATION:PT1H
X-Robots-Tag:noindex
X-PUBLISHED-TTL:PT1H
BEGIN:VTIMEZONE
TZID:America/Los_Angeles
BEGIN:DAYLIGHT
TZOFFSETFROM:-0800
TZOFFSETTO:-0700
TZNAME:PDT
DTSTART:20240310T100000
END:DAYLIGHT
BEGIN:STANDARD
TZOFFSETFROM:-0700
TZOFFSETTO:-0800
TZNAME:PST
DTSTART:20241103T090000
END:STANDARD
END:VTIMEZONE
BEGIN:VEVENT
DTSTART;TZID=America/Los_Angeles:20240106T180000
DTEND;TZID=America/Los_Angeles:20240106T190000
DTSTAMP:20260422T005741
CREATED:20240107T030518Z
LAST-MODIFIED:20240107T030518Z
UID:23308-1704564000-1704567600@www.ayclogic.com
SUMMARY:6 PM - Scratch 1 - Abigail
DESCRIPTION:What we did today\n\nWe finished working on the Window Cleaner project.\nWe started working on the Custom Birthday Card.\n\nHomework\n\nReplace all the sprites with images uploaded on your computer. (ex: yourself\, your mom\, dad\, siblings\, pets\, friends\, etc.)\n\nIf you have any questions\, email me at abigail@ayclogic.com
URL:https://www.ayclogic.com/event/6-pm-scratch-1-abigail-39/
CATEGORIES:Scratch Class,Scratch Class Level 1
END:VEVENT
BEGIN:VEVENT
DTSTART;TZID=America/Los_Angeles:20240106T180000
DTEND;TZID=America/Los_Angeles:20240106T190000
DTSTAMP:20260422T005741
CREATED:20240107T031106Z
LAST-MODIFIED:20240114T024745Z
UID:23307-1704564000-1704567600@www.ayclogic.com
SUMMARY:6 PM – Scratch 1 – Yitong Liu
DESCRIPTION:Today we:\n\nFinished the Birthday Card project.\nStarted the Custom Birthday Card project.\n\nHomework:\n\nSave 2 different pictures of yourself and 1 picture of your mom or dad.\n\nMake sure you know where to find those pictures on your computer!\nAsk your parents or email me if you need help.\nYou don’t need to send an email to me.\n\n\n\nSubmit your homework here: yitong@ayclogic.com \n\nHomework is due by FRIDAY NIGHT.\nDon’t forget to share your project\, otherwise\, I cannot see it.\n\nNO CLASS NEXT WEEK! We will be back on January 6th\, 2024. \nPoints:\n\nSadev:      IIIII\nPahan:      III\nRoman:     IIIII\nBenjamin:  I\nEmma:      II\n\nSTUDENTS OF THE MONTH!!!\n(NOVEMBER)\n\nSadev\nRoman\nPahan\n\nHow to submit homework:\n\nGo to your email and compose a new message.\n\n\n\n\nGo to the coding homework calendar to copy my email address and paste it into the email message.\n\n\n\n\n\nGo to your project and make sure it is SHARED. Copy the link and paste it into the email message.\n\n\n\n\n\n\nThis is what your email message should look like when you’re done.
URL:https://www.ayclogic.com/event/6-pm-scratch-1-yitong-liu-5/
CATEGORIES:Scratch Class,Scratch Class Level 1
END:VEVENT
BEGIN:VEVENT
DTSTART;TZID=America/Los_Angeles:20240109T180000
DTEND;TZID=America/Los_Angeles:20240109T190000
DTSTAMP:20260422T005741
CREATED:20240110T041051Z
LAST-MODIFIED:20240110T041051Z
UID:23365-1704823200-1704826800@www.ayclogic.com
SUMMARY:6 PM – Scratch 1 – Yitong
DESCRIPTION:Today we:\n\nStarted the Punch the Dummy project.\n\nHomework:\n\nMake 2 costumes for your Dummy Head sprite\, one should be happy and the other one should be sad or angry.\n\nSend me your project here: yitong@ayclogic.com \n\nHomework is due MONDAY NIGHT. You can submit it earlier\, I will check it as soon as I can.\nMake sure to SHARE your project. Otherwise\, I cannot see it.\n\nHow to submit homework:\n\nGo to your email and compose a new message.\n\n\n\n\nGo to the coding homework calendar to copy my email address and paste it into the email message.\n\n\n\n\n\nGo to your project and make sure it is SHARED. Copy the link and paste it into the email message.\n\n\n\n\n\n\nThis is what your email message should look like when you’re done.
URL:https://www.ayclogic.com/event/7pm-scratch-2-yitong/
CATEGORIES:Scratch Class,Scratch Class Level 1
END:VEVENT
BEGIN:VEVENT
DTSTART;TZID=America/Los_Angeles:20240113T180000
DTEND;TZID=America/Los_Angeles:20240113T190000
DTSTAMP:20260422T005741
CREATED:20240114T031220Z
LAST-MODIFIED:20240114T031220Z
UID:23448-1705168800-1705172400@www.ayclogic.com
SUMMARY:6 PM – Scratch 1 – Yitong Liu
DESCRIPTION:Today we:\n\nContinued the Custom Birthday Card project.\n\nHomework:\n\nChange where the Banner and Cake sprites start and end.\n\nThe arrows show how the sprites are supposed to move.\n\n\n\n \nSubmit your homework here: yitong@ayclogic.com \n\nHomework is due by FRIDAY NIGHT.\nDon’t forget to share your project\, otherwise\, I cannot see it.\n\nNO CLASS NEXT WEEK! We will be back on January 6th\, 2024. \nPoints:\n\nSadev:      IIIII\nPahan:      III\nRoman:     IIIII\nBenjamin:  I\nEmma:      II\n\nSTUDENTS OF THE MONTH!!!\n(NOVEMBER)\n\nSadev\nRoman\nPahan\n\nHow to submit homework:\n\nGo to your email and compose a new message.\n\n\n\n\nGo to the coding homework calendar to copy my email address and paste it into the email message.\n\n\n\n\n\nGo to your project and make sure it is SHARED. Copy the link and paste it into the email message.\n\n\n\n\n\n\nThis is what your email message should look like when you’re done.
URL:https://www.ayclogic.com/event/6-pm-scratch-1-yitong-liu-6/
CATEGORIES:Scratch Class,Scratch Class Level 1
END:VEVENT
BEGIN:VEVENT
DTSTART;TZID=America/Los_Angeles:20240113T180000
DTEND;TZID=America/Los_Angeles:20240113T190000
DTSTAMP:20260422T005741
CREATED:20240114T034001Z
LAST-MODIFIED:20240114T034001Z
UID:23453-1705168800-1705172400@www.ayclogic.com
SUMMARY:6 PM - Scratch 1 - Abigail
DESCRIPTION:What we did today\n\nWe finished working on the Custom Birthday Card\nWe started working on the Punch the Dummy project.\n\nHomework\n\nDuplicate the head sprite and change the mouth to a sad/angry expression.\nImport the “POW” sprite from “project resources” from our website.\n\nIf you have any questions\, email me at abigail@ayclogic.com
URL:https://www.ayclogic.com/event/6-pm-scratch-1-abigail-40/
CATEGORIES:Scratch Class,Scratch Class Level 1
END:VEVENT
BEGIN:VEVENT
DTSTART;TZID=America/Los_Angeles:20240116T180000
DTEND;TZID=America/Los_Angeles:20240116T190000
DTSTAMP:20260422T005741
CREATED:20240117T025742Z
LAST-MODIFIED:20240117T025742Z
UID:23476-1705428000-1705431600@www.ayclogic.com
SUMMARY:6 PM – Scratch 1 – Yitong
DESCRIPTION:Today we:\n\nContinued the Punch the Dummy project.\n\nHomework:\n\nWhen the game starts\, the Dummy sprite starts with the Happy costume.\nWhen the Dummy sprite gets hit\, it switches to the Angry costume.\nWhen the Dummy sprite STOPS getting hit\, it switches to the Happy costume.\nWhen the Pow sprite shows up\, make it wait 1 second\, and then disappear.\n\nSend me your project here: yitong@ayclogic.com \n\nHomework is due MONDAY NIGHT. You can submit it earlier\, I will check it as soon as I can.\nMake sure to SHARE your project. Otherwise\, I cannot see it.\n\nHow to submit homework:\n\nGo to your email and compose a new message.\n\n\n\n\nGo to the coding homework calendar to copy my email address and paste it into the email message.\n\n\n\n\n\nGo to your project and make sure it is SHARED. Copy the link and paste it into the email message.\n\n\n\n\n\n\nThis is what your email message should look like when you’re done.
URL:https://www.ayclogic.com/event/6-pm-scratch-1-yitong-20/
CATEGORIES:Scratch Class,Scratch Class Level 1
END:VEVENT
BEGIN:VEVENT
DTSTART;TZID=America/Los_Angeles:20240120T180000
DTEND;TZID=America/Los_Angeles:20240120T190000
DTSTAMP:20260422T005741
CREATED:20240121T032058Z
LAST-MODIFIED:20240121T032058Z
UID:23555-1705773600-1705777200@www.ayclogic.com
SUMMARY:6 PM – Scratch 1 – Yitong Liu
DESCRIPTION:Today we:\n\nFinished the Custom Birthday Card project.\nStarted the Punch the Dummy project.\n\nHomework:\n\nMake 2 costumes for the Head sprite. One should be happy\, the other should be sad or angry.\n\nSubmit your homework here: yitong@ayclogic.com \n\nHomework is due by FRIDAY NIGHT.\nDon’t forget to share your project\, otherwise\, I cannot see it.\n\nNO CLASS NEXT WEEK! We will be back on January 6th\, 2024. \nPoints:\n\nSadev:      IIIII\nPahan:      III\nRoman:     IIIII\nBenjamin:  I\nEmma:      II\n\nSTUDENTS OF THE MONTH!!!\n(NOVEMBER)\n\nSadev\nRoman\nPahan\n\nHow to submit homework:\n\nGo to your email and compose a new message.\n\n\n\n\nGo to the coding homework calendar to copy my email address and paste it into the email message.\n\n\n\n\n\nGo to your project and make sure it is SHARED. Copy the link and paste it into the email message.\n\n\n\n\n\n\nThis is what your email message should look like when you’re done.
URL:https://www.ayclogic.com/event/6-pm-scratch-1-yitong-liu-7/
CATEGORIES:Scratch Class,Scratch Class Level 1
END:VEVENT
BEGIN:VEVENT
DTSTART;TZID=America/Los_Angeles:20240123T180000
DTEND;TZID=America/Los_Angeles:20240123T190000
DTSTAMP:20260422T005741
CREATED:20240124T040701Z
LAST-MODIFIED:20240124T040824Z
UID:23600-1706032800-1706036400@www.ayclogic.com
SUMMARY:6 PM – Scratch 1 – Yitong
DESCRIPTION:Today we:\n\nContinued the Punch the Dummy project.\n\nHomework:\n\nMake the Pow sprite show up inside this red box.\n\n\n\n\n\nFor Emma\, the link to the project: https://scratch.mit.edu/projects/948666184/editor/ \nSend me your project here: yitong@ayclogic.com \n\nHomework is due MONDAY NIGHT. You can submit it earlier\, I will check it as soon as I can.\nMake sure to SHARE your project. Otherwise\, I cannot see it.\n\nHow to submit homework:\n\nGo to your email and compose a new message.\n\n\n\n\nGo to the coding homework calendar to copy my email address and paste it into the email message.\n\n\n\n\n\nGo to your project and make sure it is SHARED. Copy the link and paste it into the email message.\n\n\n\n\n\n\nThis is what your email message should look like when you’re done.
URL:https://www.ayclogic.com/event/6-pm-scratch-1-yitong-21/
CATEGORIES:Scratch Class,Scratch Class Level 1
END:VEVENT
BEGIN:VEVENT
DTSTART;TZID=America/Los_Angeles:20240127T180000
DTEND;TZID=America/Los_Angeles:20240127T190000
DTSTAMP:20260422T005741
CREATED:20240128T031713Z
LAST-MODIFIED:20240128T031745Z
UID:23659-1706378400-1706382000@www.ayclogic.com
SUMMARY:6 PM – Scratch 1 – Yitong Liu
DESCRIPTION:Today we:\n\nContinued the Punch the Dummy project.\n\nHomework:\n\nWhen the Head sprite receives the “Bounce” message\, switch the costume to Angry.\nUnder the “go to” block\, switch the costume back to Happy.\n\nSubmit your homework here: yitong@ayclogic.com \n\nHomework is due by FRIDAY NIGHT.\nDon’t forget to share your project\, otherwise\, I cannot see it.\n\nPoints:\n\nSadev:      IIIII\nPahan:      IIIII IIII\nRoman:     IIIII IIII\nBenjamin:  II\nEmma:      II\n\nSTUDENTS OF THE MONTH!!!\n(NOVEMBER)\n\nSadev\nRoman\nPahan\n\nHow to submit homework:\n\nGo to your email and compose a new message.\n\n\n\n\nGo to the coding homework calendar to copy my email address and paste it into the email message.\n\n\n\n\n\nGo to your project and make sure it is SHARED. Copy the link and paste it into the email message.\n\n\n\n\n\n\nThis is what your email message should look like when you’re done.
URL:https://www.ayclogic.com/event/6-pm-scratch-1-yitong-liu-8/
CATEGORIES:Scratch Class,Scratch Class Level 1
END:VEVENT
BEGIN:VEVENT
DTSTART;TZID=America/Los_Angeles:20240127T180000
DTEND;TZID=America/Los_Angeles:20240127T190000
DTSTAMP:20260422T005741
CREATED:20240128T032511Z
LAST-MODIFIED:20240128T032511Z
UID:23663-1706378400-1706382000@www.ayclogic.com
SUMMARY:6 PM – Scratch 1 – Abigail
DESCRIPTION:What we did today\n\nWe continued working on the MHALL project.\n\nHomework\n\nMake the Happy Birthday Song in Scratch.\nThe sheet music also should be in “project resources”\nAdd a broadcast every 2 measures. (So that each line will have 5-6 notes)\nEnd at the second ending\, not the first. Do not repeat the song. (Your ending note should be F)\nRemember to do appropriate waits (0.5\, 1\, and 2 seconds according to the note length)\n\n \nIf you have any questions\, email me at abigail@ayclogic.com
URL:https://www.ayclogic.com/event/6-pm-scratch-1-abigail-42/
CATEGORIES:Scratch Class,Scratch Class Level 1
END:VEVENT
BEGIN:VEVENT
DTSTART;TZID=America/Los_Angeles:20240130T180000
DTEND;TZID=America/Los_Angeles:20240130T190000
DTSTAMP:20260422T005741
CREATED:20240131T040224Z
LAST-MODIFIED:20240131T040224Z
UID:23692-1706637600-1706641200@www.ayclogic.com
SUMMARY:6 PM – Scratch 1 – Yitong
DESCRIPTION:Today we:\n\nFinished the Punch the Dummy project.\nStarted the Mary Had A Little Lamb project.\n\nHomework:\n\nDuplicate the Do sprite and rename it Mi.\n\nMake a new message called Mi and broadcast it.\nMake sure the “when I receive” blocks receive the Mi message.\nChange the number in the play note to 64.\n\n\nDuplicate the Do sprite and rename it Fa.\n\nMake a new message called Fa and broadcast it.\nMake sure the “when I receive” blocks receive the Fa message.\nChange the number in the play note to 65.\n\n\nDuplicate the Do sprite and rename it Sol.\n\nMake a new message called Sol and broadcast it.\nMake sure the “when I receive” blocks receive the Sol message.\nChange the number in the play note to 67.\n\n\n\nSend me your project here: yitong@ayclogic.com \n\nHomework is due MONDAY NIGHT. You can submit it earlier\, I will check it as soon as I can.\nMake sure to SHARE your project. Otherwise\, I cannot see it.\n\nHow to submit homework:\n\nGo to your email and compose a new message.\n\n\n\n\nGo to the coding homework calendar to copy my email address and paste it into the email message.\n\n\n\n\n\nGo to your project and make sure it is SHARED. Copy the link and paste it into the email message.\n\n\n\n\n\n\nThis is what your email message should look like when you’re done.
URL:https://www.ayclogic.com/event/6-pm-scratch-1-yitong-22/
CATEGORIES:Scratch Class,Scratch Class Level 1
END:VEVENT
END:VCALENDAR