BEGIN:VCALENDAR
VERSION:2.0
PRODID:-//American Young Coder - ECPv6.10.1.1//NONSGML v1.0//EN
CALSCALE:GREGORIAN
METHOD:PUBLISH
X-ORIGINAL-URL:https://www.ayclogic.com
X-WR-CALDESC:Events for American Young Coder
REFRESH-INTERVAL;VALUE=DURATION:PT1H
X-Robots-Tag:noindex
X-PUBLISHED-TTL:PT1H
BEGIN:VTIMEZONE
TZID:America/Los_Angeles
BEGIN:DAYLIGHT
TZOFFSETFROM:-0800
TZOFFSETTO:-0700
TZNAME:PDT
DTSTART:20250309T100000
END:DAYLIGHT
BEGIN:STANDARD
TZOFFSETFROM:-0700
TZOFFSETTO:-0800
TZNAME:PST
DTSTART:20251102T090000
END:STANDARD
END:VTIMEZONE
BEGIN:VEVENT
DTSTART;TZID=America/Los_Angeles:20250122T170000
DTEND;TZID=America/Los_Angeles:20250122T180000
DTSTAMP:20260415T204752
CREATED:20250123T023308Z
LAST-MODIFIED:20250123T023308Z
UID:27954-1737565200-1737568800@www.ayclogic.com
SUMMARY:5 PM – Scratch 1 – Abigail
DESCRIPTION:Today We\n\nWe started working on the Window Cleaner project.\n\nHomework\n\nCreate 3 more costumes for your Splat sprite.\nThey should be all unique by having a different colors and shapes.\n\nIf you have any questions\, email me at abigail@ayclogic.com
URL:https://www.ayclogic.com/event/5-pm-scratch-1-abigail-17/
CATEGORIES:Scratch Class,Scratch Class Level 1
END:VEVENT
BEGIN:VEVENT
DTSTART;TZID=America/Los_Angeles:20250129T170000
DTEND;TZID=America/Los_Angeles:20250129T180000
DTSTAMP:20260415T204752
CREATED:20250130T020007Z
LAST-MODIFIED:20250130T020331Z
UID:28009-1738170000-1738173600@www.ayclogic.com
SUMMARY:5 PM – Scratch 1 – Abigail (Yitong SUB)
DESCRIPTION:Today We\n\nWe continued working on the Window Cleaner project: https://scratch.mit.edu/projects/1126846136/\n\nHomework\n\nDo page 138\, steps #10-12 in your pink coding book.\n\nIf you have any questions\, email me at abigail@ayclogic.com
URL:https://www.ayclogic.com/event/5-pm-scratch-1-abigail-yitong-sub/
CATEGORIES:Scratch Class,Scratch Class Level 1
END:VEVENT
END:VCALENDAR