BEGIN:VCALENDAR
VERSION:2.0
PRODID:-//American Young Coder - ECPv6.10.1.1//NONSGML v1.0//EN
CALSCALE:GREGORIAN
METHOD:PUBLISH
X-WR-CALNAME:American Young Coder
X-ORIGINAL-URL:https://www.ayclogic.com
X-WR-CALDESC:Events for American Young Coder
REFRESH-INTERVAL;VALUE=DURATION:PT1H
X-Robots-Tag:noindex
X-PUBLISHED-TTL:PT1H
BEGIN:VTIMEZONE
TZID:America/Los_Angeles
BEGIN:DAYLIGHT
TZOFFSETFROM:-0800
TZOFFSETTO:-0700
TZNAME:PDT
DTSTART:20250309T100000
END:DAYLIGHT
BEGIN:STANDARD
TZOFFSETFROM:-0700
TZOFFSETTO:-0800
TZNAME:PST
DTSTART:20251102T090000
END:STANDARD
END:VTIMEZONE
BEGIN:VEVENT
DTSTART;TZID=America/Los_Angeles:20250205T170000
DTEND;TZID=America/Los_Angeles:20250205T180000
DTSTAMP:20260421T042411
CREATED:20250206T052841Z
LAST-MODIFIED:20250206T052841Z
UID:28069-1738774800-1738778400@www.ayclogic.com
SUMMARY:5 PM – Scratch 1 – Abigail
DESCRIPTION:Today We\n\nWe finished working on the Window Cleaner project.\nWe started working on the Punch the Dummy project.\n\nHomework\n\nDuplicate a new COSTUME for your head sprite\, and change the face to an ANGRY/SAD face. (change the smile and eyebrows)\nUpload the boxing glove sprite from our website to Scratch.\nClick here to find the boxing glove image file\n\nIf you have any questions\, email me at abigail@ayclogic.com
URL:https://www.ayclogic.com/event/5-pm-scratch-1-abigail-18/
CATEGORIES:Scratch Class,Scratch Class Level 1
END:VEVENT
BEGIN:VEVENT
DTSTART;TZID=America/Los_Angeles:20250219T080000
DTEND;TZID=America/Los_Angeles:20250219T170000
DTSTAMP:20260421T042411
CREATED:20250220T030741Z
LAST-MODIFIED:20250220T030741Z
UID:28188-1739952000-1739984400@www.ayclogic.com
SUMMARY:5 PM – Scratch 1 – Abigail
DESCRIPTION:Today We\n\nStarted and finished working on the Spiralizer project.\n\nHomework\n\nChange the background of the Spiralizer project.\nSet default values for the angle\, speed\, and pen size variables.\ndefault values:\n\nAngle – 10\nSpeed – 3\nPensize – 20\n\n\n\nIf you have any questions\, email me at abigail@ayclogic.com
URL:https://www.ayclogic.com/event/5-pm-scratch-1-abigail-19/
CATEGORIES:Scratch Class,Scratch Class Level 1
END:VEVENT
BEGIN:VEVENT
DTSTART;TZID=America/Los_Angeles:20250226T170000
DTEND;TZID=America/Los_Angeles:20250226T180000
DTSTAMP:20260421T042411
CREATED:20250227T020335Z
LAST-MODIFIED:20250227T020335Z
UID:28253-1740589200-1740592800@www.ayclogic.com
SUMMARY:5 PM – Scratch 1 – Abigail (Yitong Sub)
DESCRIPTION:Today We\n\nStarted the Virtual Snow project.\n\nHomework\n\nAdd the Snowman sprite to the project. You can find it in Scratch. You don’t need to do any code for it.\n\nIf you have any questions\, email me at yitong@ayclogic.com
URL:https://www.ayclogic.com/event/5-pm-scratch-1-abigail-yitong-sub-2/
CATEGORIES:Scratch Class,Scratch Class Level 1
END:VEVENT
END:VCALENDAR