BEGIN:VCALENDAR
VERSION:2.0
PRODID:-//American Young Coder - ECPv6.10.1.1//NONSGML v1.0//EN
CALSCALE:GREGORIAN
METHOD:PUBLISH
X-WR-CALNAME:American Young Coder
X-ORIGINAL-URL:https://www.ayclogic.com
X-WR-CALDESC:Events for American Young Coder
REFRESH-INTERVAL;VALUE=DURATION:PT1H
X-Robots-Tag:noindex
X-PUBLISHED-TTL:PT1H
BEGIN:VTIMEZONE
TZID:America/Los_Angeles
BEGIN:DAYLIGHT
TZOFFSETFROM:-0800
TZOFFSETTO:-0700
TZNAME:PDT
DTSTART:20230312T100000
END:DAYLIGHT
BEGIN:STANDARD
TZOFFSETFROM:-0700
TZOFFSETTO:-0800
TZNAME:PST
DTSTART:20231105T090000
END:STANDARD
END:VTIMEZONE
BEGIN:VEVENT
DTSTART;TZID=America/Los_Angeles:20230211T093000
DTEND;TZID=America/Los_Angeles:20230211T103000
DTSTAMP:20260425T054616
CREATED:20230214T032921Z
LAST-MODIFIED:20230214T032921Z
UID:18003-1676107800-1676111400@www.ayclogic.com
SUMMARY:9:30 AM – Scratch 1 – Yitong
DESCRIPTION:Today we:\n\nAdded sound to Gobo.\nFinished the Ask Gobo project.\nStarted the Funny Faces project.\nMade the Face sprite.\nMade the Eyes sprite.\nMade the Nose sprite.\nLearned about the “go to” block\n\nHomework:\n\nMake 3 different accessories. You must have 3 different sprites.\n\nYou can give your character things like:\n\nHats\nHair\nFacial hair\nBow ties\n\n\n\n\nDrag each sprite to the spot you want them to be and add a “go to” block.\n\nSubmit your homework to this email: yitong@ayclogic.com
URL:https://www.ayclogic.com/event/930-am-scratch-1-yitong-3/
CATEGORIES:Scratch Class,Scratch Class Level 1
END:VEVENT
BEGIN:VEVENT
DTSTART;TZID=America/Los_Angeles:20230211T103000
DTEND;TZID=America/Los_Angeles:20230211T113000
DTSTAMP:20260425T054616
CREATED:20230214T033531Z
LAST-MODIFIED:20230214T033531Z
UID:18006-1676111400-1676115000@www.ayclogic.com
SUMMARY:10:30 AM – Scratch 1 – Yitong
DESCRIPTION:Today we:\n\nStarted the Custom Birthday Card project.\nAdded our mom’s pictures and our own pictures into the sprites.\nAdded the Arrow sprites.\nMade the Shark1\, Shark2\, Birthday Banner\, and Cake sprites glide to and from different areas.\nFinished the Custom Birthday Card project.\nStarted the Punch The Dummy project.\nMade an Eyeball sprite.\nMade a Head sprite.\n\nHomework:\n\nDecorate your Head sprite\n\nYou can give your character things like:\n\nHats\nHair\nFacial hair\n\n\n\n\n\nEmail me if you need help: yitong@ayclogic.com
URL:https://www.ayclogic.com/event/1030-am-scratch-1-yitong-12/
CATEGORIES:Scratch Class,Scratch Class Level 1
END:VEVENT
END:VCALENDAR