BEGIN:VCALENDAR
VERSION:2.0
PRODID:-//American Young Coder - ECPv6.10.1.1//NONSGML v1.0//EN
CALSCALE:GREGORIAN
METHOD:PUBLISH
X-ORIGINAL-URL:https://www.ayclogic.com
X-WR-CALDESC:Events for American Young Coder
REFRESH-INTERVAL;VALUE=DURATION:PT1H
X-Robots-Tag:noindex
X-PUBLISHED-TTL:PT1H
BEGIN:VTIMEZONE
TZID:America/Los_Angeles
BEGIN:DAYLIGHT
TZOFFSETFROM:-0800
TZOFFSETTO:-0700
TZNAME:PDT
DTSTART:20230312T100000
END:DAYLIGHT
BEGIN:STANDARD
TZOFFSETFROM:-0700
TZOFFSETTO:-0800
TZNAME:PST
DTSTART:20231105T090000
END:STANDARD
END:VTIMEZONE
BEGIN:VEVENT
DTSTART;TZID=America/Los_Angeles:20230531T190000
DTEND;TZID=America/Los_Angeles:20230531T200000
DTSTAMP:20260424T142606
CREATED:20230601T033812Z
LAST-MODIFIED:20230601T033812Z
UID:20051-1685559600-1685563200@www.ayclogic.com
SUMMARY:7 PM – Scratch Level 1 – Allison
DESCRIPTION:Today we:\n\nStarted the Dino Dance project\nLearned about sprites and costumes\nCoded three dinosaur sprites to switch costumes\n\nHomework:\n\nRead and do the codes in the Scratch Book Pg. 41-42. Do the codes in the same project we did in class.\nIf you do not have the book\, please use this link to view the pages: Scratch Book Pg. 41-42\nAsk your family if you can buy the Scratch Level 1 Book for the class. A picture of the book is below. You can buy the book online.\n\nIf possible\, please try to get the book by next week\nPlease let us know if you are unable to get the book\n\n\nContact us at gamas@ayclogic.com or allison@ayclogic.com if you have any questions or need any help.
URL:https://www.ayclogic.com/event/7-pm-scratch-level-1-allison/
CATEGORIES:Scratch Class,Scratch Class Level 1
END:VEVENT
END:VCALENDAR