BEGIN:VCALENDAR
VERSION:2.0
PRODID:-//American Young Coder - ECPv6.10.1.1//NONSGML v1.0//EN
CALSCALE:GREGORIAN
METHOD:PUBLISH
X-ORIGINAL-URL:https://www.ayclogic.com
X-WR-CALDESC:Events for American Young Coder
REFRESH-INTERVAL;VALUE=DURATION:PT1H
X-Robots-Tag:noindex
X-PUBLISHED-TTL:PT1H
BEGIN:VTIMEZONE
TZID:America/Los_Angeles
BEGIN:DAYLIGHT
TZOFFSETFROM:-0800
TZOFFSETTO:-0700
TZNAME:PDT
DTSTART:20230312T100000
END:DAYLIGHT
BEGIN:STANDARD
TZOFFSETFROM:-0700
TZOFFSETTO:-0800
TZNAME:PST
DTSTART:20231105T090000
END:STANDARD
END:VTIMEZONE
BEGIN:VEVENT
DTSTART;TZID=America/Los_Angeles:20230826T180000
DTEND;TZID=America/Los_Angeles:20230826T190000
DTSTAMP:20260424T095331
CREATED:20230827T022328Z
LAST-MODIFIED:20230902T065027Z
UID:21320-1693072800-1693076400@www.ayclogic.com
SUMMARY:6 PM – Scratch 1 – Yitong
DESCRIPTION:Today we:\n\nLearned how to make some sprites show up on top of other sprites.\nReviewed animation and made costumes for the Nose sprite.\nMade the Mouth sprite.\n\nHomework:\n\nAdd a BLANK sprite by hovering over the add sprite button. Go up and click the paintbrush.\n\n\n\n\nDraw at least 2 SPRITES using the paintbrush tool. Use the eraser tool to erase.\n\n\n\n\nWhen you are done you should have at least 7 SPRITES.\n\nSubmit your homework here: yitong@ayclogic.com \n\nHomework is due by FRIDAY NIGHT\nDon’t forget to share your project\, otherwise\, I cannot see it.\n\nNO CLASS ON 9/2!!! CLASS WILL RESUME THE WEEK AFTER THAT
URL:https://www.ayclogic.com/event/6-pm-scratch-1-yitong-7/
CATEGORIES:Scratch Class,Scratch Class Level 1
END:VEVENT
END:VCALENDAR