BEGIN:VCALENDAR
VERSION:2.0
PRODID:-//American Young Coder - ECPv6.10.1.1//NONSGML v1.0//EN
CALSCALE:GREGORIAN
METHOD:PUBLISH
X-WR-CALNAME:American Young Coder
X-ORIGINAL-URL:https://www.ayclogic.com
X-WR-CALDESC:Events for American Young Coder
REFRESH-INTERVAL;VALUE=DURATION:PT1H
X-Robots-Tag:noindex
X-PUBLISHED-TTL:PT1H
BEGIN:VTIMEZONE
TZID:America/Los_Angeles
BEGIN:DAYLIGHT
TZOFFSETFROM:-0800
TZOFFSETTO:-0700
TZNAME:PDT
DTSTART:20230312T100000
END:DAYLIGHT
BEGIN:STANDARD
TZOFFSETFROM:-0700
TZOFFSETTO:-0800
TZNAME:PST
DTSTART:20231105T090000
END:STANDARD
END:VTIMEZONE
BEGIN:VEVENT
DTSTART;TZID=America/Los_Angeles:20230923T180000
DTEND;TZID=America/Los_Angeles:20230923T190000
DTSTAMP:20260424T083050
CREATED:20230924T022649Z
LAST-MODIFIED:20230924T022649Z
UID:21748-1695492000-1695495600@www.ayclogic.com
SUMMARY:6 PM – Scratch 1 – Yitong
DESCRIPTION:Today we:\n\nFinished the Draw Shapes project.\nStarted the Animal Crossing project.\n\nHomework:\n\nAdd another Mouse1 sprite. Make it a different color.\nAdd the Bat sprite.\n\n\n\n\nSubmit your homework here: yitong@ayclogic.com \n\nHomework is due by FRIDAY NIGHT\nDon’t forget to share your project\, otherwise\, I cannot see it.
URL:https://www.ayclogic.com/event/6-pm-scratch-1-yitong-10/
CATEGORIES:Scratch Class,Scratch Class Level 1
END:VEVENT
BEGIN:VEVENT
DTSTART;TZID=America/Los_Angeles:20230923T180000
DTEND;TZID=America/Los_Angeles:20230923T190000
DTSTAMP:20260424T083050
CREATED:20230924T030927Z
LAST-MODIFIED:20230924T031233Z
UID:21759-1695492000-1695495600@www.ayclogic.com
SUMMARY:6 PM - Scratch 1 - Abigail
DESCRIPTION:What we did today\n\nWe started working on the Animal Race project.\n\nHomework\n\nDuplicate the Dog movement code onto the Bat code. (On page 56 on your Pink Scratch book)\nReplace key M for key Z.\n\nIf you have any questions\, email me at abigail@ayclogic.com
URL:https://www.ayclogic.com/event/6-pm-scratch-1-abigail-27/
CATEGORIES:Scratch Class,Scratch Class Level 1
END:VEVENT
END:VCALENDAR