BEGIN:VCALENDAR
VERSION:2.0
PRODID:-//American Young Coder - ECPv6.10.1.1//NONSGML v1.0//EN
CALSCALE:GREGORIAN
METHOD:PUBLISH
X-ORIGINAL-URL:https://www.ayclogic.com
X-WR-CALDESC:Events for American Young Coder
REFRESH-INTERVAL;VALUE=DURATION:PT1H
X-Robots-Tag:noindex
X-PUBLISHED-TTL:PT1H
BEGIN:VTIMEZONE
TZID:America/Los_Angeles
BEGIN:DAYLIGHT
TZOFFSETFROM:-0800
TZOFFSETTO:-0700
TZNAME:PDT
DTSTART:20230312T100000
END:DAYLIGHT
BEGIN:STANDARD
TZOFFSETFROM:-0700
TZOFFSETTO:-0800
TZNAME:PST
DTSTART:20231105T090000
END:STANDARD
END:VTIMEZONE
BEGIN:VEVENT
DTSTART;TZID=America/Los_Angeles:20231028T180000
DTEND;TZID=America/Los_Angeles:20231028T190000
DTSTAMP:20260424T053210
CREATED:20231029T014659Z
LAST-MODIFIED:20231202T082615Z
UID:22379-1698516000-1698519600@www.ayclogic.com
SUMMARY:6 PM – Scratch 1 – Yitong
DESCRIPTION:Today we:\n\nFinished the Spiralizer project.\nStarted the Tunnel of Doom project.\n\nHomework:\n\nInside the pink coding book\, do page 127\, #10-11. DO NOT do anything else. I will take away 3 points if you do not do the right homework.\n\nSubmit your homework here: yitong@ayclogic.com \n\nHomework is due by FRIDAY NIGHT\nDon’t forget to share your project\, otherwise\, I cannot see it.\n\nPoints:\n\nSadev:       IIIII\nPahan:       IIIII IIII\nRoman:      IIIII III\nBenjamin:   IIIII I\nEmma:       III\n\nSTUDENTS OF THE MONTH!!!\n\nRoman\nPahan\nBenjamin\n\nHow to submit homework:\n\nGo to your email and compose a new message.\n\n\n\n\nGo to the coding homework calendar to copy my email address and paste it into the email message.\n\n\n\n\n\nGo to your project and make sure it is SHARED. Copy the link and paste it into the email message.\n\n\n\n\n\n\nThis is what your email message should look like when you’re done.
URL:https://www.ayclogic.com/event/6-pm-scratch-1-yitong-15/
CATEGORIES:Scratch Class,Scratch Class Level 1
END:VEVENT
BEGIN:VEVENT
DTSTART;TZID=America/Los_Angeles:20231028T180000
DTEND;TZID=America/Los_Angeles:20231028T190000
DTSTAMP:20260424T053210
CREATED:20231029T031216Z
LAST-MODIFIED:20231029T031216Z
UID:22384-1698516000-1698519600@www.ayclogic.com
SUMMARY:6 PM – Scratch 1 – Abigail
DESCRIPTION:What we did today\n\nWe started learning about x and y coordinates.\n\nHomework\n\nPlot the points of the rectangle and the triangle.\nRectangle (4 points)\, triangle (3 points). You should have a total of 7 points.\n(Optional) Plot the points of the octagon (8 points).\n\n \n\nIf you have any questions\, email me at abigail@ayclogic.com
URL:https://www.ayclogic.com/event/6-pm-scratch-1-abigail-32/
CATEGORIES:Scratch Class,Scratch Class Level 1
END:VEVENT
END:VCALENDAR