BEGIN:VCALENDAR
VERSION:2.0
PRODID:-//American Young Coder - ECPv6.10.1.1//NONSGML v1.0//EN
CALSCALE:GREGORIAN
METHOD:PUBLISH
X-ORIGINAL-URL:https://www.ayclogic.com
X-WR-CALDESC:Events for American Young Coder
REFRESH-INTERVAL;VALUE=DURATION:PT1H
X-Robots-Tag:noindex
X-PUBLISHED-TTL:PT1H
BEGIN:VTIMEZONE
TZID:America/Los_Angeles
BEGIN:DAYLIGHT
TZOFFSETFROM:-0800
TZOFFSETTO:-0700
TZNAME:PDT
DTSTART:20230312T100000
END:DAYLIGHT
BEGIN:STANDARD
TZOFFSETFROM:-0700
TZOFFSETTO:-0800
TZNAME:PST
DTSTART:20231105T090000
END:STANDARD
END:VTIMEZONE
BEGIN:VEVENT
DTSTART;TZID=America/Los_Angeles:20231209T180000
DTEND;TZID=America/Los_Angeles:20231209T190000
DTSTAMP:20260424T023439
CREATED:20231210T030220Z
LAST-MODIFIED:20231210T030220Z
UID:22951-1702144800-1702148400@www.ayclogic.com
SUMMARY:6 PM - Scratch 1 - Yitong Liu
DESCRIPTION:Today we:\n\nContinued the Window Cleaner project.\n\nHomework:\n\nDo page 137\, step #8 in your pink coding book.\n\nYou do not need to get another “when I start as a clone” block\, just add the code from the book under the “when I start as a clone” block we already have. Email me if you’re still confused.\n\n\n\nSubmit your homework here: yitong@ayclogic.com \n\nHomework is due by FRIDAY NIGHT\nDon’t forget to share your project\, otherwise\, I cannot see it.\n\nPoints:\n\nSadev:      IIII\nPahan:      III\nRoman:     IIIII\nBenjamin:  I\nEmma:      II\n\nSTUDENTS OF THE MONTH!!!\n(NOVEMBER)\n\nSadev\nRoman\nPahan\n\nHow to submit homework:\n\nGo to your email and compose a new message.\n\n\n\n\nGo to the coding homework calendar to copy my email address and paste it into the email message.\n\n\n\n\n\nGo to your project and make sure it is SHARED. Copy the link and paste it into the email message.\n\n\n\n\n\n\nThis is what your email message should look like when you’re done.
URL:https://www.ayclogic.com/event/6-pm-scratch-1-yitong-liu-2/
CATEGORIES:Scratch Class,Scratch Class Level 1
END:VEVENT
BEGIN:VEVENT
DTSTART;TZID=America/Los_Angeles:20231209T180000
DTEND;TZID=America/Los_Angeles:20231209T190000
DTSTAMP:20260424T023439
CREATED:20231210T030837Z
LAST-MODIFIED:20231210T030837Z
UID:22953-1702144800-1702148400@www.ayclogic.com
SUMMARY:6 PM – Scratch 1 – Abigail
DESCRIPTION:Today We Did\n\nWe finished working on the Spiralizer project.\nWe started working on the Tunnel of Doom project.\n\nHomework\n\nDo pages 129-130 on your pink Scratch book.\n\nIf you have any question\, email me at abigail@ayclogic.com
URL:https://www.ayclogic.com/event/6-pm-scratch-1-abigail-36/
CATEGORIES:Scratch Class,Scratch Class Level 1
END:VEVENT
END:VCALENDAR