BEGIN:VCALENDAR
VERSION:2.0
PRODID:-//American Young Coder - ECPv6.10.1.1//NONSGML v1.0//EN
CALSCALE:GREGORIAN
METHOD:PUBLISH
X-ORIGINAL-URL:https://www.ayclogic.com
X-WR-CALDESC:Events for American Young Coder
REFRESH-INTERVAL;VALUE=DURATION:PT1H
X-Robots-Tag:noindex
X-PUBLISHED-TTL:PT1H
BEGIN:VTIMEZONE
TZID:America/Los_Angeles
BEGIN:DAYLIGHT
TZOFFSETFROM:-0800
TZOFFSETTO:-0700
TZNAME:PDT
DTSTART:20240310T100000
END:DAYLIGHT
BEGIN:STANDARD
TZOFFSETFROM:-0700
TZOFFSETTO:-0800
TZNAME:PST
DTSTART:20241103T090000
END:STANDARD
END:VTIMEZONE
BEGIN:VEVENT
DTSTART;TZID=America/Los_Angeles:20240210T180000
DTEND;TZID=America/Los_Angeles:20240210T190000
DTSTAMP:20260422T010457
CREATED:20240211T030316Z
LAST-MODIFIED:20240211T030430Z
UID:23844-1707588000-1707591600@www.ayclogic.com
SUMMARY:6 PM – Scratch 1 – Yitong Liu
DESCRIPTION:Today we:\n\nFinished the Punch the Dummy project.\nStarted the Mary Had A Little Lamb project.\n\nHomework:\n\nMake sure to change these 4 things I circled in Mi\, Fa\, and Sol. They should broadcast their own names.\nFor Mi\, play note 64.\nFor Fa\, play note 65.\nFor Sol\, play note 67.\n\n\n\n\n\nSubmit your homework here: yitong@ayclogic.com \n\nHomework is due by FRIDAY NIGHT.\nDon’t forget to share your project\, otherwise\, I cannot see it.\n\nPoints:\n\nSadev:      IIIII\nPahan:      IIIII IIII\nRoman:     IIIII IIII\nBenjamin:  II\nEmma:      II\n\nSTUDENTS OF THE MONTH!!!\n(NOVEMBER)\n\nSadev\nRoman\nPahan\n\nHow to submit homework:\n\nGo to your email and compose a new message.\n\n\n\n\nGo to the coding homework calendar to copy my email address and paste it into the email message.\n\n\n\n\n\nGo to your project and make sure it is SHARED. Copy the link and paste it into the email message.\n\n\n\n\n\n\nThis is what your email message should look like when you’re done.
URL:https://www.ayclogic.com/event/6-pm-scratch-1-yitong-liu-10/
CATEGORIES:Scratch Class,Scratch Class Level 1
END:VEVENT
BEGIN:VEVENT
DTSTART;TZID=America/Los_Angeles:20240210T180000
DTEND;TZID=America/Los_Angeles:20240210T190000
DTSTAMP:20260422T010457
CREATED:20240211T094958Z
LAST-MODIFIED:20240211T095450Z
UID:23850-1707588000-1707591600@www.ayclogic.com
SUMMARY:6 PM – Scratch 1 – Abigail
DESCRIPTION:What we did today\n\nWe finished working on the Virtual Snow project.\nWe went over how the Scratch 1 Final exam will be like.\n\nHomework\n\nWork on the Scratch 1 Practice Test.\nSubmit the test by next Friday night.\nRemember to share your project!\n\nIf you have any questions\, email me at abigail@ayclogic.com
URL:https://www.ayclogic.com/event/6-pm-scratch-1-abigail-44/
CATEGORIES:Scratch Class,Scratch Class Level 1
END:VEVENT
END:VCALENDAR