BEGIN:VCALENDAR
VERSION:2.0
PRODID:-//American Young Coder - ECPv6.10.1.1//NONSGML v1.0//EN
CALSCALE:GREGORIAN
METHOD:PUBLISH
X-WR-CALNAME:American Young Coder
X-ORIGINAL-URL:https://www.ayclogic.com
X-WR-CALDESC:Events for American Young Coder
REFRESH-INTERVAL;VALUE=DURATION:PT1H
X-Robots-Tag:noindex
X-PUBLISHED-TTL:PT1H
BEGIN:VTIMEZONE
TZID:America/Los_Angeles
BEGIN:DAYLIGHT
TZOFFSETFROM:-0800
TZOFFSETTO:-0700
TZNAME:PDT
DTSTART:20240310T100000
END:DAYLIGHT
BEGIN:STANDARD
TZOFFSETFROM:-0700
TZOFFSETTO:-0800
TZNAME:PST
DTSTART:20241103T090000
END:STANDARD
END:VTIMEZONE
BEGIN:VEVENT
DTSTART;TZID=America/Los_Angeles:20240212T190000
DTEND;TZID=America/Los_Angeles:20240212T200000
DTSTAMP:20260422T010045
CREATED:20240213T034733Z
LAST-MODIFIED:20240213T040541Z
UID:23867-1707764400-1707768000@www.ayclogic.com
SUMMARY:7 PM – Scratch 1 – Allison
DESCRIPTION:Today we:\n\nWe started the Dino Dance project: https://scratch.mit.edu/projects/965305067/editor/\n\nHomework:\n\nIn your pink coding book do page 39\, steps #12-13.\n\n\n\n\nContact us at gamas@ayclogic.com or allison@ayclogic.com if you have any questions or need any help.
URL:https://www.ayclogic.com/event/7-pm-scratch-1-allison-4/
CATEGORIES:Scratch Class,Scratch Class Level 1
END:VEVENT
END:VCALENDAR