BEGIN:VCALENDAR
VERSION:2.0
PRODID:-//American Young Coder - ECPv6.10.1.1//NONSGML v1.0//EN
CALSCALE:GREGORIAN
METHOD:PUBLISH
X-ORIGINAL-URL:https://www.ayclogic.com
X-WR-CALDESC:Events for American Young Coder
REFRESH-INTERVAL;VALUE=DURATION:PT1H
X-Robots-Tag:noindex
X-PUBLISHED-TTL:PT1H
BEGIN:VTIMEZONE
TZID:America/Los_Angeles
BEGIN:DAYLIGHT
TZOFFSETFROM:-0800
TZOFFSETTO:-0700
TZNAME:PDT
DTSTART:20240310T100000
END:DAYLIGHT
BEGIN:STANDARD
TZOFFSETFROM:-0700
TZOFFSETTO:-0800
TZNAME:PST
DTSTART:20241103T090000
END:STANDARD
END:VTIMEZONE
BEGIN:VEVENT
DTSTART;TZID=America/Los_Angeles:20240311T190000
DTEND;TZID=America/Los_Angeles:20240311T200000
DTSTAMP:20260421T233007
CREATED:20240312T062522Z
LAST-MODIFIED:20240312T062522Z
UID:24304-1710183600-1710187200@www.ayclogic.com
SUMMARY:7 PM – Scratch Level 1 – Allison
DESCRIPTION:Today we:\n\nContinued the Ask Gobo project\nCoded Gobo to have different responses depending on which number is picked\n\nHomework:\n\nRecord your voice saying Gobo’s different replies and code Gobo to play that audio.\n\nExample:\n\nIf ReplyNumber = 3\, then Gobo says “Maybe…”\nRecord yourself saying “Maybe…” and code Gobo to play that sound if ReplyNumber = 3\n\n\nDo this for all 6 of Gobo’s replies. See the example we did in class for ReplyNumber = 1 for help.\n\n\nContact us at gamas@ayclogic.com or allison@ayclogic.com if you have any questions or need any help.
URL:https://www.ayclogic.com/event/7-pm-scratch-level-1-allison-28/
CATEGORIES:Scratch Class,Scratch Class Level 1
END:VEVENT
END:VCALENDAR