BEGIN:VCALENDAR
VERSION:2.0
PRODID:-//American Young Coder - ECPv6.10.1.1//NONSGML v1.0//EN
CALSCALE:GREGORIAN
METHOD:PUBLISH
X-WR-CALNAME:American Young Coder
X-ORIGINAL-URL:https://www.ayclogic.com
X-WR-CALDESC:Events for American Young Coder
REFRESH-INTERVAL;VALUE=DURATION:PT1H
X-Robots-Tag:noindex
X-PUBLISHED-TTL:PT1H
BEGIN:VTIMEZONE
TZID:America/Los_Angeles
BEGIN:DAYLIGHT
TZOFFSETFROM:-0800
TZOFFSETTO:-0700
TZNAME:PDT
DTSTART:20240310T100000
END:DAYLIGHT
BEGIN:STANDARD
TZOFFSETFROM:-0700
TZOFFSETTO:-0800
TZNAME:PST
DTSTART:20241103T090000
END:STANDARD
END:VTIMEZONE
BEGIN:VEVENT
DTSTART;TZID=America/Los_Angeles:20240319T180000
DTEND;TZID=America/Los_Angeles:20240319T190000
DTSTAMP:20260421T232607
CREATED:20240320T021350Z
LAST-MODIFIED:20240322T233359Z
UID:24461-1710871200-1710874800@www.ayclogic.com
SUMMARY:6 PM – Scratch 1 – Yitong
DESCRIPTION:Today we:\n\nTook the Final Test.\n\nHomework:\n\nNothing! I will grade your tests soon. If you pass (70% or higher) then no class next week. If you do not pass\, you will have to come to class.\n\nAll tests are graded. Everyone passed! \nNO CLASS NEXT WEEK! \nSend me your project here: yitong@ayclogic.com \n\nHomework is due MONDAY NIGHT. You can submit it earlier\, I will check it as soon as I can.\nMake sure to SHARE your project. Otherwise\, I cannot see it.\n\nHow to submit homework:\n\nGo to your email and compose a new message.\n\n\n\n\nGo to the coding homework calendar to copy my email address and paste it into the email message.\n\n\n\n\n\nGo to your project and make sure it is SHARED. Copy the link and paste it into the email message.\n\n\n\n\n\n\nThis is what your email message should look like when you’re done.
URL:https://www.ayclogic.com/event/6-pm-scratch-1-yitong-29/
CATEGORIES:Scratch Class,Scratch Class Level 1
END:VEVENT
END:VCALENDAR