BEGIN:VCALENDAR
VERSION:2.0
PRODID:-//American Young Coder - ECPv6.10.1.1//NONSGML v1.0//EN
CALSCALE:GREGORIAN
METHOD:PUBLISH
X-ORIGINAL-URL:https://www.ayclogic.com
X-WR-CALDESC:Events for American Young Coder
REFRESH-INTERVAL;VALUE=DURATION:PT1H
X-Robots-Tag:noindex
X-PUBLISHED-TTL:PT1H
BEGIN:VTIMEZONE
TZID:America/Los_Angeles
BEGIN:DAYLIGHT
TZOFFSETFROM:-0800
TZOFFSETTO:-0700
TZNAME:PDT
DTSTART:20240310T100000
END:DAYLIGHT
BEGIN:STANDARD
TZOFFSETFROM:-0700
TZOFFSETTO:-0800
TZNAME:PST
DTSTART:20241103T090000
END:STANDARD
END:VTIMEZONE
BEGIN:VEVENT
DTSTART;TZID=America/Los_Angeles:20240520T190000
DTEND;TZID=America/Los_Angeles:20240520T200000
DTSTAMP:20260415T224502
CREATED:20240521T030644Z
LAST-MODIFIED:20240521T030644Z
UID:25179-1716231600-1716235200@www.ayclogic.com
SUMMARY:7 PM – Scratch 1 – Abigail
DESCRIPTION:What we did today\n\nWe continued and finished working on the MHALL project.\n\nHomework\n\nFinish making the last two lines of the Happy Birthday song.\n\n\nIf you have any questions\, email me at abigail@ayclogic.com
URL:https://www.ayclogic.com/event/7-pm-scratch-1-abigail-8/
CATEGORIES:Scratch Class,Scratch Class Level 1
END:VEVENT
END:VCALENDAR