BEGIN:VCALENDAR
VERSION:2.0
PRODID:-//American Young Coder - ECPv6.10.1.1//NONSGML v1.0//EN
CALSCALE:GREGORIAN
METHOD:PUBLISH
X-WR-CALNAME:American Young Coder
X-ORIGINAL-URL:https://www.ayclogic.com
X-WR-CALDESC:Events for American Young Coder
REFRESH-INTERVAL;VALUE=DURATION:PT1H
X-Robots-Tag:noindex
X-PUBLISHED-TTL:PT1H
BEGIN:VTIMEZONE
TZID:America/Los_Angeles
BEGIN:DAYLIGHT
TZOFFSETFROM:-0800
TZOFFSETTO:-0700
TZNAME:PDT
DTSTART:20250309T100000
END:DAYLIGHT
BEGIN:STANDARD
TZOFFSETFROM:-0700
TZOFFSETTO:-0800
TZNAME:PST
DTSTART:20251102T090000
END:STANDARD
END:VTIMEZONE
BEGIN:VEVENT
DTSTART;TZID=America/Los_Angeles:20250312T170000
DTEND;TZID=America/Los_Angeles:20250312T180000
DTSTAMP:20260421T042718
CREATED:20250313T032909Z
LAST-MODIFIED:20250313T032921Z
UID:28384-1741798800-1741802400@www.ayclogic.com
SUMMARY:5 PM – Scratch 1 – Abigail (Yitong Sub)
DESCRIPTION:Today We\n\nWent over the practice test.\n\nHomework\n\nStudy these projects for the Scratch Level 1 Final Test next week.\n\nhttps://scratch.mit.edu/projects/1146346208/\nhttps://scratch.mit.edu/projects/1146353774/\n\n\n\nIf you have any questions\, email me at yitong@ayclogic.com
URL:https://www.ayclogic.com/event/5-pm-scratch-1-abigail-yitong-sub-4/
CATEGORIES:Scratch Class,Scratch Class Level 1
END:VEVENT
END:VCALENDAR