BEGIN:VCALENDAR
VERSION:2.0
PRODID:-//American Young Coder - ECPv6.10.1.1//NONSGML v1.0//EN
CALSCALE:GREGORIAN
METHOD:PUBLISH
X-ORIGINAL-URL:https://www.ayclogic.com
X-WR-CALDESC:Events for American Young Coder
REFRESH-INTERVAL;VALUE=DURATION:PT1H
X-Robots-Tag:noindex
X-PUBLISHED-TTL:PT1H
BEGIN:VTIMEZONE
TZID:America/Los_Angeles
BEGIN:DAYLIGHT
TZOFFSETFROM:-0800
TZOFFSETTO:-0700
TZNAME:PDT
DTSTART:20250309T100000
END:DAYLIGHT
BEGIN:STANDARD
TZOFFSETFROM:-0700
TZOFFSETTO:-0800
TZNAME:PST
DTSTART:20251102T090000
END:STANDARD
END:VTIMEZONE
BEGIN:VEVENT
DTSTART;TZID=America/Los_Angeles:20251202T173000
DTEND;TZID=America/Los_Angeles:20251202T183000
DTSTAMP:20260420T080946
CREATED:20251203T023843Z
LAST-MODIFIED:20251203T023843Z
UID:31788-1764696600-1764700200@www.ayclogic.com
SUMMARY:Scratch 1 – Tue 5:30 PM – Julian (Abigail Sub)
DESCRIPTION:What We Did:\n\nWe started working on the Punch the Dummy project.\n\nHomework:\n\nFix the issue where the every time you punch the dummy\, the sprite would keep moving backwards and backwards.\nMake it so the dummy goes back to it’s original spot after the “back and forth” sequence. (Use X and Y coords!)\n\nIf you have any questions feel free to email me at jsaroufim@ayclogic.com or abigail@ayclogic.com
URL:https://www.ayclogic.com/event/scratch-1-tue-530-pm-julian-abigail-sub/
CATEGORIES:Scratch Class,Scratch Class Level 1
END:VEVENT
END:VCALENDAR