BEGIN:VCALENDAR
VERSION:2.0
PRODID:-//American Young Coder - ECPv6.10.1.1//NONSGML v1.0//EN
CALSCALE:GREGORIAN
METHOD:PUBLISH
X-WR-CALNAME:American Young Coder
X-ORIGINAL-URL:https://www.ayclogic.com
X-WR-CALDESC:Events for American Young Coder
REFRESH-INTERVAL;VALUE=DURATION:PT1H
X-Robots-Tag:noindex
X-PUBLISHED-TTL:PT1H
BEGIN:VTIMEZONE
TZID:America/Los_Angeles
BEGIN:DAYLIGHT
TZOFFSETFROM:-0800
TZOFFSETTO:-0700
TZNAME:PDT
DTSTART:20230312T100000
END:DAYLIGHT
BEGIN:STANDARD
TZOFFSETFROM:-0700
TZOFFSETTO:-0800
TZNAME:PST
DTSTART:20231105T090000
END:STANDARD
END:VTIMEZONE
BEGIN:VEVENT
DTSTART;TZID=America/Los_Angeles:20230830T190000
DTEND;TZID=America/Los_Angeles:20230830T200000
DTSTAMP:20260422T000606
CREATED:20230831T041931Z
LAST-MODIFIED:20230831T041931Z
UID:21403-1693422000-1693425600@www.ayclogic.com
SUMMARY:7 PM – Scratch Level 1 – Allison
DESCRIPTION:Today we:\n\nStarted the Drawing Shapes on Grid project\nCoded the Cat sprite to draw the square and start drawing the triangle\nLearned about the codes “pen up” and “pen down”\n\nImportant Reminders:\n\nAfter you finish your homework in Scratch\, send an email to allison@ayclogic.com by Tuesday at 8 PM. In that email\, write down your name and a link to your shared Scratch project homework. Make sure to share your Scratch project.\n\nHomework:\n\nCode the Cat sprite to finish drawing the triangle\, rectangle and octagon\n\nNote: use your coordinate plane paper for help\n\n\nContact us at gamas@ayclogic.com or allison@ayclogic.com if you have any questions or need any help.
URL:https://www.ayclogic.com/event/7-pm-scratch-level-1-allison-10/
CATEGORIES:Scratch Class,Scratch Class Level 1
END:VEVENT
BEGIN:VEVENT
DTSTART;TZID=America/Los_Angeles:20230829T180000
DTEND;TZID=America/Los_Angeles:20230829T190000
DTSTAMP:20260422T000606
CREATED:20230830T022019Z
LAST-MODIFIED:20230830T022019Z
UID:21378-1693332000-1693335600@www.ayclogic.com
SUMMARY:6 PM – Scratch 1 – Abigail
DESCRIPTION:What we did today\n\nWe continued working on the Virtual Snow project.\n\nHomework\n\nFinish the Scratch 1 Practice Test before next week.\n\nIf you have any questions\, email me at abigail@ayclogic.com
URL:https://www.ayclogic.com/event/6-pm-scratch-1-abigail-23/
CATEGORIES:Scratch Class,Scratch Class Level 1
END:VEVENT
BEGIN:VEVENT
DTSTART;TZID=America/Los_Angeles:20230826T180000
DTEND;TZID=America/Los_Angeles:20230826T190000
DTSTAMP:20260422T000606
CREATED:20230827T022328Z
LAST-MODIFIED:20230902T065027Z
UID:21320-1693072800-1693076400@www.ayclogic.com
SUMMARY:6 PM – Scratch 1 – Yitong
DESCRIPTION:Today we:\n\nLearned how to make some sprites show up on top of other sprites.\nReviewed animation and made costumes for the Nose sprite.\nMade the Mouth sprite.\n\nHomework:\n\nAdd a BLANK sprite by hovering over the add sprite button. Go up and click the paintbrush.\n\n\n\n\nDraw at least 2 SPRITES using the paintbrush tool. Use the eraser tool to erase.\n\n\n\n\nWhen you are done you should have at least 7 SPRITES.\n\nSubmit your homework here: yitong@ayclogic.com \n\nHomework is due by FRIDAY NIGHT\nDon’t forget to share your project\, otherwise\, I cannot see it.\n\nNO CLASS ON 9/2!!! CLASS WILL RESUME THE WEEK AFTER THAT
URL:https://www.ayclogic.com/event/6-pm-scratch-1-yitong-7/
CATEGORIES:Scratch Class,Scratch Class Level 1
END:VEVENT
BEGIN:VEVENT
DTSTART;TZID=America/Los_Angeles:20230824T183000
DTEND;TZID=America/Los_Angeles:20230824T193000
DTSTAMP:20260422T000606
CREATED:20230825T031410Z
LAST-MODIFIED:20230826T000213Z
UID:21280-1692901800-1692905400@www.ayclogic.com
SUMMARY:6:30 PM – Scratch Level 1 – Yitong
DESCRIPTION:Today we:\n\nTook the Scratch Level 1 Final Test.\n\nHomework:\n\nNo homework! Check your emails to see if your test has been graded yet.\n\nEmail me if you need help: yitong@ayclogic.com
URL:https://www.ayclogic.com/event/630-pm-scratch-level-1-yitong-5/
CATEGORIES:Scratch Class,Scratch Class Level 1
END:VEVENT
BEGIN:VEVENT
DTSTART;TZID=America/Los_Angeles:20230824T160000
DTEND;TZID=America/Los_Angeles:20230824T170000
DTSTAMP:20260422T000606
CREATED:20230825T002209Z
LAST-MODIFIED:20230825T002209Z
UID:21278-1692892800-1692896400@www.ayclogic.com
SUMMARY:4 PM – Scratch 1 – Abigail
DESCRIPTION:What we did today\n\nWe went over and reviewed the Scratch 1 Practice Test.\n\nHomework\n\nNO TEST NEXT WEEK!!! (The test will be in 2 weeks)\n(Jacob & Ethan) Confirm your emails with your scratch account and finish & submit your practice test. Share your projects!!\n(Justin) Review your other projects and study for the test.\n\nIf you have any questions\, email me at abigail@ayclogic.com
URL:https://www.ayclogic.com/event/4-pm-scratch-1-abigail-26/
CATEGORIES:Scratch Class,Scratch Class Level 1
END:VEVENT
BEGIN:VEVENT
DTSTART;TZID=America/Los_Angeles:20230823T190000
DTEND;TZID=America/Los_Angeles:20230823T190000
DTSTAMP:20260422T000606
CREATED:20230824T061246Z
LAST-MODIFIED:20230824T061246Z
UID:21270-1692817200-1692817200@www.ayclogic.com
SUMMARY:7 PM – Scratch Level 1 – Allison
DESCRIPTION:Today we:\n\nReviewed and continued learning about coordinates\n\nImportant Reminders:\n\nAfter you finish your homework in Scratch\, send an email to allison@ayclogic.com by Tuesday at 8 PM. In that email\, write down your name and a link to your shared Scratch project homework. Make sure to share your Scratch project.\n\nHomework:\n\nLook at the picture below. Check to see if the coordinates you wrote down on your paper for the rectangle\, triangle\, and octagon are correct. If you wrote down the wrong coordinates\, make sure to correct them.\nFind all coordinates for the square. Write down the coordinates on your paper.\nWhen you finish\, take a picture of your paper and email the picture to allison@ayclogic.com. Ask your parents\, guardians\, or family members for help emailing if needed.\nContact us at gamas@ayclogic.com or allison@ayclogic.com if you have any questions or need any help.
URL:https://www.ayclogic.com/event/7-pm-scratch-level-1-allison-9/
CATEGORIES:Scratch Class,Scratch Class Level 1
END:VEVENT
BEGIN:VEVENT
DTSTART;TZID=America/Los_Angeles:20230822T180000
DTEND;TZID=America/Los_Angeles:20230822T190000
DTSTAMP:20260422T000606
CREATED:20230823T020939Z
LAST-MODIFIED:20230823T020939Z
UID:21237-1692727200-1692730800@www.ayclogic.com
SUMMARY:6 PM – Scratch 1 – Abigail
DESCRIPTION:What we did today\n\nWe started working on the Virtual Snow project.\n\nHomework\n\nDo pages 147-148 on your pink Scratch book.\n\nIf you have any questions\, email me at abigail@ayclogic.com
URL:https://www.ayclogic.com/event/6-pm-scratch-1-abigail-22/
CATEGORIES:Scratch Class,Scratch Class Level 1
END:VEVENT
BEGIN:VEVENT
DTSTART;TZID=America/Los_Angeles:20230819T180000
DTEND;TZID=America/Los_Angeles:20230819T190000
DTSTAMP:20260422T000606
CREATED:20230820T022900Z
LAST-MODIFIED:20230820T022900Z
UID:21194-1692468000-1692471600@www.ayclogic.com
SUMMARY:6 PM – Scratch 1 – Yitong
DESCRIPTION:Today we:\n\nFinished the Ask Gobo project.\nStarted the Funny Faces project.\nAdded the Head and Eyes sprite.\n\nHomework:\n\nAdd a BLANK sprite by hovering over the add sprite button. Go up and click the paintbrush.\n\n\n\n\nDraw hair using the paintbrush tool. Use the eraser tool to erase.\n\n\n\n\nFeel free to add more accessories to your character!\n\nSubmit your homework here: yitong@ayclogic.com \n\nHomework is due by FRIDAY NIGHT\nDon’t forget to share your project\, otherwise I cannot see it.\n\nFor Pahan and Sadev:\n\nHow to SAVE your project:\n\n\n\n\nHow to LOAD your project:\n\n\n\n\nHow to SUBMIT your project:
URL:https://www.ayclogic.com/event/6-pm-scratch-1-yitong-6/
CATEGORIES:Scratch Class,Scratch Class Level 1
END:VEVENT
BEGIN:VEVENT
DTSTART;TZID=America/Los_Angeles:20230817T183000
DTEND;TZID=America/Los_Angeles:20230817T193000
DTSTAMP:20260422T000606
CREATED:20230818T024107Z
LAST-MODIFIED:20230818T024107Z
UID:21150-1692297000-1692300600@www.ayclogic.com
SUMMARY:6:30 PM – Scratch Level 1 – Yitong
DESCRIPTION:Today we:\n\nWent over the practice test.\n\nHomework:\n\nNo homework! Prepare for the final test if you need to. Remember to study the Animal Crossing and Virtual Snow project.\n\nEmail me if you need help: yitong@ayclogic.com
URL:https://www.ayclogic.com/event/630-pm-scratch-level-1-yitong-4/
CATEGORIES:Scratch Class,Scratch Class Level 1
END:VEVENT
BEGIN:VEVENT
DTSTART;TZID=America/Los_Angeles:20230817T080000
DTEND;TZID=America/Los_Angeles:20230817T170000
DTSTAMP:20260422T000606
CREATED:20230818T001156Z
LAST-MODIFIED:20230818T001156Z
UID:21146-1692259200-1692291600@www.ayclogic.com
SUMMARY:4 PM – Scratch 1 – Abigail
DESCRIPTION:What we did today\n\nWe finished working on Virtual Snow.\nWe talked about the Scratch 1 test.\n\nHomework\n\nComplete the Scratch 1 Practice Exam I sent you.\nWe will review it next week.\n\nIf you have any questions\, email me at abigail@ayclogic.com
URL:https://www.ayclogic.com/event/4-pm-scratch-1-abigail-25/
CATEGORIES:Scratch Class,Scratch Class Level 1
END:VEVENT
BEGIN:VEVENT
DTSTART;TZID=America/Los_Angeles:20230815T180000
DTEND;TZID=America/Los_Angeles:20230815T190000
DTSTAMP:20260422T000606
CREATED:20230816T022338Z
LAST-MODIFIED:20230816T022338Z
UID:21128-1692122400-1692126000@www.ayclogic.com
SUMMARY:6 PM - Scratch 1 - Abigail
DESCRIPTION:What we did today\n\nWe finished working on the Mary had a Little Lamb project. (MHALL)\n\nHomework\n\nUse the notes to play the “Happy Birthday” song. It should be in project resources.\nYou have to make four more notes. F (65)\, A (69)\, B (71)\, High C (72).\\nMake a broadcast called “Happy Birthday” at the end of the MHALL song.\nStart broadcasting the notes below “when I receive Happy Birthday”.\n\nIf you have any questions\, email me at abigail@ayclogic.com
URL:https://www.ayclogic.com/event/6-pm-scratch-1-abigail-21/
CATEGORIES:Scratch Class,Scratch Class Level 1
END:VEVENT
BEGIN:VEVENT
DTSTART;TZID=America/Los_Angeles:20230810T160000
DTEND;TZID=America/Los_Angeles:20230810T170000
DTSTAMP:20260422T000606
CREATED:20230811T003716Z
LAST-MODIFIED:20230811T003716Z
UID:21047-1691683200-1691686800@www.ayclogic.com
SUMMARY:4 PM – Scratch 1 – Abigail
DESCRIPTION:What we did today\n\nWorked on Virtual Snow\n\nAllowed snow to build up on floor\nAdded snowman sprite\n\n\n\nHomework\n\nMake the snow jiggle sideways as it falls\n\nIn the “forever” block under the clones\, add a “Change x by (Random -1 to 1)\n\n\nAfter creating clones\, wait 0.1 seconds before creating another\nFeel free to modify the speed at which snow falls\n\nModify the “Change y by -10” block under the clones\n\n\n\nIf you have any questions\, email me at abigail@ayclogic.com or williamsmith@ayclogic.com \n 
URL:https://www.ayclogic.com/event/4-pm-scratch-1-abigail-24/
CATEGORIES:Scratch Class,Scratch Class Level 1
END:VEVENT
BEGIN:VEVENT
DTSTART;TZID=America/Los_Angeles:20230808T180000
DTEND;TZID=America/Los_Angeles:20230808T190000
DTSTAMP:20260422T000606
CREATED:20230809T021336Z
LAST-MODIFIED:20230809T021336Z
UID:21022-1691517600-1691521200@www.ayclogic.com
SUMMARY:6 PM - Scratch 1 - Abigail
DESCRIPTION:What we did today\n\nWe finished working on Punch the dummy project.\nWe started working on then Mary had a Little Lamb project. (MHALL)\n\nHomework\n\n(For punch dummy homework refer to last week’s homework page)\nAdd 3 more ball sprites/notes to your project.\nThe notes are D (62)\, E (64)\, and G (67).\n\nIf you have any questions\, email me at abigail@ayclogic.com
URL:https://www.ayclogic.com/event/6-pm-scratch-1-abigail-20/
CATEGORIES:Scratch Class,Scratch Class Level 1
END:VEVENT
BEGIN:VEVENT
DTSTART;TZID=America/Los_Angeles:20230805T180000
DTEND;TZID=America/Los_Angeles:20230805T190000
DTSTAMP:20260422T000606
CREATED:20230806T045439Z
LAST-MODIFIED:20230806T045439Z
UID:20989-1691258400-1691262000@www.ayclogic.com
SUMMARY:6 PM – Scratch 1 – Yitong
DESCRIPTION:Today we:\n\nReviewed the homework\nEdited coding errors\nStarted the Ask Gobo project\n\nHomework:\n\nRead and do the codes in Pg. 62-65\, steps #5-14\nContact us if you have any questions
URL:https://www.ayclogic.com/event/6-pm-scratch-1-yitong-4/
CATEGORIES:Scratch Class,Scratch Class Level 1
END:VEVENT
BEGIN:VEVENT
DTSTART;TZID=America/Los_Angeles:20230803T160000
DTEND;TZID=America/Los_Angeles:20230803T170000
DTSTAMP:20260422T000606
CREATED:20230804T003144Z
LAST-MODIFIED:20230804T003144Z
UID:20952-1691078400-1691082000@www.ayclogic.com
SUMMARY:4 PM – Scratch 1 – Abigail
DESCRIPTION:What we did today\n\nChecked music for Mary Had a Little Lamb\nStarted Virtual Snow (last project). You can find the project here: https://scratch.mit.edu/projects/879822146\n\nCreated snow sprite and background\nMade snow fall from top to bottom\nSnow has random size\n\n\n\nHomework\n\nStamp the sprite before it disappears\, so snow can “build up” on the ground\n\nClick the “Add extension” button in the bottom left\nSelect Pen\nInsert a “stamp” block before deleting clones\nInsert an “erase all” block right after the “When Green Flag Clicked”\n\n\nHide the original sprite\, but make sure the clones are still visible\n\nIf you have any questions\, email me at abigail@ayclogic.com or williamsmith@ayclogic.com \n 
URL:https://www.ayclogic.com/event/4-pm-scratch-1-abigail-23/
CATEGORIES:Scratch Class,Scratch Class Level 1
END:VEVENT
BEGIN:VEVENT
DTSTART;TZID=America/Los_Angeles:20230727T160000
DTEND;TZID=America/Los_Angeles:20230727T170000
DTSTAMP:20260422T000606
CREATED:20230728T001522Z
LAST-MODIFIED:20230728T001522Z
UID:20838-1690473600-1690477200@www.ayclogic.com
SUMMARY:4 PM – Scratch 1 – Abigail
DESCRIPTION:What we did today\n\nModified each sprite to broadcast their note to play sound and move at the same time\nFinished 1st measure of Mary Had a Little Lamb\n\nHomework\n\nFinish the last 3 measures of Mary Had a Little Lamb\nMake sure to create/broadcast a new event for each measure 🙂\n\nIf you have any questions\, email me at abigail@ayclogic.com or williamsmith@ayclogic.com
URL:https://www.ayclogic.com/event/4-pm-scratch-1-abigail-22/
CATEGORIES:Scratch Class,Scratch Class Level 1
END:VEVENT
BEGIN:VEVENT
DTSTART;TZID=America/Los_Angeles:20230725T180000
DTEND;TZID=America/Los_Angeles:20230725T190000
DTSTAMP:20260422T000606
CREATED:20230726T021037Z
LAST-MODIFIED:20230726T021739Z
UID:20799-1690308000-1690311600@www.ayclogic.com
SUMMARY:6 PM - Scratch 1 - Abigail
DESCRIPTION:Today We Did:\n\nFinished up Window Cleaner project\, adding counter and ability to erase splats using mouse.\nStarted working on Punch Dummy project.\n\nHomework:\n\nMake the head in the Punch Dummy project move back along with the eyes when you punch it with your hand using the camera\, using broadcast.
URL:https://www.ayclogic.com/event/tues-6-pm-scratch-1-abigail/
CATEGORIES:Scratch Class,Scratch Class Level 1
END:VEVENT
BEGIN:VEVENT
DTSTART;TZID=America/Los_Angeles:20230720T183000
DTEND;TZID=America/Los_Angeles:20230720T193000
DTSTAMP:20260422T000606
CREATED:20230721T024543Z
LAST-MODIFIED:20230721T024543Z
UID:20724-1689877800-1689881400@www.ayclogic.com
SUMMARY:6:30 PM – Scratch 1 – Yitong
DESCRIPTION:Today we:\n\nFinished the Eyeball\, Head\, and BoxingGlove sprite.\n\nHomework:\n\nMake the Pow sprite show up in this part of the screen.\n\n \n\nSend your homework to this email: yitong@ayclogic.com \n\nDon’t forget to share your project before you submit it.\nRemember that homework is due Wednesday night!\n\nCurrent project:\n\nhttps://scratch.mit.edu/projects/874461473/\nThe current progress and assigned homework are in the project description.
URL:https://www.ayclogic.com/event/630-pm-scratch-1-yitong-9/
CATEGORIES:Scratch Class,Scratch Class Level 1
END:VEVENT
BEGIN:VEVENT
DTSTART;TZID=America/Los_Angeles:20230719T190000
DTEND;TZID=America/Los_Angeles:20230719T200000
DTSTAMP:20260422T000606
CREATED:20230720T030536Z
LAST-MODIFIED:20230720T030536Z
UID:20700-1689793200-1689796800@www.ayclogic.com
SUMMARY:7 PM – Scratch Level 1 – Allison
DESCRIPTION:Today we:\n\nFinished the Animal Race project\nStarted the Ask Gobo project\nCoded Gobo to talk\nRandomized the ReplyNumber variable from 1-2\n\nImportant Reminders:\n\nAfter you finish your homework in Scratch\, send an email to allison@ayclogic.com by Tuesday at 8 PM. In that email\, write down your name and a link to your shared Scratch project homework. Make sure to share your Scratch project.\n\nHomework:\n\nRead and do the codes in the Scratch book pg. 64-65.\nContact us at gamas@ayclogic.com or allison@ayclogic.com if you have any questions or need any help.
URL:https://www.ayclogic.com/event/7-pm-scratch-level-1-allison-7/
CATEGORIES:Scratch Class,Scratch Class Level 1
END:VEVENT
BEGIN:VEVENT
DTSTART;TZID=America/Los_Angeles:20230718T180000
DTEND;TZID=America/Los_Angeles:20230718T190000
DTSTAMP:20260422T000606
CREATED:20230719T021628Z
LAST-MODIFIED:20230719T021628Z
UID:20668-1689703200-1689706800@www.ayclogic.com
SUMMARY:6 PM - Scratch 1 - Abigail
DESCRIPTION:What we did today\n\nWe continued working on the Window Cleaner project.\n\nHomework\n\nAdd a “score” variable.\nIncrease the score by 1 every time you delete a splat clone.\n\nIf you have any questions\, email me at abigail@ayclogic.com
URL:https://www.ayclogic.com/event/6-pm-scratch-1-abigail-18/
CATEGORIES:Scratch Class,Scratch Class Level 1
END:VEVENT
BEGIN:VEVENT
DTSTART;TZID=America/Los_Angeles:20230715T180000
DTEND;TZID=America/Los_Angeles:20230715T190000
DTSTAMP:20260422T000606
CREATED:20230716T024618Z
LAST-MODIFIED:20230721T011011Z
UID:20625-1689444000-1689447600@www.ayclogic.com
SUMMARY:6 PM – Scratch 1 – Yitong
DESCRIPTION:Today we:\n\nMade the Dinosaur3 sprite move back and forth across the screen.\nAdded the Spotlight background and made it change color.\nMade music play forever.\n\nHomework:\n\nDo pages 43-44\, #25-28 in your pink coding book.\n\n  \nSubmit your homework here: yitong@ayclogic.com \n\nDon’t forget to share your homework or else I can’t see it.\nHomework is due Friday night.\nEmail me if you need help!\n\nCurrent project:\n\nhttps://scratch.mit.edu/projects/873073895/\nThe current progress and assigned homework are in the project description.
URL:https://www.ayclogic.com/event/6-pm-scratch-1-yitong/
CATEGORIES:Scratch Class,Scratch Class Level 1
END:VEVENT
BEGIN:VEVENT
DTSTART;TZID=America/Los_Angeles:20230713T183000
DTEND;TZID=America/Los_Angeles:20230713T193000
DTSTAMP:20260422T000606
CREATED:20230714T024733Z
LAST-MODIFIED:20230714T024829Z
UID:20586-1689273000-1689276600@www.ayclogic.com
SUMMARY:6:30 PM – Scratch 1 – Yitong
DESCRIPTION:Today we:\n\nFinished the Birthday Card project.\nStarted the Punch the Dummy project.\n\nHomework:\n\nMake a new sprite. Call it “Head.”\nUse the circle tool to draw the head. Change the fill color to change the skin color (color inside the circle).\nDecorate your Head sprite by adding a mouth\, hair\, or eyebrows. You can add anything you want.\n\n\nSend your homework to this email: yitong@ayclogic.com \n\nDon’t forget to share your project before you submit it.\nRemember that homework is due Wednesday night!
URL:https://www.ayclogic.com/event/630-pm-scratch-1-yitong-8/
CATEGORIES:Scratch Class,Scratch Class Level 1
END:VEVENT
BEGIN:VEVENT
DTSTART;TZID=America/Los_Angeles:20230713T160000
DTEND;TZID=America/Los_Angeles:20230713T170000
DTSTAMP:20260422T000606
CREATED:20230714T001405Z
LAST-MODIFIED:20230714T001405Z
UID:20583-1689264000-1689267600@www.ayclogic.com
SUMMARY:4 PM – Scratch 1 – Abigail
DESCRIPTION:What we did today\n\nWe started working on the Mary Had a Little Lamb (MHALL) project.\n\nHomework\n\nAdd 3 more notes to your project.\nYou can duplicate your C sprite because the code is the same except for the note.\nYou should have C (60)\, E (64)\, D (62)\, and G (67) in all.\nMake sure to rename your sprites accordingly.\n\nIf you have any questions\, email me at abigail@ayclogic.com
URL:https://www.ayclogic.com/event/4-pm-scratch-1-abigail-21/
CATEGORIES:Scratch Class,Scratch Class Level 1
END:VEVENT
BEGIN:VEVENT
DTSTART;TZID=America/Los_Angeles:20230712T190000
DTEND;TZID=America/Los_Angeles:20230712T200000
DTSTAMP:20260422T000606
CREATED:20230713T030232Z
LAST-MODIFIED:20230713T030232Z
UID:20570-1689188400-1689192000@www.ayclogic.com
SUMMARY:7 PM – Scratch Level 1 – Allison
DESCRIPTION:Today we:\n\nContinued the Animal Race project\nCreated the Flag sprite\nCoded the Flag sprite to hide when the game starts\nCoded the Flag sprite to use the second costume and show when the Bat sprite touches the Finish Line sprite\n\nImportant Reminders:\n\nAfter you finish your homework in Scratch\, send an email to allison@ayclogic.com by Tuesday at 8 PM. In that email\, write down your name and a link to your shared Scratch project homework. Make sure to share your Scratch project.\n\nHomework:\n\nWhen the Dog sprite touches the Finish Line sprite\, code the Flag sprite to use the costume that has the text “Dog Wins” and show\nContact us at gamas@ayclogic.com or allison@ayclogic.com if you have any questions or need any help.
URL:https://www.ayclogic.com/event/7-pm-scratch-level-1-allison-6/
CATEGORIES:Scratch Class,Scratch Class Level 1
END:VEVENT
BEGIN:VEVENT
DTSTART;TZID=America/Los_Angeles:20230711T180000
DTEND;TZID=America/Los_Angeles:20230711T190000
DTSTAMP:20260422T000606
CREATED:20230712T021041Z
LAST-MODIFIED:20230712T021041Z
UID:20550-1689098400-1689102000@www.ayclogic.com
SUMMARY:6 PM - Scratch 1 - Abigail
DESCRIPTION:What we did today\n\nWe finished working on the Spiralizer project.\nWe started working on the Window Cleaner project.\n\nHomework\n\nMake 3 more costumes for your Splat sprite.\nMake the last costume a little different from the other splats.\n\nIf you have any questions\, email me at abigail@ayclogic.com
URL:https://www.ayclogic.com/event/6-pm-scratch-1-abigail-17/
CATEGORIES:Scratch Class,Scratch Class Level 1
END:VEVENT
BEGIN:VEVENT
DTSTART;TZID=America/Los_Angeles:20230708T180000
DTEND;TZID=America/Los_Angeles:20230708T190000
DTSTAMP:20260422T000606
CREATED:20230709T015030Z
LAST-MODIFIED:20230709T022132Z
UID:20502-1688839200-1688842800@www.ayclogic.com
SUMMARY:6 PM - Scratch 1 - Yitong
DESCRIPTION:Today we:\n\nStarted the Dino Dance project.\nAdded the Dinosaur sprite and made it dance by pressing the space key.\nAdded another Dinosaur sprite and made it dance on its own.\n\nHomework:\n\nAdd a new Dinosaur sprite. You should have 3 in total.\nMake the new Dinosaur sprite different a color.\nMake the Dinosaur sprite dance by itself.\n\nHint: Look at how we made the Dinosaur2 sprite dance by itself.\n\n\n\nSubmit your homework here: yitong@ayclogic.com \n\nDon’t forget to share your homework or else I can’t see it.\nHomework is due Friday night.\nEmail me if you need help!
URL:https://www.ayclogic.com/event/6-pm-scratch-1-yitong-liu/
CATEGORIES:Scratch Class,Scratch Class Level 1
END:VEVENT
BEGIN:VEVENT
DTSTART;TZID=America/Los_Angeles:20230708T093000
DTEND;TZID=America/Los_Angeles:20230708T103000
DTSTAMP:20260422T000606
CREATED:20230708T211018Z
LAST-MODIFIED:20230708T211018Z
UID:20493-1688808600-1688812200@www.ayclogic.com
SUMMARY:9:30 AM – Scratch 1 – Yitong
DESCRIPTION:Today we:\n\nTook the Scratch Level 1 Final Test.\n\nHomework:\n\nNo homework! When I am done grading your test I will release your score. You will get an email showing your score. If you get a 70% or above\, you pass and you don’t have to come to class next week. If you do not pass\, you will have to come to class next week.
URL:https://www.ayclogic.com/event/930-am-scratch-1-yitong-21/
CATEGORIES:Scratch Class,Scratch Class Level 1
END:VEVENT
BEGIN:VEVENT
DTSTART;TZID=America/Los_Angeles:20230629T183000
DTEND;TZID=America/Los_Angeles:20230629T193000
DTSTAMP:20260422T000606
CREATED:20230630T022506Z
LAST-MODIFIED:20230630T042251Z
UID:20464-1688063400-1688067000@www.ayclogic.com
SUMMARY:6:30 PM – Scratch 1 – Yitong
DESCRIPTION:Today we:\n\nFinished the Window Cleaner project.\nStarted the Birthday Card project.\n\nHomework:\n\nFind 1 picture of your mom and 2 different pictures of yourself. Make sure to save them on the device that you’re using to do Scratch\, and make sure you know where to find them.\nAdd the second arrow and make it start on the right side of the screen. Make it point to the left and move to the left just like the first arrow.\n\n\nSend your homework to this email: yitong@ayclogic.com \n\nDon’t forget to share your project before you submit it.\nRemember that homework is due Wednesday night!\n\nNO CLASS FROM JULY 1 – JULY 7 \nCLASS WILL RESUME ON JULY 8
URL:https://www.ayclogic.com/event/630-pm-scratch-1-yitong-7/
CATEGORIES:Scratch Class,Scratch Class Level 1
END:VEVENT
BEGIN:VEVENT
DTSTART;TZID=America/Los_Angeles:20230629T160000
DTEND;TZID=America/Los_Angeles:20230629T170000
DTSTAMP:20260422T000606
CREATED:20230630T000825Z
LAST-MODIFIED:20230630T000825Z
UID:20454-1688054400-1688058000@www.ayclogic.com
SUMMARY:4 PM - Scratch 1 - Abigail
DESCRIPTION:What we did today\n\nWe finished working on the Punch Dummy project.\n\nHomework\n\nAdd the “Big Boing” sound effect whenever you punch the dummy.\noptional: try to do the Boxing glove sprite. Use your other projects as reference. (the Boxing glove image should be in “project resources”)\n\nIf you have any questions\, email me at abigail@ayclogic.com \nNO CLASS NEXT WEEK!\n 
URL:https://www.ayclogic.com/event/4-pm-scratch-1-abigail-20/
CATEGORIES:Scratch Class,Scratch Class Level 1
END:VEVENT
BEGIN:VEVENT
DTSTART;TZID=America/Los_Angeles:20230628T190000
DTEND;TZID=America/Los_Angeles:20230628T200000
DTSTAMP:20260422T000606
CREATED:20230629T051053Z
LAST-MODIFIED:20230629T051127Z
UID:20446-1687978800-1687982400@www.ayclogic.com
SUMMARY:7 PM – Scratch Level 1 – Allison
DESCRIPTION:Today we:\n\nContinued the Animal Race project\nLearned about broadcast and when I receive\nCoded the Dog sprite to move\nCreated the Finish Line sprite\n\nImportant Information:\n\nIn honor of Independence Day\, the school will be closed from Saturday 7/1 – Friday 7/7. There is no class next week. Our next class will be on Wednesday 7/12.\n\nImportant Reminders:\n\nAfter you finish your homework in Scratch\, send an email to allison@ayclogic.com by Tuesday at 8 PM. In that email\, write down your name and a link to your shared Scratch project homework. Make sure to share your Scratch project.\n\nHomework:\n\nRead and do the codes in the Scratch book pg. 56. Please do the codes in the same Animal Race project we did in class.\n\nNote: The book’s code says “if touching Bat Finish then”. For your project\, your code should say “if touching Finish Line then”.\nReminder: We are not using Balloon sprites for this project. We are using the Finish Line sprite instead.\n\n\nContact us at gamas@ayclogic.com or allison@ayclogic.com if you have any questions or need any help.
URL:https://www.ayclogic.com/event/7-pm-scratch-level-1-allison-5/
CATEGORIES:Scratch Class,Scratch Class Level 1
END:VEVENT
END:VCALENDAR