BEGIN:VCALENDAR
VERSION:2.0
PRODID:-//American Young Coder - ECPv6.10.1.1//NONSGML v1.0//EN
CALSCALE:GREGORIAN
METHOD:PUBLISH
X-WR-CALNAME:American Young Coder
X-ORIGINAL-URL:https://www.ayclogic.com
X-WR-CALDESC:Events for American Young Coder
REFRESH-INTERVAL;VALUE=DURATION:PT1H
X-Robots-Tag:noindex
X-PUBLISHED-TTL:PT1H
BEGIN:VTIMEZONE
TZID:America/Los_Angeles
BEGIN:DAYLIGHT
TZOFFSETFROM:-0800
TZOFFSETTO:-0700
TZNAME:PDT
DTSTART:20230312T100000
END:DAYLIGHT
BEGIN:STANDARD
TZOFFSETFROM:-0700
TZOFFSETTO:-0800
TZNAME:PST
DTSTART:20231105T090000
END:STANDARD
END:VTIMEZONE
BEGIN:VEVENT
DTSTART;TZID=America/Los_Angeles:20230624T093000
DTEND;TZID=America/Los_Angeles:20230624T103000
DTSTAMP:20260424T035928
CREATED:20230624T182846Z
LAST-MODIFIED:20230627T005856Z
UID:20359-1687599000-1687602600@www.ayclogic.com
SUMMARY:9:30 AM – Scratch 1 – Yitong
DESCRIPTION:Today we:\n\nReviewed the practice test.\n\nHomework:\n\nStudy and review your past projects.\n\nShare your homework and submit it to this email: yitong@ayclogic.com \nDon’t forget to share your project. Homework is due on Friday night. \nNO CLASS FROM JULY 1 – JULY 7 \nCLASS WILL RESUME ON JULY 8
URL:https://www.ayclogic.com/event/930-am-scratch-1-yitong-20/
CATEGORIES:Scratch Class,Scratch Class Level 1
END:VEVENT
BEGIN:VEVENT
DTSTART;TZID=America/Los_Angeles:20230622T183000
DTEND;TZID=America/Los_Angeles:20230622T193000
DTSTAMP:20260424T035928
CREATED:20230623T023808Z
LAST-MODIFIED:20230623T023808Z
UID:20335-1687458600-1687462200@www.ayclogic.com
SUMMARY:6:30 PM – Scratch 1 – Yitong
DESCRIPTION:Today we:\n\nFinished the Window Cleaner project.\nStarted the Birthday Card project.\n\nHomework:\n\nMake the Shark1 sprite sing the 3rd line in the birthday song. “Happy birthday dear [the person’s name]!”\nMake the Shark2 sprite sing the 4th line in the birthday song. “Happy birthday to you!”\n\n\nSend your homework to this email: yitong@ayclogic.com \n\nDon’t forget to share your project before you submit it.\nRemember that homework is due Wednesday night!
URL:https://www.ayclogic.com/event/630-pm-scratch-1-yitong-6/
CATEGORIES:Scratch Class,Scratch Class Level 1
END:VEVENT
BEGIN:VEVENT
DTSTART;TZID=America/Los_Angeles:20230622T160000
DTEND;TZID=America/Los_Angeles:20230622T170000
DTSTAMP:20260424T035928
CREATED:20230628T204837Z
LAST-MODIFIED:20230628T204837Z
UID:20426-1687449600-1687453200@www.ayclogic.com
SUMMARY:4 PM - Scratch 1 - Abigail
DESCRIPTION:What we did today\n\nStarted working on the Punch Dummy project.\n\nHomework\n\nCustomize the hair of your Dummy sprite. (make it interesting)\nMake a second costume of your Dummy sprite. (One costume should be smiling\, the other costume should be frowning).\n\nIf you have any questions\, email me at abigail@ayclogic.com
URL:https://www.ayclogic.com/event/4-pm-scratch-1-abigail-19/
CATEGORIES:Scratch Class,Scratch Class Level 1
END:VEVENT
BEGIN:VEVENT
DTSTART;TZID=America/Los_Angeles:20230621T190000
DTEND;TZID=America/Los_Angeles:20230621T200000
DTSTAMP:20260424T035928
CREATED:20230622T041331Z
LAST-MODIFIED:20230622T235847Z
UID:20325-1687374000-1687377600@www.ayclogic.com
SUMMARY:7 PM – Scratch Level 1 – Allison
DESCRIPTION:Today we:\n\nFinished the Dino Dance project\nStarted the Animal Race project\nLearned about variables\nCoded the Cat sprite to count\n\nHomework:\n\nRead and do the codes in the Scratch book pg. 51-54\, steps #7-15. Please do the codes in the same Animal Race project we did in class.\nMake sure your email is confirmed in Scratch so you can share your projects. If you need help\, try searching a tutorial in Google or email us for help.\nContact us at gamas@ayclogic.com or allison@ayclogic.com if you have any questions or need any help.
URL:https://www.ayclogic.com/event/7-pm-scratch-level-1-allison-4/
CATEGORIES:Scratch Class,Scratch Class Level 1
END:VEVENT
BEGIN:VEVENT
DTSTART;TZID=America/Los_Angeles:20230620T180000
DTEND;TZID=America/Los_Angeles:20230620T190000
DTSTAMP:20260424T035928
CREATED:20230621T020658Z
LAST-MODIFIED:20230621T020658Z
UID:20308-1687284000-1687287600@www.ayclogic.com
SUMMARY:6 PM - Scratch 1 - Abigail
DESCRIPTION:What we did today\n\nWe started working on Tunnel of Doom.\n\nHomework\n\nDo pages 129-130 on your pink Scratch book.\n\nIf you have any questions\, email me at abigail@ayclogic.com
URL:https://www.ayclogic.com/event/6-pm-scratch-1-abigail-15/
CATEGORIES:Scratch Class,Scratch Class Level 1
END:VEVENT
BEGIN:VEVENT
DTSTART;TZID=America/Los_Angeles:20230617T093000
DTEND;TZID=America/Los_Angeles:20230617T103000
DTSTAMP:20260424T035928
CREATED:20230617T172459Z
LAST-MODIFIED:20230617T172459Z
UID:20249-1686994200-1686997800@www.ayclogic.com
SUMMARY:9:30 AM – Scratch 1 – Yitong
DESCRIPTION:Today we:\n\nWent over the practice test.\n\nHomework:\n\nFinish the practice test. Don’t forget to share your project before submitting it. Make sure you followed all of the instructions. This practice test is due Friday night.\n\nShare your homework and submit it to this email: yitong@ayclogic.com \nDon’t forget to share your project. Homework is due on Friday night.
URL:https://www.ayclogic.com/event/930-am-scratch-1-yitong-19/
CATEGORIES:Scratch Class,Scratch Class Level 1
END:VEVENT
BEGIN:VEVENT
DTSTART;TZID=America/Los_Angeles:20230615T183000
DTEND;TZID=America/Los_Angeles:20230615T193000
DTSTAMP:20260424T035928
CREATED:20230616T051825Z
LAST-MODIFIED:20230616T051825Z
UID:20241-1686853800-1686857400@www.ayclogic.com
SUMMARY:6:30 PM – Scratch 1 – Yitong
DESCRIPTION:Today we:\n\nContinued the Window Cleaner project.\n\nHomework:\n\nMake 3 more Splat costumes. You should have 4 costumes in total.\nAfter a clone is created\, switch to the next costume.\n\n\nSend your homework to this email: yitong@ayclogic.com \n\nDon’t forget to share your project before you submit it.\nRemember that homework is due Wednesday night!
URL:https://www.ayclogic.com/event/630-pm-scratch-1-yitong-5/
CATEGORIES:Scratch Class,Scratch Class Level 1
END:VEVENT
BEGIN:VEVENT
DTSTART;TZID=America/Los_Angeles:20230615T160000
DTEND;TZID=America/Los_Angeles:20230615T170000
DTSTAMP:20260424T035928
CREATED:20230616T000717Z
LAST-MODIFIED:20230616T000717Z
UID:20238-1686844800-1686848400@www.ayclogic.com
SUMMARY:4 PM - Scratch 1 - Abigail
DESCRIPTION:What we did today\n\nWe continued working on the Window Cleaner project.\n\nHomework\n\nDo page 137 and 139 on your pink Scratch book.\n(Do the Score and the Difficulty layer)\n\nIf you have any questions\, email me at abigail@ayclogic.com
URL:https://www.ayclogic.com/event/4-pm-scratch-1-abigail-18/
CATEGORIES:Scratch Class,Scratch Class Level 1
END:VEVENT
BEGIN:VEVENT
DTSTART;TZID=America/Los_Angeles:20230614T190000
DTEND;TZID=America/Los_Angeles:20230614T200000
DTSTAMP:20260424T035928
CREATED:20230615T051321Z
LAST-MODIFIED:20230615T051321Z
UID:20234-1686769200-1686772800@www.ayclogic.com
SUMMARY:7 PM – Scratch Level 1 – Allison
DESCRIPTION:Today we:\n\nContinued the Dino Dance project\nCoded Dinosaur3 to move up and down when the up and down arrow keys are pressed\nAdded and coded the background\n\nHomework:\n\nRead and do the codes in the section “Might as well jump!” in Scratch book pg. 47. Please do the codes in the same Dino Dance project we did in class.\nMake sure your email is confirmed in Scratch so you can share your projects. If you need help\, try searching a tutorial in Google or email us for help.\nContact us at gamas@ayclogic.com or allison@ayclogic.com if you have any questions or need any help.
URL:https://www.ayclogic.com/event/7-pm-scratch-level-1-allison-3/
CATEGORIES:Scratch Class,Scratch Class Level 1
END:VEVENT
BEGIN:VEVENT
DTSTART;TZID=America/Los_Angeles:20230613T180000
DTEND;TZID=America/Los_Angeles:20230613T190000
DTSTAMP:20260424T035928
CREATED:20230614T022129Z
LAST-MODIFIED:20230614T022129Z
UID:20209-1686679200-1686682800@www.ayclogic.com
SUMMARY:6 PM - Scratch 1 - Abigail
DESCRIPTION:What we did today\n\nWe worked on the Custom Birthday Card project.\n\nHomework\n\nSend your project link to this email -> abigail@ayclogic.com\nMake sure your project is SHARED.\nFormat your subject line like this: [name] – Custom Birthday Card.\n\nIf you have any questions\, email me at abigail@ayclogic.com
URL:https://www.ayclogic.com/event/6-pm-scratch-1-abigail-14/
CATEGORIES:Scratch Class,Scratch Class Level 1
END:VEVENT
BEGIN:VEVENT
DTSTART;TZID=America/Los_Angeles:20230610T093000
DTEND;TZID=America/Los_Angeles:20230610T103000
DTSTAMP:20260424T035928
CREATED:20230610T172906Z
LAST-MODIFIED:20230610T173123Z
UID:20155-1686389400-1686393000@www.ayclogic.com
SUMMARY:9:30 AM – Scratch 1 – Yitong
DESCRIPTION:Today we:\n\nFinished the Virtual Snow project.\n\nHomework:\n\nNo homework! Study or review your old projects if you think you need to. We will do a practice test next week.\n\nShare your homework and submit it to this email: yitong@ayclogic.com \nDon’t forget to share your project. Homework is due on Friday night.
URL:https://www.ayclogic.com/event/930-am-scratch-1-yitong-18/
CATEGORIES:Scratch Class,Scratch Class Level 1
END:VEVENT
BEGIN:VEVENT
DTSTART;TZID=America/Los_Angeles:20230608T183000
DTEND;TZID=America/Los_Angeles:20230608T193000
DTSTAMP:20260424T035928
CREATED:20230609T023951Z
LAST-MODIFIED:20230609T023951Z
UID:20141-1686249000-1686252600@www.ayclogic.com
SUMMARY:6:30 PM – Scratch 1 – Yitong
DESCRIPTION:Today we:\n\nFinished the Tunnel of Doom project.\nStarted the Window Cleaner project.\n\nHomework:\n\nDo page 138\, #10-12 in your pink coding book.\n\n\nSend your homework to this email: yitong@ayclogic.com \n\nDon’t forget to share your project before you submit it.\nRemember that homework is due Wednesday night!
URL:https://www.ayclogic.com/event/630-pm-scratch-1-yitong-4/
CATEGORIES:Scratch Class,Scratch Class Level 1
END:VEVENT
BEGIN:VEVENT
DTSTART;TZID=America/Los_Angeles:20230608T160000
DTEND;TZID=America/Los_Angeles:20230608T170000
DTSTAMP:20260424T035928
CREATED:20230609T000233Z
LAST-MODIFIED:20230609T000233Z
UID:20138-1686240000-1686243600@www.ayclogic.com
SUMMARY:4 PM – Scratch 1 – Abigail
DESCRIPTION:What we did today\n\nMade clones of the Splat sprite.\nLearned how to make the clones go to random places on the screen.\nLearned about video motion.\n\nHomework\n\nDo pg. 138\, #10-12.\n\nIf you have any questions\, email me at abigail@ayclogic.com
URL:https://www.ayclogic.com/event/4-pm-scratch-1-abigail-17/
CATEGORIES:Scratch Class,Scratch Class Level 1
END:VEVENT
BEGIN:VEVENT
DTSTART;TZID=America/Los_Angeles:20230607T190000
DTEND;TZID=America/Los_Angeles:20230607T200000
DTSTAMP:20260424T035928
CREATED:20230608T060057Z
LAST-MODIFIED:20230608T060057Z
UID:20134-1686164400-1686168000@www.ayclogic.com
SUMMARY:7 PM – Scratch Level 1 – Allison
DESCRIPTION:Today we:\n\nContinued the Dino Dance project\nLearned about directions in Scratch\nEdited coding bugs\n\nHomework:\n\nRead and do the codes in the Scratch Book Pg. 43-45. Do the codes in the same project we did in class. Do not create a new Scratch project.\nIf you do not have the book\, please email me so I can share pictures of the homework pages.\n\nPlease try to get the book below by next week. You can buy the book online. Let us know if you are unable to get the book.\n\n\nIf you do not have the image below (the one that says “Four Main Directions in Scratch”) in your notes\, copy the image on a piece of paper and save it for your notes.\nContact us at gamas@ayclogic.com or allison@ayclogic.com if you have any questions or need any help.\n\n \n 
URL:https://www.ayclogic.com/event/7-pm-scratch-level-1-allison-2/
CATEGORIES:Scratch Class,Scratch Class Level 1
END:VEVENT
BEGIN:VEVENT
DTSTART;TZID=America/Los_Angeles:20230606T180000
DTEND;TZID=America/Los_Angeles:20230606T190000
DTSTAMP:20260424T035928
CREATED:20230607T020717Z
LAST-MODIFIED:20230607T020717Z
UID:20126-1686074400-1686078000@www.ayclogic.com
SUMMARY:6 PM - Scratch 1 - Abigail
DESCRIPTION:What we did today\n\nWe finished working on the Birthday Card project.\n\nHomework\n\nGet 2-3 pictures of you and a close friend\, family member\, pet\, etc.\nIf you aren’t able to get those pictures\, get 2-3 pictures of the internet and save them in your files.\n\nIf you have any questions\, email me at abigail@ayclogic.com
URL:https://www.ayclogic.com/event/6-pm-scratch-1-abigail-13/
CATEGORIES:Scratch Class,Scratch Class Level 1
END:VEVENT
BEGIN:VEVENT
DTSTART;TZID=America/Los_Angeles:20230603T093000
DTEND;TZID=America/Los_Angeles:20230603T103000
DTSTAMP:20260424T035928
CREATED:20230603T183624Z
LAST-MODIFIED:20230603T183624Z
UID:20089-1685784600-1685788200@www.ayclogic.com
SUMMARY:9:30 AM – Scratch 1 – Yitong
DESCRIPTION:Today we:\n\nFinished the Mary Had A Little Lamb project.\nStarted the Virtual Snow project.\n\nHomework:\n\nMake the Snow clones randomly show up between the left side of the screen and the middle of the screen.\n\nHint: Look at the x-axis.\n\n\n\n \nShare your homework and submit it to this email: yitong@ayclogic.com \nDon’t forget to share your project. Homework is due on Friday night.
URL:https://www.ayclogic.com/event/930-am-scratch-1-yitong-17/
CATEGORIES:Scratch Class,Scratch Class Level 1
END:VEVENT
BEGIN:VEVENT
DTSTART;TZID=America/Los_Angeles:20230601T183000
DTEND;TZID=America/Los_Angeles:20230601T193000
DTSTAMP:20260424T035928
CREATED:20230602T024759Z
LAST-MODIFIED:20230602T024759Z
UID:20070-1685644200-1685647800@www.ayclogic.com
SUMMARY:6:30 PM – Scratch 1 – Yitong
DESCRIPTION:Today we:\n\nFinished the Spiralizer project.\nStarted the Tunnel of Doom project.\n\nHomework:\n\nMake a You Win Banner sprite. It should be round (use the circle tool to make it) and say something like “Congratulations\, you win!”\nWhen the Cat sprite touches the Home Button sprite tell the You Win Banner to show up.\nWhen the You Win Banner shows up\, make it change colors forever.\nWhen the Cat sprite touches the Home Button sprite\, play the song “Guitar Chords2.” Do the code for making the song play in the background.\n\n\nSend your homework to this email: yitong@ayclogic.com \n\nDon’t forget to share your project before you submit it.\nRemember that homework is due Wednesday night!
URL:https://www.ayclogic.com/event/630-pm-scratch-1-yitong-3/
CATEGORIES:Scratch Class,Scratch Class Level 1
END:VEVENT
BEGIN:VEVENT
DTSTART;TZID=America/Los_Angeles:20230601T160000
DTEND;TZID=America/Los_Angeles:20230601T170000
DTSTAMP:20260424T035928
CREATED:20230602T001457Z
LAST-MODIFIED:20230602T001530Z
UID:20061-1685635200-1685638800@www.ayclogic.com
SUMMARY:4 PM - Scratch 1 - Abigail
DESCRIPTION:What we did today\n\nWe continued working on the Spiralizer project.\nWe finished working on the Spiralizer project.\nWe began working on the Window Cleaner project.\n\nHomework\n\nMake/draw 4 splat costumes.\nMake them all different colors and designs.\n\nIf you have any questions\, email me at abigail@ayclogic.com
URL:https://www.ayclogic.com/event/4-pm-scratch-1-abigail-15/
CATEGORIES:Scratch Class,Scratch Class Level 1
END:VEVENT
BEGIN:VEVENT
DTSTART;TZID=America/Los_Angeles:20230531T190000
DTEND;TZID=America/Los_Angeles:20230531T200000
DTSTAMP:20260424T035928
CREATED:20230601T033812Z
LAST-MODIFIED:20230601T033812Z
UID:20051-1685559600-1685563200@www.ayclogic.com
SUMMARY:7 PM – Scratch Level 1 – Allison
DESCRIPTION:Today we:\n\nStarted the Dino Dance project\nLearned about sprites and costumes\nCoded three dinosaur sprites to switch costumes\n\nHomework:\n\nRead and do the codes in the Scratch Book Pg. 41-42. Do the codes in the same project we did in class.\nIf you do not have the book\, please use this link to view the pages: Scratch Book Pg. 41-42\nAsk your family if you can buy the Scratch Level 1 Book for the class. A picture of the book is below. You can buy the book online.\n\nIf possible\, please try to get the book by next week\nPlease let us know if you are unable to get the book\n\n\nContact us at gamas@ayclogic.com or allison@ayclogic.com if you have any questions or need any help.
URL:https://www.ayclogic.com/event/7-pm-scratch-level-1-allison/
CATEGORIES:Scratch Class,Scratch Class Level 1
END:VEVENT
BEGIN:VEVENT
DTSTART;TZID=America/Los_Angeles:20230530T180000
DTEND;TZID=America/Los_Angeles:20230530T190000
DTSTAMP:20260424T035928
CREATED:20230531T021500Z
LAST-MODIFIED:20230531T021500Z
UID:20028-1685469600-1685473200@www.ayclogic.com
SUMMARY:6 PM - Scratch 1 - Abigail
DESCRIPTION:What we did today\n\nWe started working on the Birthday Card project.\n\nHomework\n\nGet 2 Shark sprites.\nMake one of them glide from the top left corner -> bottom right corner.\nMake the other glide from top right corner -> bottom left corner.\nMake sure they show after the button is clicked.\nMake sure they hide when the green flag is clicked.\n(Use the cake code as reference)\n\nIf you have any questions\, email me at abigail@ayclogic.com
URL:https://www.ayclogic.com/event/6-pm-scratch-1-abigail-12/
CATEGORIES:Scratch Class,Scratch Class Level 1
END:VEVENT
BEGIN:VEVENT
DTSTART;TZID=America/Los_Angeles:20230525T183000
DTEND;TZID=America/Los_Angeles:20230525T193000
DTSTAMP:20260424T035928
CREATED:20230526T023458Z
LAST-MODIFIED:20230526T023458Z
UID:19991-1685039400-1685043000@www.ayclogic.com
SUMMARY:6:30 PM – Scratch 1 – Yitong
DESCRIPTION:Today we:\n\nAdded the Dinosaur3 sprite and made it fly down.\nMade the Bear sprite\, Bat sprite\, and Dinosaur3 sprite say something when they got to the edges of the screen.\nFinished the Animal Crossing project.\nStarted the Spiralizer project.\nLearned about clones.\n\nHomework:\n\nDo pages 98-99\, #8-13 in your pink coding book.\n\n\nSend your homework to this email: yitong@ayclogic.com \n\nDon’t forget to share your project before you submit it.\nRemember that homework is due Wednesday night!
URL:https://www.ayclogic.com/event/630-pm-scratch-1-yitong-2/
CATEGORIES:Scratch Class,Scratch Class Level 1
END:VEVENT
BEGIN:VEVENT
DTSTART;TZID=America/Los_Angeles:20230525T160000
DTEND;TZID=America/Los_Angeles:20230525T170000
DTSTAMP:20260424T035928
CREATED:20230602T005935Z
LAST-MODIFIED:20230602T005935Z
UID:20064-1685030400-1685034000@www.ayclogic.com
SUMMARY:4 PM - Scratch 1 - Abigail
DESCRIPTION:What we did today\n\nWe finished Tunnel of Doom.\nWe started working on the Spiralizer project.\n\nHomework\n\nDo pages 96-98 on your pink Scratch book.\n\nIf you have any questions\, email me on abigail@ayclogic.com
URL:https://www.ayclogic.com/event/4-pm-scratch-1-abigail-16/
CATEGORIES:Scratch Class,Scratch Class Level 1
END:VEVENT
BEGIN:VEVENT
DTSTART;TZID=America/Los_Angeles:20230523T180000
DTEND;TZID=America/Los_Angeles:20230523T190000
DTSTAMP:20260424T035928
CREATED:20230524T020949Z
LAST-MODIFIED:20230524T020949Z
UID:19942-1684864800-1684868400@www.ayclogic.com
SUMMARY:6 PM - Scratch 1 - Abigail
DESCRIPTION:What we did today\n\nWe continued working on the Animal Crossing project.\n\nHomework\n\nCreate 2 sprites. (Any sprites you want)\nMake one of the sprites move from the left side of the screen to the right side. When it touches the right side of the screen\, make it say “hi”.\nMake the other sprite glide from the bottom right corner to the top left corner.\n\nIf you have any questions\, email me at abigail@ayclogic.com
URL:https://www.ayclogic.com/event/6-pm-scratch-1-abigail-11/
CATEGORIES:Scratch Class,Scratch Class Level 1
END:VEVENT
BEGIN:VEVENT
DTSTART;TZID=America/Los_Angeles:20230520T093000
DTEND;TZID=America/Los_Angeles:20230520T103000
DTSTAMP:20260424T035928
CREATED:20230520T183626Z
LAST-MODIFIED:20230525T054654Z
UID:19845-1684575000-1684578600@www.ayclogic.com
SUMMARY:9:30 AM – Scratch 1 – Yitong
DESCRIPTION:Today we:\n\nFinished the Punch the Dummy project.\nStarted the Mary Had A Little Lamb project.\nAdded the notes Do\, Re\, Mi\, Fa\, Sol.\nFinished the first bar of the song.\n\nHomework:\n\nFinish the 2nd\, 3rd\, and 4th bars of the song following the music sheet here.\n\n \nShare your homework and submit it to this email: yitong@ayclogic.com \nDon’t forget to share your project. Homework is due on Friday night. \nNO CLASS FROM 05/27/2023 – 05/29/2023
URL:https://www.ayclogic.com/event/930-am-scratch-1-yitong-16/
CATEGORIES:Scratch Class,Scratch Class Level 1
END:VEVENT
BEGIN:VEVENT
DTSTART;TZID=America/Los_Angeles:20230518T183000
DTEND;TZID=America/Los_Angeles:20230518T193000
DTSTAMP:20260424T035928
CREATED:20230519T024155Z
LAST-MODIFIED:20230519T035610Z
UID:19816-1684434600-1684438200@www.ayclogic.com
SUMMARY:6:30 PM – Scratch 1 – Yitong
DESCRIPTION:Today we:\n\nFinished the Draw Shapes project.\nStarted the Animal Crossing project.\nAdded the Mouse1\, Mouse2\, and Bat sprites.\nLearned about change x\, change y\, and glide.\nLearned how to check for the edge of the screen.\n\nHomework:\n\nAdd the Bear-walking sprite.\nMake the Bear sprite face towards the left.\nMake the Bear sprite move to the left and change costumes at the same time.\n\n\nSend your homework to this email: yitong@ayclogic.com \n\nDon’t forget to share your project before you submit it.\nRemember that homework is due Wednesday night!
URL:https://www.ayclogic.com/event/630-pm-scratch-1-yitong/
CATEGORIES:Scratch Class,Scratch Class Level 1
END:VEVENT
BEGIN:VEVENT
DTSTART;TZID=America/Los_Angeles:20230518T160000
DTEND;TZID=America/Los_Angeles:20230518T170000
DTSTAMP:20260424T035928
CREATED:20230519T001330Z
LAST-MODIFIED:20230519T172635Z
UID:19812-1684425600-1684429200@www.ayclogic.com
SUMMARY:4 PM – Scratch 1 – Abigail
DESCRIPTION:What we did today\n\nWe finished working on the Custom Birthday card project.\nWe started working on the Tunnel of Doom project.\n\nHomework\n\nRead and do the codes in the Scratch Book Pg. 129-130 (steps #14-17).\nDo the codes in the Tunnel of Doom project.\n\nIf you have any questions\, email me at abigail@ayclogic.com
URL:https://www.ayclogic.com/event/4-pm-scratch-1-abigail-14/
CATEGORIES:Scratch Class,Scratch Class Level 1
END:VEVENT
BEGIN:VEVENT
DTSTART;TZID=America/Los_Angeles:20230513T093000
DTEND;TZID=America/Los_Angeles:20230513T103000
DTSTAMP:20260424T035928
CREATED:20230513T185827Z
LAST-MODIFIED:20230513T185827Z
UID:19714-1683970200-1683973800@www.ayclogic.com
SUMMARY:9:30 AM – Scratch 1 – Yitong
DESCRIPTION:Today we:\n\nLearned about how to make sprites show up randomly in a specific area of the screen.\n\nHomework:\n\nMake the Pow sprite show up in this area of the screen.\n\n\n\n\nPlay the “Big Boing” sound when the Dummy gets hit.\n\n\n\n\nShare your homework and submit it to this email: yitong@ayclogic.com
URL:https://www.ayclogic.com/event/930-am-scratch-1-yitong-15/
CATEGORIES:Scratch Class,Scratch Class Level 1
END:VEVENT
BEGIN:VEVENT
DTSTART;TZID=America/Los_Angeles:20230511T183000
DTEND;TZID=America/Los_Angeles:20230511T193000
DTSTAMP:20260424T035928
CREATED:20230512T032126Z
LAST-MODIFIED:20230519T013709Z
UID:19689-1683829800-1683833400@www.ayclogic.com
SUMMARY:6:30 PM - Scratch 1 - Yitong
DESCRIPTION:Homework\n\nContinue on May11_Draw4Shapes project.\nChange the code so there won’t be any line between the square and the rectangle.\nAdd code to draw the triangle according to coordinates in grid paper\nAdd code to draw the octagon according to coordinates in grid paper.\n\n\nSend your homework to this email: yitong@ayclogic.com
URL:https://www.ayclogic.com/event/7-pm-scratch-1-juan/
CATEGORIES:Scratch Class,Scratch Class Level 1
END:VEVENT
BEGIN:VEVENT
DTSTART;TZID=America/Los_Angeles:20230509T180000
DTEND;TZID=America/Los_Angeles:20230509T190000
DTSTAMP:20260424T035928
CREATED:20230510T021534Z
LAST-MODIFIED:20230510T021534Z
UID:19652-1683655200-1683658800@www.ayclogic.com
SUMMARY:6 PM - Scratch 1 - Abigail
DESCRIPTION:What we did today\n\nWe started working on the Animal Crossing project.\nWe finished the Drawing Shapes project.\n\nHomework\n\nFinish the 4 last points on the octagon.\n\n \nIf you have any questions\, email me abigail@ayclogic.com
URL:https://www.ayclogic.com/event/6-pm-scratch-1-abigail-9/
CATEGORIES:Scratch Class,Scratch Class Level 1
END:VEVENT
BEGIN:VEVENT
DTSTART;TZID=America/Los_Angeles:20230506T093000
DTEND;TZID=America/Los_Angeles:20230506T103000
DTSTAMP:20260424T035928
CREATED:20230506T184007Z
LAST-MODIFIED:20230506T184007Z
UID:19609-1683365400-1683369000@www.ayclogic.com
SUMMARY:9:30 AM – Scratch 1 – Yitong
DESCRIPTION:Today we:\n\nLearned about the video sensing extension.\nAdded video sensing code for the Eyeball sprite.\nMade the Eyeball sprite and Head sprite move back and forth when the player punches it.\nAdded the BoxingGlove sprite and made it follow the mouse pointer forever.\n\nHomework:\n\nAdd a sad or angry costume in the Head sprite. You should have two costumes in total once you are done.\nWhen the game starts\, the Dummy should have the happy costume on.\nWhen the Dummy is getting hit\, switch to the sad or angry costume. When the Dummy is done getting hit\, switch to the happy costume.\n\nShare your homework and submit it to this email: yitong@ayclogic.com
URL:https://www.ayclogic.com/event/930-am-scratch-1-yitong-14/
CATEGORIES:Scratch Class,Scratch Class Level 1
END:VEVENT
END:VCALENDAR