BEGIN:VCALENDAR
VERSION:2.0
PRODID:-//American Young Coder - ECPv6.10.1.1//NONSGML v1.0//EN
CALSCALE:GREGORIAN
METHOD:PUBLISH
X-ORIGINAL-URL:https://www.ayclogic.com
X-WR-CALDESC:Events for American Young Coder
REFRESH-INTERVAL;VALUE=DURATION:PT1H
X-Robots-Tag:noindex
X-PUBLISHED-TTL:PT1H
BEGIN:VTIMEZONE
TZID:America/Los_Angeles
BEGIN:DAYLIGHT
TZOFFSETFROM:-0800
TZOFFSETTO:-0700
TZNAME:PDT
DTSTART:20240310T100000
END:DAYLIGHT
BEGIN:STANDARD
TZOFFSETFROM:-0700
TZOFFSETTO:-0800
TZNAME:PST
DTSTART:20241103T090000
END:STANDARD
END:VTIMEZONE
BEGIN:VEVENT
DTSTART;TZID=America/Los_Angeles:20241120T170000
DTEND;TZID=America/Los_Angeles:20241120T180000
DTSTAMP:20260421T060635
CREATED:20241121T020435Z
LAST-MODIFIED:20241121T020435Z
UID:27457-1732122000-1732125600@www.ayclogic.com
SUMMARY:5 PM – Scratch 1 – Abigail
DESCRIPTION:Today We\n\nWe finished working on the Animal Crossing project.\nWe showed off the Birthday Card project.\n\nHomework\n\nMake another sprite.\nHave the sprite glide from the top left corner\, to the bottom right corner.\nOnce the sprite touches the right screen\, it says\, “Bananas”.\n\nIf you have any questions\, email me at abigail@ayclogic.com
URL:https://www.ayclogic.com/event/5-pm-scratch-1-abigail-12/
CATEGORIES:Scratch Class,Scratch Class Level 1
END:VEVENT
BEGIN:VEVENT
DTSTART;TZID=America/Los_Angeles:20241113T170000
DTEND;TZID=America/Los_Angeles:20241113T180000
DTSTAMP:20260421T060635
CREATED:20241114T082900Z
LAST-MODIFIED:20241114T082921Z
UID:27400-1731517200-1731520800@www.ayclogic.com
SUMMARY:5 PM – Scratch 1 – Abigail
DESCRIPTION:Today We\n\nWe started working on the Animal Crossing project.\n\nHomework\n\nMake a sprite start from the right side of the screen and moved to the left side of the screen.\nMake sure the sprite is switching costumes the entire time.\nOnce the sprite reaches the right side of the screen\, make it say “YAY!”\nLook at your mouse sprite as reference.\n\nIf you have any questions\, email me at abigail@ayclogic.com
URL:https://www.ayclogic.com/event/5-pm-scratch-1-abigail-11/
CATEGORIES:Scratch Class,Scratch Class Level 1
END:VEVENT
BEGIN:VEVENT
DTSTART;TZID=America/Los_Angeles:20241106T170000
DTEND;TZID=America/Los_Angeles:20241106T180000
DTSTAMP:20260421T060635
CREATED:20241107T020923Z
LAST-MODIFIED:20241107T020923Z
UID:27325-1730912400-1730916000@www.ayclogic.com
SUMMARY:5 PM – Scratch 1 – Abigail
DESCRIPTION:Today We\n\nWe finished working on the Drawing Shapes project.\n\nHomework\n \n\nFinish graphing the Octagon on Scratch.\nYou do NOT have to put a broadcast at the end of the octagon code.\nCLICK HERE to get access to the GRID (you will have to scroll down until you get to the grid):\n https://www.ayclogic.com/project-resources/\n\nIf you have any questions\, email me at abigail@ayclogic.com
URL:https://www.ayclogic.com/event/5-pm-scratch-1-abigail-10/
CATEGORIES:Scratch Class,Scratch Class Level 1
END:VEVENT
BEGIN:VEVENT
DTSTART;TZID=America/Los_Angeles:20241030T170000
DTEND;TZID=America/Los_Angeles:20241030T180000
DTSTAMP:20260421T060635
CREATED:20241031T010800Z
LAST-MODIFIED:20241031T010917Z
UID:27252-1730307600-1730311200@www.ayclogic.com
SUMMARY:5 PM – Scratch 1 – Abigail
DESCRIPTION:Today We\n\nWe went over X and Y coordinates.\nWe started working on the Drawing Shapes project.\n\nHomework\n \n\nFind out all the coordinate points for the octagon\, rectangle & triangle.\nFor the triangle\, the X for point 1\, is 50.\nProject Resources to find the grid: https://www.ayclogic.com/project-resources/\n\nIf you have any questions\, email me at abigail@ayclogic.com
URL:https://www.ayclogic.com/event/5-pm-scratch-1-abigail-9/
CATEGORIES:Scratch Class,Scratch Class Level 1
END:VEVENT
BEGIN:VEVENT
DTSTART;TZID=America/Los_Angeles:20241023T170000
DTEND;TZID=America/Los_Angeles:20241023T180000
DTSTAMP:20260421T060635
CREATED:20241024T022622Z
LAST-MODIFIED:20241024T022631Z
UID:27173-1729702800-1729706400@www.ayclogic.com
SUMMARY:5 PM – Scratch 1 – Abigail
DESCRIPTION:Today We\n\nWe finished working on the Funny Faces project.\nWe went over X and Y coordinates.\n\nHomework\n \n\nFind our the coordinate points for the rectangle & triangle.\nFor the triangle\, the X for point 1\, is 50.\n\nIf you have any questions\, email me at abigail@ayclogic.com
URL:https://www.ayclogic.com/event/5-pm-scratch-1-abigail-8/
CATEGORIES:Scratch Class,Scratch Class Level 1
END:VEVENT
BEGIN:VEVENT
DTSTART;TZID=America/Los_Angeles:20241016T170000
DTEND;TZID=America/Los_Angeles:20241016T180000
DTSTAMP:20260421T060635
CREATED:20241017T134327Z
LAST-MODIFIED:20241017T134327Z
UID:27115-1729098000-1729101600@www.ayclogic.com
SUMMARY:5 PM – Scratch 1 – Abigail
DESCRIPTION:Today We\n\nWe finished working on the Funny Faces project.\n\nHomework\n\nSet the coordinates for all of your sprites.\nLook at your other sprites for reference.\n\nIf you have any questions\, email me at abigail@ayclogic.com
URL:https://www.ayclogic.com/event/5-pm-scratch-1-abigail-7/
CATEGORIES:Scratch Class,Scratch Class Level 1
END:VEVENT
BEGIN:VEVENT
DTSTART;TZID=America/Los_Angeles:20241009T170000
DTEND;TZID=America/Los_Angeles:20241009T180000
DTSTAMP:20260421T060635
CREATED:20241010T064549Z
LAST-MODIFIED:20241010T064549Z
UID:27031-1728493200-1728496800@www.ayclogic.com
SUMMARY:5 PM – Scratch 1 – Abigail
DESCRIPTION:Today We\n\nWe finished working on the Ask Gobo project.\nWe started working on the Funny Faces project.\n\nHomework\n\nDo page 75 on your pink Scratch book.\nMake a Hair sprite\, Eyebrow sprite\, Bow tie sprite\, and Hat2 sprite.\nDon’t copy the hair sprite in the book\, make your own hair sprite.\n\n \nIf you have any questions\, email me at abigail@ayclogic.com
URL:https://www.ayclogic.com/event/5-pm-scratch-1-abigail-6/
CATEGORIES:Scratch Class,Scratch Class Level 1
END:VEVENT
BEGIN:VEVENT
DTSTART;TZID=America/Los_Angeles:20241002T170000
DTEND;TZID=America/Los_Angeles:20241002T180000
DTSTAMP:20260421T060635
CREATED:20241003T023446Z
LAST-MODIFIED:20241003T023446Z
UID:26974-1727888400-1727892000@www.ayclogic.com
SUMMARY:5 PM – Scratch 1 – Abigail
DESCRIPTION:Today We\n\nWe started working on the Ask Gobo project.\n\nHomework\n\nMake all the audio clips for all your responses. (You should 6 in total)\nPut the audio clips into the code.\n\nIf you have any questions\, email me at abigail@ayclogic.com
URL:https://www.ayclogic.com/event/5-pm-scratch-1-abigail-5/
CATEGORIES:Scratch Class,Scratch Class Level 1
END:VEVENT
BEGIN:VEVENT
DTSTART;TZID=America/Los_Angeles:20240925T170000
DTEND;TZID=America/Los_Angeles:20240925T180000
DTSTAMP:20260421T060635
CREATED:20240926T010744Z
LAST-MODIFIED:20240926T010744Z
UID:26889-1727283600-1727287200@www.ayclogic.com
SUMMARY:5 PM - Scratch 1 - Abigail
DESCRIPTION:Today We\n\nWe finished working on the Animal Race project.\nWe introduced the Ask Gobo project.\n\nHomework\n\nDo page 63\, on your pink Scratch book.\n\nIf you have any questions\, email me at abigail@ayclogic.com
URL:https://www.ayclogic.com/event/5-pm-scratch-1-abigail-4/
CATEGORIES:Scratch Class,Scratch Class Level 1
END:VEVENT
BEGIN:VEVENT
DTSTART;TZID=America/Los_Angeles:20240918T170000
DTEND;TZID=America/Los_Angeles:20240918T180000
DTSTAMP:20260421T060635
CREATED:20240919T014142Z
LAST-MODIFIED:20240919T014142Z
UID:26817-1726678800-1726682400@www.ayclogic.com
SUMMARY:5 PM - Scratch 1 - Abigail
DESCRIPTION:Today We\n\nWe started working on the Animal Race project.\n\nHomework\n\nDo pages 53-55 on your pink Scratch book.\n\nIf you have any questions\, email me at abigail@ayclogic.com
URL:https://www.ayclogic.com/event/5-pm-scratch-1-abigail-3/
CATEGORIES:Scratch Class,Scratch Class Level 1
END:VEVENT
BEGIN:VEVENT
DTSTART;TZID=America/Los_Angeles:20240911T080000
DTEND;TZID=America/Los_Angeles:20240911T170000
DTSTAMP:20260421T060635
CREATED:20240912T011018Z
LAST-MODIFIED:20240912T011018Z
UID:26746-1726041600-1726074000@www.ayclogic.com
SUMMARY:5 PM - Scratch 1 - Abigail
DESCRIPTION:Today We Did\n\nWe finished working on the Dino Dance project\n\nHomework\n\nWith your second sprite\, make up a dance sequence for that sprite.\nUse the Ballerina sprite as reference on how to do it.\nIf you have another Ballerina sprite\, you cannot do the same dance sequence twice.\n\nIf you have any questions\, email me at abigail@ayclogic.com
URL:https://www.ayclogic.com/event/5-pm-scratch-1-abigail-2/
CATEGORIES:Scratch Class,Scratch Class Level 1
END:VEVENT
BEGIN:VEVENT
DTSTART;TZID=America/Los_Angeles:20240904T170000
DTEND;TZID=America/Los_Angeles:20240904T180000
DTSTAMP:20260421T060635
CREATED:20240905T012819Z
LAST-MODIFIED:20240905T013345Z
UID:26678-1725469200-1725472800@www.ayclogic.com
SUMMARY:5 PM - Scratch 1 - Abigail
DESCRIPTION:Today We Did\n\nWe started working on the Dino Dance project\n\nHomework\n\nDo page 42 on your pink Scratch book. If you don’t have the book right now\, click this link to get access to the pdf: Scratch Pg. 41-42\n\nIf you have any questions\, email me at abigail@ayclogic.com
URL:https://www.ayclogic.com/event/5-pm-scratch-1-abigail/
CATEGORIES:Scratch Class,Scratch Class Level 1
END:VEVENT
BEGIN:VEVENT
DTSTART;TZID=America/Los_Angeles:20240813T190000
DTEND;TZID=America/Los_Angeles:20240813T200000
DTSTAMP:20260421T060635
CREATED:20240814T025317Z
LAST-MODIFIED:20240814T025339Z
UID:26448-1723575600-1723579200@www.ayclogic.com
SUMMARY:7 PM – Scratch 1 – Yitong
DESCRIPTION:Today We Did\n\nWent over the Practice Test.\n\nHomework\n\nNo homework! Review for the Final Test.\n\nAnimal Crossing\nVirtual Snow\nDove Flying\nSpace Dog and Hen Party\n\n\n\n\nEmail me for help: yitong@ayclogic.com
URL:https://www.ayclogic.com/event/7-pm-scratch-1-yitong-3/
CATEGORIES:Scratch Class,Scratch Class Level 1
END:VEVENT
BEGIN:VEVENT
DTSTART;TZID=America/Los_Angeles:20240807T180000
DTEND;TZID=America/Los_Angeles:20240807T190000
DTSTAMP:20260421T060635
CREATED:20240808T015650Z
LAST-MODIFIED:20240808T015756Z
UID:26349-1723053600-1723057200@www.ayclogic.com
SUMMARY:6 PM – Scratch 1 – Yitong
DESCRIPTION:Today We Did\n\nFinished the Virtual Snow project.\nDiscussed the Practice Test.\n\nHomework\n\nFinish the Practice Test: https://forms.gle/Nn2D7d2wQJjgCgEV6\n\nThis is due Monday night. It is worth 10% of your Final Test grade. \n\nEmail me for help: yitong@ayclogic.com
URL:https://www.ayclogic.com/event/6-pm-scratch-1-yitong-37/
CATEGORIES:Scratch Class,Scratch Class Level 1
END:VEVENT
BEGIN:VEVENT
DTSTART;TZID=America/Los_Angeles:20240731T180000
DTEND;TZID=America/Los_Angeles:20240731T190000
DTSTAMP:20260421T060635
CREATED:20240801T020044Z
LAST-MODIFIED:20240807T030115Z
UID:26239-1722448800-1722452400@www.ayclogic.com
SUMMARY:6 PM – Scratch 1 – Yitong
DESCRIPTION:Today We Did\n\nFinished the Punch the Dummy project.\nStarted the Virtual Snow project.\n\nHomework\n\nIn your pInk coding book\, do page 147 step # 7 (just the code).\nEmail me for help: yitong@ayclogic.com
URL:https://www.ayclogic.com/event/6-pm-scratch-1-yitong-36/
CATEGORIES:Scratch Class,Scratch Class Level 1
END:VEVENT
BEGIN:VEVENT
DTSTART;TZID=America/Los_Angeles:20240730T190000
DTEND;TZID=America/Los_Angeles:20240730T200000
DTSTAMP:20260421T060635
CREATED:20240731T030103Z
LAST-MODIFIED:20240731T030103Z
UID:26206-1722366000-1722369600@www.ayclogic.com
SUMMARY:6 PM – Scratch 1 – Yitong
DESCRIPTION:Today We Did\n\nFinished the Custom Birthday Card project.\nStarted the Punch the Dummy project.\n\nHomework\n\nDownload these two pictures and upload them into Scratch.\n\n\n\n\n\nEmail me for help: yitong@ayclogic.com
URL:https://www.ayclogic.com/event/6-pm-scratch-1-yitong-35/
CATEGORIES:Scratch Class,Scratch Class Level 1
END:VEVENT
BEGIN:VEVENT
DTSTART;TZID=America/Los_Angeles:20240724T180000
DTEND;TZID=America/Los_Angeles:20240724T190000
DTSTAMP:20260421T060635
CREATED:20240725T015924Z
LAST-MODIFIED:20240725T015924Z
UID:26127-1721844000-1721847600@www.ayclogic.com
SUMMARY:6 PM – Scratch 1 – Yitong
DESCRIPTION:Today We Did\n\nFinished the Window Cleaner project.\nStarted the Custom Birthday Card project.\n\nHomework\n\nFinish making your pictures sing the Happy Birthday song.\n\n\n\n\nCreate a Banner sprite and write “Happy Birthday Mom” on it.\n\n\n\n\nEmail me for help: yitong@ayclogic.com
URL:https://www.ayclogic.com/event/6-pm-scratch-1-yitong-34/
CATEGORIES:Scratch Class,Scratch Class Level 1
END:VEVENT
BEGIN:VEVENT
DTSTART;TZID=America/Los_Angeles:20240723T190000
DTEND;TZID=America/Los_Angeles:20240723T200000
DTSTAMP:20260421T060635
CREATED:20240724T025616Z
LAST-MODIFIED:20240724T030038Z
UID:26112-1721761200-1721764800@www.ayclogic.com
SUMMARY:6 PM – Scratch 1 – Yitong
DESCRIPTION:Today We Did\n\nContinued the Window Cleaner project.\n\nHomework\n\nDraw 4 more Splat costumes. They must be different colors and shapes.\nDownload 2 pictures onto your Scratch computer\, 1 picture of your mom and 1 picture of yourself.\nEmail me for help: yitong@ayclogic.com
URL:https://www.ayclogic.com/event/6-pm-scratch-1-yitong-33/
CATEGORIES:Scratch Class,Scratch Class Level 1
END:VEVENT
BEGIN:VEVENT
DTSTART;TZID=America/Los_Angeles:20240717T180000
DTEND;TZID=America/Los_Angeles:20240717T190000
DTSTAMP:20260421T060635
CREATED:20240718T020446Z
LAST-MODIFIED:20240718T020446Z
UID:26017-1721239200-1721242800@www.ayclogic.com
SUMMARY:6 PM – Scratch 1 – Yitong
DESCRIPTION:Today We Did\n\nFinished the Tunnel of Doom project.\nStarted the Window Cleaner project.\n\nHomework\n\nMake your clones show up inside this rectangle.\n\n\n\n\nEmail me for help: yitong@ayclogic.com
URL:https://www.ayclogic.com/event/6-pm-scratch-1-yitong-32/
CATEGORIES:Scratch Class,Scratch Class Level 1
END:VEVENT
BEGIN:VEVENT
DTSTART;TZID=America/Los_Angeles:20240716T190000
DTEND;TZID=America/Los_Angeles:20240716T200000
DTSTAMP:20260421T060635
CREATED:20240717T030449Z
LAST-MODIFIED:20240717T030723Z
UID:26000-1721156400-1721160000@www.ayclogic.com
SUMMARY:6 PM – Scratch 1 – Yitong
DESCRIPTION:Today We Did\n\nFinished the Animal Crossing project.\nStarted the Tunnel of Doom project.\n\nHomework\n\nMake a new Win Banner sprite.\nWhen we start the game\, make it hide.\nWhen the Cat sprite is Home!\, make it show.\nMake the Win Banner change color forever.\nEmail me for help: yitong@ayclogic.com
URL:https://www.ayclogic.com/event/6-pm-scratch-1-yitong-31/
CATEGORIES:Scratch Class,Scratch Class Level 1
END:VEVENT
BEGIN:VEVENT
DTSTART;TZID=America/Los_Angeles:20240710T180000
DTEND;TZID=America/Los_Angeles:20240710T190000
DTSTAMP:20260421T060635
CREATED:20240711T015728Z
LAST-MODIFIED:20240711T015728Z
UID:25916-1720634400-1720638000@www.ayclogic.com
SUMMARY:6 PM – Scratch 1 – Yitong
DESCRIPTION:Today We Did\n\nFinished X and Y Coordinates project.\nContinued Animal Crossing project.\n\nHomework\n\nMake the PenSize variable.\nChange the PenSize variable to a slider.\nInside the “forever” block\, put the PenSize variable into the “change pen color by 1.”\nFinish the Octagon in the X and Y Coordinates project.\n\n\n\n\nEmail me for help: yitong@ayclogic.com
URL:https://www.ayclogic.com/event/6-pm-scratch-1-yitong-30/
CATEGORIES:Scratch Class,Scratch Class Level 1
END:VEVENT
BEGIN:VEVENT
DTSTART;TZID=America/Los_Angeles:20240709T190000
DTEND;TZID=America/Los_Angeles:20240709T200000
DTSTAMP:20260421T060635
CREATED:20240710T025053Z
LAST-MODIFIED:20240711T003844Z
UID:25895-1720551600-1720555200@www.ayclogic.com
SUMMARY:7 PM – Scratch 1 – Yitong
DESCRIPTION:Today We Did\n\nFinished X and Y Coordinates project.\nContinued Animal Crossing project.\n\nHomework\nI will see you guys tomorrow! \n\nWhen the Bat sprite passes -175\, make it say something.\nFinish the Octagon in the X and Y Coordinates project.\n\n\n\n\nEmail me for help: yitong@ayclogic.com
URL:https://www.ayclogic.com/event/7-pm-scratch-1-yitong/
CATEGORIES:Scratch Class,Scratch Class Level 1
END:VEVENT
BEGIN:VEVENT
DTSTART;TZID=America/Los_Angeles:20240611T190000
DTEND;TZID=America/Los_Angeles:20240611T200000
DTSTAMP:20260421T060635
CREATED:20240612T030454Z
LAST-MODIFIED:20240612T030454Z
UID:25559-1718132400-1718136000@www.ayclogic.com
SUMMARY:7 PM - Scratch 1 - Gamas
DESCRIPTION:Today We Did\n\nWe made some progress with Animal Race.\nWe learned about Broadcast and When I Receive\nWe created Finish Line sprite.\nWe created Bat Win and Dog Win sprites.\n\nHomework\n\nMake changes in Animal Race project\nWhen green flag is click\, hide both the “Dog Win” and “Bat Win” sprites. You have to put some code in both sprites and the code that you need is in “Looks”\nWhen Dog touch Finish Line\, remove Stop All and replace with something that can make announcement to the Dog Win to show up. You need to use Broadcast and When I receive.\nWhen Bat touch Finish Line\, remove Stop All and replace with something that can make announcement to the Bat Win to show up. You need to use Broadcast and When I receive.
URL:https://www.ayclogic.com/event/7-pm-scratch-1-gamas-2/
CATEGORIES:Scratch Class,Scratch Class Level 1
END:VEVENT
BEGIN:VEVENT
DTSTART;TZID=America/Los_Angeles:20240603T190000
DTEND;TZID=America/Los_Angeles:20240603T200000
DTSTAMP:20260421T060635
CREATED:20240604T031609Z
LAST-MODIFIED:20240604T031609Z
UID:25321-1717441200-1717444800@www.ayclogic.com
SUMMARY:7 PM – Scratch 1 – Abigail
DESCRIPTION:What we did today\n\nWe started and finished the Virtual Snow project.\n\nHomework\n\nDo your Scratch Level 1 practice exam.\n\nIf you have any questions\, email me at abigail@ayclogic.com
URL:https://www.ayclogic.com/event/7-pm-scratch-1-abigail-9/
CATEGORIES:Scratch Class,Scratch Class Level 1
END:VEVENT
BEGIN:VEVENT
DTSTART;TZID=America/Los_Angeles:20240520T190000
DTEND;TZID=America/Los_Angeles:20240520T200000
DTSTAMP:20260421T060635
CREATED:20240521T030644Z
LAST-MODIFIED:20240521T030644Z
UID:25179-1716231600-1716235200@www.ayclogic.com
SUMMARY:7 PM – Scratch 1 – Abigail
DESCRIPTION:What we did today\n\nWe continued and finished working on the MHALL project.\n\nHomework\n\nFinish making the last two lines of the Happy Birthday song.\n\n\nIf you have any questions\, email me at abigail@ayclogic.com
URL:https://www.ayclogic.com/event/7-pm-scratch-1-abigail-8/
CATEGORIES:Scratch Class,Scratch Class Level 1
END:VEVENT
BEGIN:VEVENT
DTSTART;TZID=America/Los_Angeles:20240513T190000
DTEND;TZID=America/Los_Angeles:20240513T200000
DTSTAMP:20260421T060635
CREATED:20240514T030433Z
LAST-MODIFIED:20240514T030433Z
UID:25095-1715626800-1715630400@www.ayclogic.com
SUMMARY:7 PM – Scratch 1 – Abigail
DESCRIPTION:What we did today\n\nWe finished the Punch the Dummy project.\nWe started working on the MHALL project.\n\nHomework\n\nDuplicate your note sprite until you have 4 note sprites in total.\nThe notes of the sprite should be C(60)\, D(62)\, E(64)\, and G(67).\nChange the name of the sprite to its appropriate note.\nChange the color of each sprite.\nChange the broadcasts of the sprite to its appropriate note.\n\nIf you have any questions\, email me at abigail@ayclogic.com
URL:https://www.ayclogic.com/event/7-pm-scratch-1-abigail-7/
CATEGORIES:Scratch Class,Scratch Class Level 1
END:VEVENT
BEGIN:VEVENT
DTSTART;TZID=America/Los_Angeles:20240506T190000
DTEND;TZID=America/Los_Angeles:20240506T200000
DTSTAMP:20260421T060635
CREATED:20240507T025242Z
LAST-MODIFIED:20240507T025242Z
UID:25024-1715022000-1715025600@www.ayclogic.com
SUMMARY:7 PM – Scratch 1 – Abigail (Yitong Sub)
DESCRIPTION:What we did today\n\nWe started the Punch the Dummy project.\n\nHomework\n\nIn the Head sprite\, decorate the Dummy.\nMake a happy costume and a sad costume.\nLabel the costumes.\n\nIf you have any questions\, email me at abigail@ayclogic.com
URL:https://www.ayclogic.com/event/7-pm-scratch-1-abigail-yitong-sub/
CATEGORIES:Scratch Class,Scratch Class Level 1
END:VEVENT
BEGIN:VEVENT
DTSTART;TZID=America/Los_Angeles:20240429T190000
DTEND;TZID=America/Los_Angeles:20240429T200000
DTSTAMP:20260421T060635
CREATED:20240430T030700Z
LAST-MODIFIED:20240430T030700Z
UID:24940-1714417200-1714420800@www.ayclogic.com
SUMMARY:7 PM - Scratch 1 - Abigail
DESCRIPTION:What we did today\n\nWe finished working on the Window Cleaner project.\n\nHomework\n\nDo pages 140-141 on your pink Scratch book.\n\nIf you have any questions\, email me at abigail@ayclogic.com
URL:https://www.ayclogic.com/event/7-pm-scratch-1-abigail-6/
CATEGORIES:Scratch Class,Scratch Class Level 1
END:VEVENT
BEGIN:VEVENT
DTSTART;TZID=America/Los_Angeles:20240422T190000
DTEND;TZID=America/Los_Angeles:20240422T200000
DTSTAMP:20260421T060635
CREATED:20240423T030702Z
LAST-MODIFIED:20240423T030750Z
UID:24848-1713812400-1713816000@www.ayclogic.com
SUMMARY:7 PM - Scratch 1 - Abigail
DESCRIPTION:What we did today\n\nWe finished working on the Tunnel of Doom project.\nWe introduced the Window Cleaner project.\n\nHomework\n\nDo pages 135 and 136 in your pink Scratch book.\nCreate 4 costumes of the splat sprite.\nDo not copy the splats in the book\, make your own.\n\nIf you have any questions\, email me at abigail@ayclogic.com
URL:https://www.ayclogic.com/event/6-pm-scratch-1-abigail-46/
CATEGORIES:Scratch Class,Scratch Class Level 1
END:VEVENT
BEGIN:VEVENT
DTSTART;TZID=America/Los_Angeles:20240415T190000
DTEND;TZID=America/Los_Angeles:20240415T200000
DTSTAMP:20260421T060635
CREATED:20240416T030545Z
LAST-MODIFIED:20240416T030545Z
UID:24779-1713207600-1713211200@www.ayclogic.com
SUMMARY:7 PM – Scratch 1 – Abigail
DESCRIPTION:What we did today\n\nWe finished working on the Spiralizer project.\nWe introduced the Tunnel of Doom project.\n\nHomework\n\nDo pages 124-127 on your pink Scratch book.\nDo not copy the maze in the book\, make your own design.\n\nIf you have any questions\, email me at abigail@ayclogic.com
URL:https://www.ayclogic.com/event/7-pm-scratch-1-abigail-5/
CATEGORIES:Scratch Class,Scratch Class Level 1
END:VEVENT
END:VCALENDAR