BEGIN:VCALENDAR
VERSION:2.0
PRODID:-//American Young Coder - ECPv6.10.1.1//NONSGML v1.0//EN
CALSCALE:GREGORIAN
METHOD:PUBLISH
X-ORIGINAL-URL:https://www.ayclogic.com
X-WR-CALDESC:Events for American Young Coder
REFRESH-INTERVAL;VALUE=DURATION:PT1H
X-Robots-Tag:noindex
X-PUBLISHED-TTL:PT1H
BEGIN:VTIMEZONE
TZID:America/Los_Angeles
BEGIN:DAYLIGHT
TZOFFSETFROM:-0800
TZOFFSETTO:-0700
TZNAME:PDT
DTSTART:20240310T100000
END:DAYLIGHT
BEGIN:STANDARD
TZOFFSETFROM:-0700
TZOFFSETTO:-0800
TZNAME:PST
DTSTART:20241103T090000
END:STANDARD
END:VTIMEZONE
BEGIN:VEVENT
DTSTART;TZID=America/Los_Angeles:20240710T180000
DTEND;TZID=America/Los_Angeles:20240710T190000
DTSTAMP:20260421T091830
CREATED:20240711T015728Z
LAST-MODIFIED:20240711T015728Z
UID:25916-1720634400-1720638000@www.ayclogic.com
SUMMARY:6 PM – Scratch 1 – Yitong
DESCRIPTION:Today We Did\n\nFinished X and Y Coordinates project.\nContinued Animal Crossing project.\n\nHomework\n\nMake the PenSize variable.\nChange the PenSize variable to a slider.\nInside the “forever” block\, put the PenSize variable into the “change pen color by 1.”\nFinish the Octagon in the X and Y Coordinates project.\n\n\n\n\nEmail me for help: yitong@ayclogic.com
URL:https://www.ayclogic.com/event/6-pm-scratch-1-yitong-30/
CATEGORIES:Scratch Class,Scratch Class Level 1
END:VEVENT
BEGIN:VEVENT
DTSTART;TZID=America/Los_Angeles:20240709T190000
DTEND;TZID=America/Los_Angeles:20240709T200000
DTSTAMP:20260421T091830
CREATED:20240710T025053Z
LAST-MODIFIED:20240711T003844Z
UID:25895-1720551600-1720555200@www.ayclogic.com
SUMMARY:7 PM – Scratch 1 – Yitong
DESCRIPTION:Today We Did\n\nFinished X and Y Coordinates project.\nContinued Animal Crossing project.\n\nHomework\nI will see you guys tomorrow! \n\nWhen the Bat sprite passes -175\, make it say something.\nFinish the Octagon in the X and Y Coordinates project.\n\n\n\n\nEmail me for help: yitong@ayclogic.com
URL:https://www.ayclogic.com/event/7-pm-scratch-1-yitong/
CATEGORIES:Scratch Class,Scratch Class Level 1
END:VEVENT
BEGIN:VEVENT
DTSTART;TZID=America/Los_Angeles:20240611T190000
DTEND;TZID=America/Los_Angeles:20240611T200000
DTSTAMP:20260421T091830
CREATED:20240612T030454Z
LAST-MODIFIED:20240612T030454Z
UID:25559-1718132400-1718136000@www.ayclogic.com
SUMMARY:7 PM - Scratch 1 - Gamas
DESCRIPTION:Today We Did\n\nWe made some progress with Animal Race.\nWe learned about Broadcast and When I Receive\nWe created Finish Line sprite.\nWe created Bat Win and Dog Win sprites.\n\nHomework\n\nMake changes in Animal Race project\nWhen green flag is click\, hide both the “Dog Win” and “Bat Win” sprites. You have to put some code in both sprites and the code that you need is in “Looks”\nWhen Dog touch Finish Line\, remove Stop All and replace with something that can make announcement to the Dog Win to show up. You need to use Broadcast and When I receive.\nWhen Bat touch Finish Line\, remove Stop All and replace with something that can make announcement to the Bat Win to show up. You need to use Broadcast and When I receive.
URL:https://www.ayclogic.com/event/7-pm-scratch-1-gamas-2/
CATEGORIES:Scratch Class,Scratch Class Level 1
END:VEVENT
BEGIN:VEVENT
DTSTART;TZID=America/Los_Angeles:20240603T190000
DTEND;TZID=America/Los_Angeles:20240603T200000
DTSTAMP:20260421T091830
CREATED:20240604T031609Z
LAST-MODIFIED:20240604T031609Z
UID:25321-1717441200-1717444800@www.ayclogic.com
SUMMARY:7 PM – Scratch 1 – Abigail
DESCRIPTION:What we did today\n\nWe started and finished the Virtual Snow project.\n\nHomework\n\nDo your Scratch Level 1 practice exam.\n\nIf you have any questions\, email me at abigail@ayclogic.com
URL:https://www.ayclogic.com/event/7-pm-scratch-1-abigail-9/
CATEGORIES:Scratch Class,Scratch Class Level 1
END:VEVENT
BEGIN:VEVENT
DTSTART;TZID=America/Los_Angeles:20240520T190000
DTEND;TZID=America/Los_Angeles:20240520T200000
DTSTAMP:20260421T091830
CREATED:20240521T030644Z
LAST-MODIFIED:20240521T030644Z
UID:25179-1716231600-1716235200@www.ayclogic.com
SUMMARY:7 PM – Scratch 1 – Abigail
DESCRIPTION:What we did today\n\nWe continued and finished working on the MHALL project.\n\nHomework\n\nFinish making the last two lines of the Happy Birthday song.\n\n\nIf you have any questions\, email me at abigail@ayclogic.com
URL:https://www.ayclogic.com/event/7-pm-scratch-1-abigail-8/
CATEGORIES:Scratch Class,Scratch Class Level 1
END:VEVENT
BEGIN:VEVENT
DTSTART;TZID=America/Los_Angeles:20240513T190000
DTEND;TZID=America/Los_Angeles:20240513T200000
DTSTAMP:20260421T091830
CREATED:20240514T030433Z
LAST-MODIFIED:20240514T030433Z
UID:25095-1715626800-1715630400@www.ayclogic.com
SUMMARY:7 PM – Scratch 1 – Abigail
DESCRIPTION:What we did today\n\nWe finished the Punch the Dummy project.\nWe started working on the MHALL project.\n\nHomework\n\nDuplicate your note sprite until you have 4 note sprites in total.\nThe notes of the sprite should be C(60)\, D(62)\, E(64)\, and G(67).\nChange the name of the sprite to its appropriate note.\nChange the color of each sprite.\nChange the broadcasts of the sprite to its appropriate note.\n\nIf you have any questions\, email me at abigail@ayclogic.com
URL:https://www.ayclogic.com/event/7-pm-scratch-1-abigail-7/
CATEGORIES:Scratch Class,Scratch Class Level 1
END:VEVENT
BEGIN:VEVENT
DTSTART;TZID=America/Los_Angeles:20240506T190000
DTEND;TZID=America/Los_Angeles:20240506T200000
DTSTAMP:20260421T091830
CREATED:20240507T025242Z
LAST-MODIFIED:20240507T025242Z
UID:25024-1715022000-1715025600@www.ayclogic.com
SUMMARY:7 PM – Scratch 1 – Abigail (Yitong Sub)
DESCRIPTION:What we did today\n\nWe started the Punch the Dummy project.\n\nHomework\n\nIn the Head sprite\, decorate the Dummy.\nMake a happy costume and a sad costume.\nLabel the costumes.\n\nIf you have any questions\, email me at abigail@ayclogic.com
URL:https://www.ayclogic.com/event/7-pm-scratch-1-abigail-yitong-sub/
CATEGORIES:Scratch Class,Scratch Class Level 1
END:VEVENT
BEGIN:VEVENT
DTSTART;TZID=America/Los_Angeles:20240429T190000
DTEND;TZID=America/Los_Angeles:20240429T200000
DTSTAMP:20260421T091830
CREATED:20240430T030700Z
LAST-MODIFIED:20240430T030700Z
UID:24940-1714417200-1714420800@www.ayclogic.com
SUMMARY:7 PM - Scratch 1 - Abigail
DESCRIPTION:What we did today\n\nWe finished working on the Window Cleaner project.\n\nHomework\n\nDo pages 140-141 on your pink Scratch book.\n\nIf you have any questions\, email me at abigail@ayclogic.com
URL:https://www.ayclogic.com/event/7-pm-scratch-1-abigail-6/
CATEGORIES:Scratch Class,Scratch Class Level 1
END:VEVENT
BEGIN:VEVENT
DTSTART;TZID=America/Los_Angeles:20240422T190000
DTEND;TZID=America/Los_Angeles:20240422T200000
DTSTAMP:20260421T091830
CREATED:20240423T030702Z
LAST-MODIFIED:20240423T030750Z
UID:24848-1713812400-1713816000@www.ayclogic.com
SUMMARY:7 PM - Scratch 1 - Abigail
DESCRIPTION:What we did today\n\nWe finished working on the Tunnel of Doom project.\nWe introduced the Window Cleaner project.\n\nHomework\n\nDo pages 135 and 136 in your pink Scratch book.\nCreate 4 costumes of the splat sprite.\nDo not copy the splats in the book\, make your own.\n\nIf you have any questions\, email me at abigail@ayclogic.com
URL:https://www.ayclogic.com/event/6-pm-scratch-1-abigail-46/
CATEGORIES:Scratch Class,Scratch Class Level 1
END:VEVENT
BEGIN:VEVENT
DTSTART;TZID=America/Los_Angeles:20240415T190000
DTEND;TZID=America/Los_Angeles:20240415T200000
DTSTAMP:20260421T091830
CREATED:20240416T030545Z
LAST-MODIFIED:20240416T030545Z
UID:24779-1713207600-1713211200@www.ayclogic.com
SUMMARY:7 PM – Scratch 1 – Abigail
DESCRIPTION:What we did today\n\nWe finished working on the Spiralizer project.\nWe introduced the Tunnel of Doom project.\n\nHomework\n\nDo pages 124-127 on your pink Scratch book.\nDo not copy the maze in the book\, make your own design.\n\nIf you have any questions\, email me at abigail@ayclogic.com
URL:https://www.ayclogic.com/event/7-pm-scratch-1-abigail-5/
CATEGORIES:Scratch Class,Scratch Class Level 1
END:VEVENT
BEGIN:VEVENT
DTSTART;TZID=America/Los_Angeles:20240408T190000
DTEND;TZID=America/Los_Angeles:20240408T200000
DTSTAMP:20260421T091830
CREATED:20240409T030412Z
LAST-MODIFIED:20240409T030412Z
UID:24704-1712602800-1712606400@www.ayclogic.com
SUMMARY:7 PM – Scratch 1 – Abigail
DESCRIPTION:What we did today\n\nWe finished working on the Animal Crossing project.\nWe introduced the Spiralizer project.\n\nHomework\n\nMake a sprite glide from one screen to another screen.\nWhen that sprite touches the other screen\, do motion detection and make the sprite say something.\nUse your other sprites as reference.\n\nIf you have any questions\, email me at abigail@ayclogic.com
URL:https://www.ayclogic.com/event/7-pm-scratch-1-abigail-4/
CATEGORIES:Scratch Class,Scratch Class Level 1
END:VEVENT
BEGIN:VEVENT
DTSTART;TZID=America/Los_Angeles:20240401T190000
DTEND;TZID=America/Los_Angeles:20240401T200000
DTSTAMP:20260421T091830
CREATED:20240402T030553Z
LAST-MODIFIED:20240402T030553Z
UID:24584-1711998000-1712001600@www.ayclogic.com
SUMMARY:7 PM – Scratch 1 – Abigail
DESCRIPTION:What we did today\n\nWe finished working on the Drawing Shapes project.\nWe started working on the Animal Crossing project.\n\nHomework\n\nMake a sprite start from the RIGHT side of the screen\, and move to the LEFT SIDE.\nChoose any sprite you want\, but it must have costumes.\nUse the mouse sprite code as reference.\n\nIf you have any questions\, email me at abigail@ayclogic.com
URL:https://www.ayclogic.com/event/7-pm-scratch-1-abigail-3/
CATEGORIES:Scratch Class,Scratch Class Level 1
END:VEVENT
BEGIN:VEVENT
DTSTART;TZID=America/Los_Angeles:20240325T190000
DTEND;TZID=America/Los_Angeles:20240325T200000
DTSTAMP:20260421T091830
CREATED:20240326T030410Z
LAST-MODIFIED:20240326T030410Z
UID:24520-1711393200-1711396800@www.ayclogic.com
SUMMARY:7 PM - Scratch 1 - Abigail
DESCRIPTION:What we did today\n\nWe finished working on the Funny Faces.\nWe learned about how to use X and Y coordinates and how to set coordinates.\nWe started working on our Drawing Shapes project.\n\nHomework\n\nWrite down ALL the coordinates for each point for ALL 4 shapes.\nEither write it on paper\, notebook\, on your phone\, laptop. Just have the coordinates ready for next week.\n\n \nIf you have any questions\, email me at abigail@ayclogic.com
URL:https://www.ayclogic.com/event/7-pm-scratch-1-abigail-2/
CATEGORIES:Scratch Class,Scratch Class Level 1
END:VEVENT
BEGIN:VEVENT
DTSTART;TZID=America/Los_Angeles:20240323T180000
DTEND;TZID=America/Los_Angeles:20240323T190000
DTSTAMP:20260421T091830
CREATED:20240325T220613Z
LAST-MODIFIED:20240325T220613Z
UID:24516-1711216800-1711220400@www.ayclogic.com
SUMMARY:6 PM – Scratch 1 – Yitong Liu
DESCRIPTION:Today we:\n\nTook the Scratch Level 1 Final Test.\n\nHomework:\n\nNone! I will grade your tests. Please wait for your score to be released.\n\nNO CLASS ON MARCH 30!!! \nSubmit your homework here: yitong@ayclogic.com \n\nHomework is due by FRIDAY NIGHT.\nDon’t forget to share your project\, otherwise\, I cannot see it.\n\nPoints:\n\nSadev:      IIIII I\nPahan:      IIIII IIIII\nRoman:     IIIII IIIII\nBenjamin:  II\nEmma:      II\n\nSTUDENTS OF THE MONTH!!!\n(NOVEMBER)\n\nSadev\nRoman\nPahan\n\nHow to submit homework:\n\nGo to your email and compose a new message.\n\n\n\n\nGo to the coding homework calendar to copy my email address and paste it into the email message.\n\n\n\n\n\nGo to your project and make sure it is SHARED. Copy the link and paste it into the email message.\n\n\n\n\n\n\nThis is what your email message should look like when you’re done.
URL:https://www.ayclogic.com/event/6-pm-scratch-1-yitong-liu-16/
CATEGORIES:Scratch Class,Scratch Class Level 1
END:VEVENT
BEGIN:VEVENT
DTSTART;TZID=America/Los_Angeles:20240319T180000
DTEND;TZID=America/Los_Angeles:20240319T190000
DTSTAMP:20260421T091830
CREATED:20240320T021350Z
LAST-MODIFIED:20240322T233359Z
UID:24461-1710871200-1710874800@www.ayclogic.com
SUMMARY:6 PM – Scratch 1 – Yitong
DESCRIPTION:Today we:\n\nTook the Final Test.\n\nHomework:\n\nNothing! I will grade your tests soon. If you pass (70% or higher) then no class next week. If you do not pass\, you will have to come to class.\n\nAll tests are graded. Everyone passed! \nNO CLASS NEXT WEEK! \nSend me your project here: yitong@ayclogic.com \n\nHomework is due MONDAY NIGHT. You can submit it earlier\, I will check it as soon as I can.\nMake sure to SHARE your project. Otherwise\, I cannot see it.\n\nHow to submit homework:\n\nGo to your email and compose a new message.\n\n\n\n\nGo to the coding homework calendar to copy my email address and paste it into the email message.\n\n\n\n\n\nGo to your project and make sure it is SHARED. Copy the link and paste it into the email message.\n\n\n\n\n\n\nThis is what your email message should look like when you’re done.
URL:https://www.ayclogic.com/event/6-pm-scratch-1-yitong-29/
CATEGORIES:Scratch Class,Scratch Class Level 1
END:VEVENT
BEGIN:VEVENT
DTSTART;TZID=America/Los_Angeles:20240318T190000
DTEND;TZID=America/Los_Angeles:20240318T200000
DTSTAMP:20260421T091830
CREATED:20240319T055532Z
LAST-MODIFIED:20240319T055532Z
UID:24441-1710788400-1710792000@www.ayclogic.com
SUMMARY:7 PM - Scratch 1 - Abigail
DESCRIPTION:What we did today\n\n We finished working on the Ask Gobo project.\nWe started working on the Funny Faces project.\n\nHomework\n\nMake the Hat2\, Hair\, Bow tie\, Eyebrows\, and Sunglasses sprite.\nThe Sunglasses sprite is in the sprite gallery\, you do not need to draw the sprite.\nDo not copy the Hair sprite in the book\, draw your own hair sprite.\n\n \nIf you have any questions\, email me at abigail@ayclogic.com
URL:https://www.ayclogic.com/event/7-pm-scratch-1-abigail/
CATEGORIES:Scratch Class,Scratch Class Level 1
END:VEVENT
BEGIN:VEVENT
DTSTART;TZID=America/Los_Angeles:20240316T180000
DTEND;TZID=America/Los_Angeles:20240316T190000
DTSTAMP:20260421T091830
CREATED:20240320T005905Z
LAST-MODIFIED:20240320T005905Z
UID:24456-1710612000-1710615600@www.ayclogic.com
SUMMARY:6 PM – Scratch 1 – Yitong Liu
DESCRIPTION:Today we:\n\nWent over the practice test.\n\nHomework:\n\nStudy for the Final Test next week.\n\nSubmit your homework here: yitong@ayclogic.com \n\nHomework is due by FRIDAY NIGHT.\nDon’t forget to share your project\, otherwise\, I cannot see it.\n\nPoints:\n\nSadev:      IIIII I\nPahan:      IIIII IIIII\nRoman:     IIIII IIIII\nBenjamin:  II\nEmma:      II\n\nSTUDENTS OF THE MONTH!!!\n(NOVEMBER)\n\nSadev\nRoman\nPahan\n\nHow to submit homework:\n\nGo to your email and compose a new message.\n\n\n\n\nGo to the coding homework calendar to copy my email address and paste it into the email message.\n\n\n\n\n\nGo to your project and make sure it is SHARED. Copy the link and paste it into the email message.\n\n\n\n\n\n\nThis is what your email message should look like when you’re done.
URL:https://www.ayclogic.com/event/6-pm-scratch-1-yitong-liu-15/
CATEGORIES:Scratch Class,Scratch Class Level 1
END:VEVENT
BEGIN:VEVENT
DTSTART;TZID=America/Los_Angeles:20240312T180000
DTEND;TZID=America/Los_Angeles:20240312T190000
DTSTAMP:20260421T091830
CREATED:20240313T021159Z
LAST-MODIFIED:20240313T021159Z
UID:24311-1710266400-1710270000@www.ayclogic.com
SUMMARY:6 PM – Scratch 1 – Yitong
DESCRIPTION:Today we:\n\nFinished reviewing the Scratch Level 1 Practice Test.\n\nHomework:\n\nStudy for the test next week.\nYou will need to know:\n\n“Broadcast” and “When I Receive”\nHow to make\, control\, and delete clones\nX and Y\n\nX controls left (-) and right (+)\nY controls up (+) and down (-)\n\n\n\n\n\nSend me your project here: yitong@ayclogic.com \n\nHomework is due MONDAY NIGHT. You can submit it earlier\, I will check it as soon as I can.\nMake sure to SHARE your project. Otherwise\, I cannot see it.\n\nHow to submit homework:\n\nGo to your email and compose a new message.\n\n\n\n\nGo to the coding homework calendar to copy my email address and paste it into the email message.\n\n\n\n\n\nGo to your project and make sure it is SHARED. Copy the link and paste it into the email message.\n\n\n\n\n\n\nThis is what your email message should look like when you’re done.
URL:https://www.ayclogic.com/event/6-pm-scratch-1-yitong-28/
CATEGORIES:Scratch Class,Scratch Class Level 1
END:VEVENT
BEGIN:VEVENT
DTSTART;TZID=America/Los_Angeles:20240311T190000
DTEND;TZID=America/Los_Angeles:20240311T200000
DTSTAMP:20260421T091830
CREATED:20240312T062522Z
LAST-MODIFIED:20240312T062522Z
UID:24304-1710183600-1710187200@www.ayclogic.com
SUMMARY:7 PM – Scratch Level 1 – Allison
DESCRIPTION:Today we:\n\nContinued the Ask Gobo project\nCoded Gobo to have different responses depending on which number is picked\n\nHomework:\n\nRecord your voice saying Gobo’s different replies and code Gobo to play that audio.\n\nExample:\n\nIf ReplyNumber = 3\, then Gobo says “Maybe…”\nRecord yourself saying “Maybe…” and code Gobo to play that sound if ReplyNumber = 3\n\n\nDo this for all 6 of Gobo’s replies. See the example we did in class for ReplyNumber = 1 for help.\n\n\nContact us at gamas@ayclogic.com or allison@ayclogic.com if you have any questions or need any help.
URL:https://www.ayclogic.com/event/7-pm-scratch-level-1-allison-28/
CATEGORIES:Scratch Class,Scratch Class Level 1
END:VEVENT
BEGIN:VEVENT
DTSTART;TZID=America/Los_Angeles:20240309T180000
DTEND;TZID=America/Los_Angeles:20240309T190000
DTSTAMP:20260421T091830
CREATED:20240310T033933Z
LAST-MODIFIED:20240310T033933Z
UID:24258-1710007200-1710010800@www.ayclogic.com
SUMMARY:6 PM – Scratch 1 – Yitong Liu
DESCRIPTION:Today we:\n\nWent over the practice test.\n\nHomework:\n\nFinish and submit the Scratch Level 1 Practice Test if you have not done so yet.\nStudy for the Final Test.\n\nSubmit your homework here: yitong@ayclogic.com \n\nHomework is due by FRIDAY NIGHT.\nDon’t forget to share your project\, otherwise\, I cannot see it.\n\nPoints:\n\nSadev:      IIIII I\nPahan:      IIIII IIIII\nRoman:     IIIII IIIII\nBenjamin:  II\nEmma:      II\n\nSTUDENTS OF THE MONTH!!!\n(NOVEMBER)\n\nSadev\nRoman\nPahan\n\nHow to submit homework:\n\nGo to your email and compose a new message.\n\n\n\n\nGo to the coding homework calendar to copy my email address and paste it into the email message.\n\n\n\n\n\nGo to your project and make sure it is SHARED. Copy the link and paste it into the email message.\n\n\n\n\n\n\nThis is what your email message should look like when you’re done.
URL:https://www.ayclogic.com/event/6-pm-scratch-1-yitong-liu-14/
CATEGORIES:Scratch Class,Scratch Class Level 1
END:VEVENT
BEGIN:VEVENT
DTSTART;TZID=America/Los_Angeles:20240305T180000
DTEND;TZID=America/Los_Angeles:20240305T190000
DTSTAMP:20260421T091830
CREATED:20240306T044745Z
LAST-MODIFIED:20240306T044745Z
UID:24199-1709661600-1709665200@www.ayclogic.com
SUMMARY:6 PM – Scratch 1 – Yitong
DESCRIPTION:Today we:\n\nReviewed the Scratch Level 1 Practice Test.\n\nHomework:\n\nStudy for the test\, we will continue going over the practice test next week.\n\nSend me your project here: yitong@ayclogic.com \n\nHomework is due MONDAY NIGHT. You can submit it earlier\, I will check it as soon as I can.\nMake sure to SHARE your project. Otherwise\, I cannot see it.\n\nHow to submit homework:\n\nGo to your email and compose a new message.\n\n\n\n\nGo to the coding homework calendar to copy my email address and paste it into the email message.\n\n\n\n\n\nGo to your project and make sure it is SHARED. Copy the link and paste it into the email message.\n\n\n\n\n\n\nThis is what your email message should look like when you’re done.
URL:https://www.ayclogic.com/event/6-pm-scratch-1-yitong-27/
CATEGORIES:Scratch Class,Scratch Class Level 1
END:VEVENT
BEGIN:VEVENT
DTSTART;TZID=America/Los_Angeles:20240304T190000
DTEND;TZID=America/Los_Angeles:20240304T200000
DTSTAMP:20260421T091830
CREATED:20240306T091539Z
LAST-MODIFIED:20240309T044719Z
UID:24206-1709578800-1709582400@www.ayclogic.com
SUMMARY:7 PM – Scratch Level 1 – Allison
DESCRIPTION:Today we:\n\nCoded the Banner sprite to hide when the game starts\nCoded the Banner sprite to switch to a costume and show when the Dog wins\nCoded the Banner sprite to switch to a costume and show when the Bat wins\nFinished the Animal Race project\n\nHomework:\n\nCreate a new project and title it “Ask Gobo”\nRead and do the codes in the Scratch book pg. 62-63.\n\nClick on this link to see the pages: Scratch Level 1 Pg. 62-63\n\n\nContact us at gamas@ayclogic.com or allison@ayclogic.com if you have any questions or need any help.
URL:https://www.ayclogic.com/event/7-pm-scratch-level-1-allison-27/
CATEGORIES:Scratch Class,Scratch Class Level 1
END:VEVENT
BEGIN:VEVENT
DTSTART;TZID=America/Los_Angeles:20240302T180000
DTEND;TZID=America/Los_Angeles:20240302T190000
DTSTAMP:20260421T091830
CREATED:20240303T030613Z
LAST-MODIFIED:20240303T030613Z
UID:24151-1709402400-1709406000@www.ayclogic.com
SUMMARY:6 PM – Scratch 1 – Yitong Liu
DESCRIPTION:Today we:\n\nFinished the Virtual Snow project.\nReviewed the practice test.\n\nHomework:\n\nFinish and submit the Scratch Level 1 Practice Test.\n\nSubmit your homework here: yitong@ayclogic.com \n\nHomework is due by FRIDAY NIGHT.\nDon’t forget to share your project\, otherwise\, I cannot see it.\n\nPoints:\n\nSadev:      IIIII I\nPahan:      IIIII IIIII\nRoman:     IIIII IIIII\nBenjamin:  II\nEmma:      II\n\nSTUDENTS OF THE MONTH!!!\n(NOVEMBER)\n\nSadev\nRoman\nPahan\n\nHow to submit homework:\n\nGo to your email and compose a new message.\n\n\n\n\nGo to the coding homework calendar to copy my email address and paste it into the email message.\n\n\n\n\n\nGo to your project and make sure it is SHARED. Copy the link and paste it into the email message.\n\n\n\n\n\n\nThis is what your email message should look like when you’re done.
URL:https://www.ayclogic.com/event/6-pm-scratch-1-yitong-liu-13/
CATEGORIES:Scratch Class,Scratch Class Level 1
END:VEVENT
BEGIN:VEVENT
DTSTART;TZID=America/Los_Angeles:20240227T180000
DTEND;TZID=America/Los_Angeles:20240227T190000
DTSTAMP:20260421T091830
CREATED:20240228T030357Z
LAST-MODIFIED:20240228T030357Z
UID:24094-1709056800-1709060400@www.ayclogic.com
SUMMARY:6 PM – Scratch 1 – Yitong
DESCRIPTION:Today we:\n\nFinished the Virtual Snow project.\nWent over the Scratch Level 1 Practice Test.\n\nHomework:\n\nFinish the Scratch Level 1 Practice Test.\n\nSend me your project here: yitong@ayclogic.com \n\nHomework is due MONDAY NIGHT. You can submit it earlier\, I will check it as soon as I can.\nMake sure to SHARE your project. Otherwise\, I cannot see it.\n\nHow to submit homework:\n\nGo to your email and compose a new message.\n\n\n\n\nGo to the coding homework calendar to copy my email address and paste it into the email message.\n\n\n\n\n\nGo to your project and make sure it is SHARED. Copy the link and paste it into the email message.\n\n\n\n\n\n\nThis is what your email message should look like when you’re done.
URL:https://www.ayclogic.com/event/6-pm-scratch-1-yitong-26/
CATEGORIES:Scratch Class,Scratch Class Level 1
END:VEVENT
BEGIN:VEVENT
DTSTART;TZID=America/Los_Angeles:20240226T190000
DTEND;TZID=America/Los_Angeles:20240226T200000
DTSTAMP:20260421T091830
CREATED:20240228T000049Z
LAST-MODIFIED:20240228T000049Z
UID:24089-1708974000-1708977600@www.ayclogic.com
SUMMARY:7 PM – Scratch Level 1 – Allison
DESCRIPTION:Today we:\n\nContinued the Animal Race project\nCoded the Dog sprite to move and switch costumes when the player presses and releases the “m” key\nDrew the costume for the Finish Line sprite \n\nHomework:\n\nContinue in your Animal Race project: \nAdd a Bat sprite\nCode the Bat sprite to move and switch costumes ONLY when the player presses and releases the “z” key.\n \n\nHint: look at the Dog sprite’s code for help \n\n\nContact us at gamas@ayclogic.com or allison@ayclogic.com if you have any questions or need any help.
URL:https://www.ayclogic.com/event/7-pm-scratch-level-1-allison-26/
CATEGORIES:Scratch Class,Scratch Class Level 1
END:VEVENT
BEGIN:VEVENT
DTSTART;TZID=America/Los_Angeles:20240224T180000
DTEND;TZID=America/Los_Angeles:20240224T190000
DTSTAMP:20260421T091830
CREATED:20240225T030145Z
LAST-MODIFIED:20240225T030145Z
UID:24046-1708797600-1708801200@www.ayclogic.com
SUMMARY:6 PM – Scratch 1 – Yitong Liu
DESCRIPTION:Today we:\n\nFinished the Virtual Snow project.\n\nHomework:\n\nIn your pink coding book\, do page 149\, steps #10-12.\n\nSubmit your homework here: yitong@ayclogic.com \n\nHomework is due by FRIDAY NIGHT.\nDon’t forget to share your project\, otherwise\, I cannot see it.\n\nPoints:\n\nSadev:      IIIII I\nPahan:      IIIII IIIII\nRoman:     IIIII IIIII\nBenjamin:  II\nEmma:      II\n\nSTUDENTS OF THE MONTH!!!\n(NOVEMBER)\n\nSadev\nRoman\nPahan\n\nHow to submit homework:\n\nGo to your email and compose a new message.\n\n\n\n\nGo to the coding homework calendar to copy my email address and paste it into the email message.\n\n\n\n\n\nGo to your project and make sure it is SHARED. Copy the link and paste it into the email message.\n\n\n\n\n\n\nThis is what your email message should look like when you’re done.
URL:https://www.ayclogic.com/event/6-pm-scratch-1-yitong-liu-12/
CATEGORIES:Scratch Class,Scratch Class Level 1
END:VEVENT
BEGIN:VEVENT
DTSTART;TZID=America/Los_Angeles:20240220T180000
DTEND;TZID=America/Los_Angeles:20240220T190000
DTSTAMP:20260421T091830
CREATED:20240221T042647Z
LAST-MODIFIED:20240221T042647Z
UID:23989-1708452000-1708455600@www.ayclogic.com
SUMMARY:6 PM – Scratch 1 – Yitong
DESCRIPTION:Today we:\n\nContinued the Virtual Snow project.\n\nHomework:\n\nInside the Snow sprite:\n\nIf touching the Snowman sprite\,\n\nStamp the clone\nThen delete the clone\n\n\n\n\nEmail me if you have any questions or need help!\n\nSend me your project here: yitong@ayclogic.com \n\nHomework is due MONDAY NIGHT. You can submit it earlier\, I will check it as soon as I can.\nMake sure to SHARE your project. Otherwise\, I cannot see it.\n\nHow to submit homework:\n\nGo to your email and compose a new message.\n\n\n\n\nGo to the coding homework calendar to copy my email address and paste it into the email message.\n\n\n\n\n\nGo to your project and make sure it is SHARED. Copy the link and paste it into the email message.\n\n\n\n\n\n\nThis is what your email message should look like when you’re done.
URL:https://www.ayclogic.com/event/6-pm-scratch-1-yitong-25/
CATEGORIES:Scratch Class,Scratch Class Level 1
END:VEVENT
BEGIN:VEVENT
DTSTART;TZID=America/Los_Angeles:20240219T190000
DTEND;TZID=America/Los_Angeles:20240219T200000
DTSTAMP:20260421T091830
CREATED:20240220T050633Z
LAST-MODIFIED:20240220T050633Z
UID:23970-1708369200-1708372800@www.ayclogic.com
SUMMARY:7 PM – Scratch Level 1 – Allison
DESCRIPTION:Today we:\n\nCoded the background to forever change colors\nCoded a Dinosaur sprite to move depending on which arrow keys the user presses\nAdded music\nCoded two Ballerina sprites to dance\nFinished the Dino Dance project\n\nHomework:\n\nCreate a new project and title it “Animal Race”\nRead and do the codes in the Scratch book pg. 50-52\nMake sure your email is confirmed in Scratch so you can share your projects. If you need help\, try searching a tutorial in Google or email us for help.\nContact us at gamas@ayclogic.com or allison@ayclogic.com if you have any questions or need any help.
URL:https://www.ayclogic.com/event/7-pm-scratch-level-1-allison-25/
CATEGORIES:Scratch Class,Scratch Class Level 1
END:VEVENT
BEGIN:VEVENT
DTSTART;TZID=America/Los_Angeles:20240217T180000
DTEND;TZID=America/Los_Angeles:20240217T190000
DTSTAMP:20260421T091830
CREATED:20240218T030213Z
LAST-MODIFIED:20240218T030213Z
UID:23940-1708192800-1708196400@www.ayclogic.com
SUMMARY:6 PM – Scratch 1 – Yitong Liu
DESCRIPTION:Today we:\n\nFinished the Mary Had A Little Lamb project.\nStarted the Virtual Snow project.\n\nHomework:\n\nDraw a character playing music in the Conductor sprite. It can be anything you want!\n\nSubmit your homework here: yitong@ayclogic.com \n\nHomework is due by FRIDAY NIGHT.\nDon’t forget to share your project\, otherwise\, I cannot see it.\n\nPoints:\n\nSadev:      IIIII\nPahan:      IIIII IIII\nRoman:     IIIII IIII\nBenjamin:  II\nEmma:      II\n\nSTUDENTS OF THE MONTH!!!\n(NOVEMBER)\n\nSadev\nRoman\nPahan\n\nHow to submit homework:\n\nGo to your email and compose a new message.\n\n\n\n\nGo to the coding homework calendar to copy my email address and paste it into the email message.\n\n\n\n\n\nGo to your project and make sure it is SHARED. Copy the link and paste it into the email message.\n\n\n\n\n\n\nThis is what your email message should look like when you’re done.
URL:https://www.ayclogic.com/event/6-pm-scratch-1-yitong-liu-11/
CATEGORIES:Scratch Class,Scratch Class Level 1
END:VEVENT
BEGIN:VEVENT
DTSTART;TZID=America/Los_Angeles:20240217T080000
DTEND;TZID=America/Los_Angeles:20240217T170000
DTSTAMP:20260421T091830
CREATED:20240218T031441Z
LAST-MODIFIED:20240218T031441Z
UID:23945-1708156800-1708189200@www.ayclogic.com
SUMMARY:6 PM – Scratch 1 – Abigail
DESCRIPTION:What we did today\n\nWe went over the Scratch 1 Practice Test.\nWe went over previous projects to study for the test.\n\nHomework\n\nStudy and prepare for your Scratch Level 1 Final Test that is NEXT WEEK!!\n\nIf you have any questions\, email me at abigail@ayclogic.com
URL:https://www.ayclogic.com/event/6-pm-scratch-1-abigail-45/
CATEGORIES:Scratch Class,Scratch Class Level 1
END:VEVENT
END:VCALENDAR