BEGIN:VCALENDAR
VERSION:2.0
PRODID:-//American Young Coder - ECPv6.10.1.1//NONSGML v1.0//EN
CALSCALE:GREGORIAN
METHOD:PUBLISH
X-ORIGINAL-URL:https://www.ayclogic.com
X-WR-CALDESC:Events for American Young Coder
REFRESH-INTERVAL;VALUE=DURATION:PT1H
X-Robots-Tag:noindex
X-PUBLISHED-TTL:PT1H
BEGIN:VTIMEZONE
TZID:America/Los_Angeles
BEGIN:DAYLIGHT
TZOFFSETFROM:-0800
TZOFFSETTO:-0700
TZNAME:PDT
DTSTART:20260308T100000
END:DAYLIGHT
BEGIN:STANDARD
TZOFFSETFROM:-0700
TZOFFSETTO:-0800
TZNAME:PST
DTSTART:20261101T090000
END:STANDARD
END:VTIMEZONE
BEGIN:VEVENT
DTSTART;TZID=America/Los_Angeles:20260314T153000
DTEND;TZID=America/Los_Angeles:20260314T163000
DTSTAMP:20260419T181944
CREATED:20260321T174820Z
LAST-MODIFIED:20260321T174846Z
UID:32938-1773502200-1773505800@www.ayclogic.com
SUMMARY:3:45 PM - Scratch 2 - Abigail
DESCRIPTION:Today We\n\n\n\n\nWe continued working on Cheese Chase project.\n\nHomework\n\nMake/draw the cheese sprite.\nWhen the mouse touches the cheese sprite\, make the cheese disappear.\n\nIf you have any questions\, email me at abigail@ayclogic.com
URL:https://www.ayclogic.com/event/345-pm-scratch-2-abigail/
CATEGORIES:Scratch Class,Scratch Class Level 2
END:VEVENT
BEGIN:VEVENT
DTSTART;TZID=America/Los_Angeles:20260321T110000
DTEND;TZID=America/Los_Angeles:20260321T120000
DTSTAMP:20260419T181944
CREATED:20260321T190230Z
LAST-MODIFIED:20260321T190230Z
UID:32941-1774090800-1774094400@www.ayclogic.com
SUMMARY:11 AM - Scratch 2 - Abigail
DESCRIPTION:Today We\n\n\n\n\nWe continued working on Cheese Chase project.\n\nHomework\n\nWhen reaching level 2\, change the ghost speed from 2 to 4.\nUse the variable\, “ghost speed”.\n\nIf you have any questions\, email me at abigail@ayclogic.com
URL:https://www.ayclogic.com/event/11-am-scratch-2-abigail-10/
CATEGORIES:Scratch Class,Scratch Class Level 2
END:VEVENT
BEGIN:VEVENT
DTSTART;TZID=America/Los_Angeles:20260321T170000
DTEND;TZID=America/Los_Angeles:20260321T180000
DTSTAMP:20260419T181944
CREATED:20260322T011039Z
LAST-MODIFIED:20260322T011039Z
UID:32950-1774112400-1774116000@www.ayclogic.com
SUMMARY:Sat 5 PM – Scratch 2 – Elijah (Abigail Sub)
DESCRIPTION:What we did today:\n\nWe finished going over Fantastic Flowers project.\nWe worked and finished Intro to List.\n\nHomework:\n\nMake the cat go through say the items in the entire list.\nGo through the list from bottom to top AND go through each element by 2’s.\n\nIf you have any questions\, email me at abigail@ayclogic.com
URL:https://www.ayclogic.com/event/sat-5-pm-scratch-2-elijah-abigail-sub-2/
CATEGORIES:Scratch Class,Scratch Class Level 2
END:VEVENT
END:VCALENDAR