BEGIN:VCALENDAR
VERSION:2.0
PRODID:-//American Young Coder - ECPv6.10.1.1//NONSGML v1.0//EN
CALSCALE:GREGORIAN
METHOD:PUBLISH
X-ORIGINAL-URL:https://www.ayclogic.com
X-WR-CALDESC:Events for American Young Coder
REFRESH-INTERVAL;VALUE=DURATION:PT1H
X-Robots-Tag:noindex
X-PUBLISHED-TTL:PT1H
BEGIN:VTIMEZONE
TZID:America/Los_Angeles
BEGIN:DAYLIGHT
TZOFFSETFROM:-0800
TZOFFSETTO:-0700
TZNAME:PDT
DTSTART:20210314T100000
END:DAYLIGHT
BEGIN:STANDARD
TZOFFSETFROM:-0700
TZOFFSETTO:-0800
TZNAME:PST
DTSTART:20211107T090000
END:STANDARD
END:VTIMEZONE
BEGIN:VEVENT
DTSTART;TZID=America/Los_Angeles:20210201T170000
DTEND;TZID=America/Los_Angeles:20210201T180000
DTSTAMP:20260425T141524
CREATED:20210202T022425Z
LAST-MODIFIED:20210202T022800Z
UID:6149-1612198800-1612202400@www.ayclogic.com
SUMMARY:5PM - Beginner Digital Illustration
DESCRIPTION:Today in class we started the Snowman project\, and we started to learn how to use different layers and opacity to help us draw. \nFor HW – please work on and improve your snow man project to be ready for next class. Fix any details in the sketch and coloring layers\, and then finish the lines layer that we started in class. \nPlease refer to the following pictures to see where you should be in your progress to be ready for next class.
URL:https://www.ayclogic.com/event/5pm-beginner-digital-illustration-4/
CATEGORIES:Beginner Digital Illustration,Digital Illustration
END:VEVENT
BEGIN:VEVENT
DTSTART;TZID=America/Los_Angeles:20210202T153000
DTEND;TZID=America/Los_Angeles:20210202T163000
DTSTAMP:20260425T141524
CREATED:20210204T055652Z
LAST-MODIFIED:20210204T055652Z
UID:6177-1612279800-1612283400@www.ayclogic.com
SUMMARY:3:30PM - Python Game Development
DESCRIPTION:Today we Learned:\n\nWhat OOP and Class Inheritance is\nHow to make Classes in Python\n\n\nHomework:\n\npg 162 TRY-IT-YOURSELF 9-1 and 9-2\, from the textbook. Do it in a file called Feb2_OOPHomework.py\n\n\n\nIf you have any questions\, please send an email to latisha@ayclogic.com
URL:https://www.ayclogic.com/event/330pm-python-game-development-2/
END:VEVENT
BEGIN:VEVENT
DTSTART;TZID=America/Los_Angeles:20210202T163000
DTEND;TZID=America/Los_Angeles:20210202T173000
DTSTAMP:20260425T141524
CREATED:20210203T013947Z
LAST-MODIFIED:20210203T013947Z
UID:6155-1612283400-1612287000@www.ayclogic.com
SUMMARY:4:30 PM - Scratch Level 1 (Catch-up)
DESCRIPTION:Today we:\n\nlearned about sprites\nlearned about variables\nlearned about costumes\nlearned about broadcasting\nlearned about background\n\n\nHomework:\n\nNo homework. Enjoy!
URL:https://www.ayclogic.com/event/430-pm-scratch-level-1-catch-up/
CATEGORIES:Scratch Class,Scratch Class Level 1
END:VEVENT
BEGIN:VEVENT
DTSTART;TZID=America/Los_Angeles:20210202T170000
DTEND;TZID=America/Los_Angeles:20210202T180000
DTSTAMP:20260425T141524
CREATED:20210205T170751Z
LAST-MODIFIED:20210205T170751Z
UID:6191-1612285200-1612288800@www.ayclogic.com
SUMMARY:5 PM Scratch Level 2
DESCRIPTION:Today we learned about lists and how to use them in our code.\nFor Homework:\n\nPlease attempt to use an if else statement in your “Intro to Lists” code that we did in class.\nMake sure that if the index is two it will say instead of “I like” it says “I do not like”.
URL:https://www.ayclogic.com/event/5-pm-scratch-level-2-34/
CATEGORIES:Scratch Class,Scratch Class Level 2
END:VEVENT
BEGIN:VEVENT
DTSTART;TZID=America/Los_Angeles:20210202T170000
DTEND;TZID=America/Los_Angeles:20210202T180000
DTSTAMP:20260425T141524
CREATED:20210208T042147Z
LAST-MODIFIED:20210208T042147Z
UID:6228-1612285200-1612288800@www.ayclogic.com
SUMMARY:5PM - Intro to Python
DESCRIPTION:Today we Did:\n\nWent over Quiz 2\n\n\nHomework:\n\nDo all the problems on List\, Inputs\, If… website\, do it in a file called Feb2_WebsiteHomework.py\n\n\n\nIf you have any questions\, please send an email to latisha@ayclogic.com
URL:https://www.ayclogic.com/event/5pm-intro-to-python-5/
END:VEVENT
BEGIN:VEVENT
DTSTART;TZID=America/Los_Angeles:20210202T180000
DTEND;TZID=America/Los_Angeles:20210202T190000
DTSTAMP:20260425T141524
CREATED:20210205T041239Z
LAST-MODIFIED:20210205T041239Z
UID:6189-1612288800-1612292400@www.ayclogic.com
SUMMARY:6 PM - Python Game Development
DESCRIPTION:We fixed several issues in the platform runner final project.\nHome work:\n\nTo make the bug fall down when it is hit by the target.
URL:https://www.ayclogic.com/event/6-pm-python-game-development-93/
CATEGORIES:Python Class,Python Game Development
END:VEVENT
BEGIN:VEVENT
DTSTART;TZID=America/Los_Angeles:20210203T170000
DTEND;TZID=America/Los_Angeles:20210203T180000
DTSTAMP:20260425T141524
CREATED:20210204T020247Z
LAST-MODIFIED:20210204T020247Z
UID:6161-1612371600-1612375200@www.ayclogic.com
SUMMARY:5pm Scratch Level 2
DESCRIPTION:Today We: \n\nFinished the Jumpy Monkey Project\nStarted new Fantastic Flower Project\nCreated new Block called “Draw Stem” with 2 parameters\, “Width” and “Length”\nMade Draw Stem Block draw stem above where mouse clicked\nCreated new Block called “Draw Flower” with 3 parameters\, Number Petals\, Petal Color\, and Center Color\nMade Draw Flower Block draw the flower at the end of stem\nFinished the Fantastic Flower Project\n\nYour HW: \n\nNone
URL:https://www.ayclogic.com/event/5pm-scratch-level-2-13/
END:VEVENT
BEGIN:VEVENT
DTSTART;TZID=America/Los_Angeles:20210203T170000
DTEND;TZID=America/Los_Angeles:20210203T180000
DTSTAMP:20260425T141524
CREATED:20210204T022710Z
LAST-MODIFIED:20210204T022710Z
UID:6162-1612371600-1612375200@www.ayclogic.com
SUMMARY:5pm - Beginner Digital Illustration
DESCRIPTION:Today we finished drawing Simba. Good job everyone! \nFor HW: Add a background to Simba on a new layer. Make sure the new layer for the background is under all the other layers so that your drawing of Simba can be seen on top.
URL:https://www.ayclogic.com/event/5pm-beginner-digital-illustration-5/
CATEGORIES:Beginner Digital Illustration,Digital Illustration
END:VEVENT
BEGIN:VEVENT
DTSTART;TZID=America/Los_Angeles:20210203T180000
DTEND;TZID=America/Los_Angeles:20210203T190000
DTSTAMP:20260425T141524
CREATED:20210204T043158Z
LAST-MODIFIED:20210204T043158Z
UID:6166-1612375200-1612378800@www.ayclogic.com
SUMMARY:6 PM - Python Game Development
DESCRIPTION:We finished implementing the robux program\nYour homework is to learn about dictionaries in python. Read and copy the examples and do the exercises on pages 95 and 99 in the paper book or pages 208 and 214 in the Kindle version.
URL:https://www.ayclogic.com/event/6-pm-python-game-development-91/
CATEGORIES:Python Game Development
END:VEVENT
BEGIN:VEVENT
DTSTART;TZID=America/Los_Angeles:20210203T190000
DTEND;TZID=America/Los_Angeles:20210203T200000
DTSTAMP:20260425T141524
CREATED:20210204T041934Z
LAST-MODIFIED:20210208T044612Z
UID:6168-1612378800-1612382400@www.ayclogic.com
SUMMARY:7PM - Python Game Development
DESCRIPTION:We went over the homework to make birds spawn on right and left.\nWe flipped birds so they’re facing left when moving left\nWe started implementing the player object and painted it on the screen\nI’ve updated the code here.\nHomework:\n\nAdd a “direction” attribute and parameter to the Cloud sprite and make the clouds move to left and right just like the birds. Also make clouds moving to the left respawn on the right side of the screen\nResize the player so it’s the same size as the birds.  If you have time\, research the pygame docs to figure out how to get input from the keyboard.
URL:https://www.ayclogic.com/event/7pm-intro-to-python-5/
CATEGORIES:Python Game Development
END:VEVENT
BEGIN:VEVENT
DTSTART;TZID=America/Los_Angeles:20210204T153000
DTEND;TZID=America/Los_Angeles:20210204T163000
DTSTAMP:20260425T141524
CREATED:20210208T041942Z
LAST-MODIFIED:20210208T041942Z
UID:6226-1612452600-1612456200@www.ayclogic.com
SUMMARY:3:30PM - Python Game Development
DESCRIPTION:Today We Learned:\n\nHow to make a Child Class\nHow to Override a method\n\n\nHomework:\n\nTRY-IT-YOURSELF pg 162 9-3 from the textbook\, do it in Feb4_OOPHomework2.py\n\n\n\nIf you have any questions\, please send an email to latisha@ayclogic.com
URL:https://www.ayclogic.com/event/330pm-python-game-development-3/
END:VEVENT
BEGIN:VEVENT
DTSTART;TZID=America/Los_Angeles:20210204T163000
DTEND;TZID=America/Los_Angeles:20210204T173000
DTSTAMP:20260425T141524
CREATED:20210205T014308Z
LAST-MODIFIED:20210205T014345Z
UID:6181-1612456200-1612459800@www.ayclogic.com
SUMMARY:4:30 PM - Scratch Level 1 (Catch-up)
DESCRIPTION:Today we:\n\nstarted the Funny Faces project on pg. 70\nlearned how to draw sprites\nlearned how to put sprites in the back layer\nlearned how to make sprites stay in one place when the green flag is clicked\nlearned how to change the size of a sprite\n\n\nHomework:\n\nCreate a sprite to draw hair for the person and make sure the hair does not cover the entire face
URL:https://www.ayclogic.com/event/430-pm-scratch-level-1-catch-up-3/
CATEGORIES:Scratch Class,Scratch Class Level 1
END:VEVENT
BEGIN:VEVENT
DTSTART;TZID=America/Los_Angeles:20210204T180000
DTEND;TZID=America/Los_Angeles:20210204T190000
DTSTAMP:20260425T141524
CREATED:20210205T041036Z
LAST-MODIFIED:20210205T041036Z
UID:6187-1612461600-1612465200@www.ayclogic.com
SUMMARY:6 PM - Python Game Development
DESCRIPTION:We fixed the enemy.py when it is moving back and fort properly.\nWe continued with shoot balloon project\n\nWe made the bug fall down when it is shot.\nWe added the chirping sound when it is flying.\n\n\nHomework:\n\nDisplay the score text and the countdown on the top right right.
URL:https://www.ayclogic.com/event/6-pm-python-game-development-92/
CATEGORIES:Python Class,Python Game Development
END:VEVENT
BEGIN:VEVENT
DTSTART;TZID=America/Los_Angeles:20210204T190000
DTEND;TZID=America/Los_Angeles:20210204T200000
DTSTAMP:20260425T141524
CREATED:20210205T040820Z
LAST-MODIFIED:20210205T040820Z
UID:6185-1612465200-1612468800@www.ayclogic.com
SUMMARY:7 PM - Python Game Development
DESCRIPTION:We went over how to create giant fireball.\nWe differentiate a regular fireball vs giant fireball behavior. The giant fireball will not disappear when it hit a bird.\nWe displayed giant fireball cool down indicator in the screen. Just like score.\nHomework:\n\nCurrently the giant fireball indicator is counting up. We need to make it count down.\nWhen the giant fireball timer goes to zero\, we need to change the indicator to say “Giant Fireball READY” on the screen.
URL:https://www.ayclogic.com/event/7-pm-python-game-development-25/
CATEGORIES:Python Class,Python Game Development
END:VEVENT
BEGIN:VEVENT
DTSTART;TZID=America/Los_Angeles:20210205T130000
DTEND;TZID=America/Los_Angeles:20210205T140000
DTSTAMP:20260425T141524
CREATED:20210205T220605Z
LAST-MODIFIED:20210205T220605Z
UID:6193-1612530000-1612533600@www.ayclogic.com
SUMMARY:1 PM - Scratch Level 1
DESCRIPTION:Today we:\n\nstarted the Name Animation Project\nlearned how to:\n\ncreate and draw sprites\nmake sprites change color and make a sound\nmake sprites spin\nmake sprites shrink and grow\nmake sprites look like they’re growing\n\n\n\n\nHomework:\n\nMove your first name to the top of the screen\nDraw sprites AND choose sprites from “Choose a Sprite” to spell your first name (if your first name is not finished)\nDraw sprites AND choose sprites from “Choose a Sprite” to spell your last name\nCode all letters so they do something special\n\nFor example: change colors\, shrink and grow\, spin
URL:https://www.ayclogic.com/event/1-pm-scratch-level-1-5/
CATEGORIES:Scratch Class,Scratch Class Level 1
END:VEVENT
BEGIN:VEVENT
DTSTART;TZID=America/Los_Angeles:20210205T190000
DTEND;TZID=America/Los_Angeles:20210205T200000
DTSTAMP:20260425T141524
CREATED:20210206T040218Z
LAST-MODIFIED:20210206T040218Z
UID:6195-1612551600-1612555200@www.ayclogic.com
SUMMARY:7 PM - Intro To Python
DESCRIPTION:There is no class next week\, the class will resume on Feb 19.\nWe went over how to use List.\nHomework:\n\nCreate your homework in Feb5_ListForLoop.py\nDo page 50 to 52 – For loop iterating List\nDo page 57 – For loop with range.
URL:https://www.ayclogic.com/event/7-pm-intro-to-python-19/
CATEGORIES:Python Class,Python Level 1
END:VEVENT
BEGIN:VEVENT
DTSTART;TZID=America/Los_Angeles:20210206T090000
DTEND;TZID=America/Los_Angeles:20210206T100000
DTSTAMP:20260425T141524
CREATED:20210206T192856Z
LAST-MODIFIED:20210206T192856Z
UID:6199-1612602000-1612605600@www.ayclogic.com
SUMMARY:9 AM - Python Game Development
DESCRIPTION:We reviewed what we did in Birdie project.\n\nHow to create a new sprite.\nHow to integrate a new sprite into the main.py\nHow to detect collision between sprite.\n\n\nThere is no class next week\, the class will resume on Feb 20. No homework
URL:https://www.ayclogic.com/event/9-am-python-game-development-43/
CATEGORIES:Python Class,Python Game Development
END:VEVENT
BEGIN:VEVENT
DTSTART;TZID=America/Los_Angeles:20210206T100000
DTEND;TZID=America/Los_Angeles:20210206T110000
DTSTAMP:20260425T141524
CREATED:20210206T192303Z
LAST-MODIFIED:20210206T192303Z
UID:6197-1612605600-1612609200@www.ayclogic.com
SUMMARY:10 AM - Python Game Development
DESCRIPTION:Platform Runner final project\n\nMake the player able to stay on top of the platform\nDiscussed how to make the door open and close.\nDiscussed how to make the player temporarily “invincible” so it cannot be hit repeatedly.\n\n\nWachk-a-mole final project:\n\nWe adjusted the hitbox for the mole.\nWe discussed how to adjust the hitbox position for the hammer.\nWe discussed how to make random mole appears on the screen\n\n\nWe uploaded sound effects zip file into google drive.\nHomework:\n\nContinue making progress with your final projects.
URL:https://www.ayclogic.com/event/10-am-python-game-development-38/
CATEGORIES:Python Class,Python Game Development
END:VEVENT
BEGIN:VEVENT
DTSTART;TZID=America/Los_Angeles:20210206T100000
DTEND;TZID=America/Los_Angeles:20210206T110000
DTSTAMP:20260425T141524
CREATED:20210208T042357Z
LAST-MODIFIED:20210208T042357Z
UID:6230-1612605600-1612609200@www.ayclogic.com
SUMMARY:10AM - Intro to Python
DESCRIPTION:Today we Did:\n\nWent over Quiz 2\n\n\nHomework:\n\nTRY-IT-YOURSELF from the textbook\, pg89 5-8\, pg131 8-2 and pg142 8-6\, do them in a file called Feb6_Quiz2Homework.py\n\n\n\nIf you have any questions\, please send an email to latisha@ayclogic.com
URL:https://www.ayclogic.com/event/10am-intro-to-python-19/
END:VEVENT
BEGIN:VEVENT
DTSTART;TZID=America/Los_Angeles:20210206T110000
DTEND;TZID=America/Los_Angeles:20210206T120000
DTSTAMP:20260425T141524
CREATED:20210206T200706Z
LAST-MODIFIED:20210206T200706Z
UID:6202-1612609200-1612612800@www.ayclogic.com
SUMMARY:11 am Scratch Level 1
DESCRIPTION:Today We: \n\nContinued the Punch Dummy Project\nMade it so that the face also moves back and forth when hit\nMade it so that you could hit the Punch Dummy using your video as well as the mouse pointer\nMade the face costume switch when it was being hit\nImported the Boxing glove\n\nYour HW: \n\nDownload the Boxing Glove from Project resources if you haven’t\nImport the boxing glove as a sprite and make it face the right way\nMake it follow the mouse pointer\nMake it so that when the boxing glove touches the eye\, it will broadcast movebackandforth
URL:https://www.ayclogic.com/event/11-am-scratch-level-1-21/
END:VEVENT
BEGIN:VEVENT
DTSTART;TZID=America/Los_Angeles:20210206T120000
DTEND;TZID=America/Los_Angeles:20210206T130000
DTSTAMP:20260425T141524
CREATED:20210207T032348Z
LAST-MODIFIED:20210207T032348Z
UID:6213-1612612800-1612616400@www.ayclogic.com
SUMMARY:12 - Python Game Development
DESCRIPTION:We went over how to continued with the Platform Runner code.\nWe continued with our Shoot Balloon project.\nThere is no class next week due to President Day weekend and Chinese New Year weekend. The class will resume on Feb 20.\nHomework:\n\nContinue with Platform Runner final project.
URL:https://www.ayclogic.com/event/12-python-game-development/
CATEGORIES:Python Class,Python Game Development
END:VEVENT
BEGIN:VEVENT
DTSTART;TZID=America/Los_Angeles:20210206T130000
DTEND;TZID=America/Los_Angeles:20210206T140000
DTSTAMP:20260425T141524
CREATED:20210206T221124Z
LAST-MODIFIED:20210208T044807Z
UID:6205-1612616400-1612620000@www.ayclogic.com
SUMMARY:1 PM – Python Game Development
DESCRIPTION:We went over the homework to make the birds’ speeds random.\nWe created a “direction” attribute for the Bird and made it move to the left and right.\nWe made the Bird start on the right hand side of the screen if the direction is to the left.\nWe flipped the Bird if it’s moving to the left.\nI’ve updated the source code here.\nYour homework is to create a “Cloud” sprite:\n\nCopy and paste the Bird Sprite to create a new Cloud class which inherits form Sprite.\nYou don’t need as many parameters for Cloud\, only x\, y\, and screen.\nYou can simplify the update method for the Cloud so it always moves to the right.\nCreate a new cloud object and add it to a new cloud_group sprite Group object. Then make sure cloud_group update method is called from inside the forever loop so the cloud gets updated.\n\n\nThere is no class next week because of President Day weekend and Chinese New Year weekend.  The next class is on Saturday\, February 20.
URL:https://www.ayclogic.com/event/1-pm-python-game-development-10/
END:VEVENT
BEGIN:VEVENT
DTSTART;TZID=America/Los_Angeles:20210206T140000
DTEND;TZID=America/Los_Angeles:20210206T150000
DTSTAMP:20260425T141524
CREATED:20210207T033853Z
LAST-MODIFIED:20210207T033853Z
UID:6215-1612620000-1612623600@www.ayclogic.com
SUMMARY:2 PM - Minecraft Modding with Java
DESCRIPTION:We went over how to add custom sword to Minecraft “Saturn Sword”.\nWe went over about inheritance in Java.\nThere is no class next week because of President Day weekend and Chinese New Year weekend.\nHomework:\n\nSimilar to “Saturn Sword”\, create “Jupiter Sword”. Look at the following files for examples:\n\nsrc/main/java/com/ayclogic/aycessential/init/ModItems.java\nsrc/main/resources/assets/aycessential/lang/en_us.json\nsrc/main/resources/assets/aycessential/models/item/saturn_sword.json\nCopy saturn_sword.png and do some minor modification in it so it will look a little bit different than saturn_sword.png. And save as jupiter_sword.png.\nPut the new jupiter_sword.png image into sec/main/resources/assets/aycessential/textures/items/
URL:https://www.ayclogic.com/event/2-pm-minecraft-modding-with-java-4/
CATEGORIES:Java,Minecraft Modding With Java
END:VEVENT
BEGIN:VEVENT
DTSTART;TZID=America/Los_Angeles:20210206T150000
DTEND;TZID=America/Los_Angeles:20210206T160000
DTSTAMP:20260425T141524
CREATED:20210207T061507Z
LAST-MODIFIED:20210207T061507Z
UID:6221-1612623600-1612627200@www.ayclogic.com
SUMMARY:3 PM - Scratch Level 1
DESCRIPTION:Today we:\n\ncontinued the Funny Faces project\n\n\nHomework:\n\ncreate a new sprite by clicking the “Paint” button and draw a bowtie for the person 🙂
URL:https://www.ayclogic.com/event/3-pm-scratch-level-1-12/
CATEGORIES:Scratch Class,Scratch Class Level 1
END:VEVENT
BEGIN:VEVENT
DTSTART;TZID=America/Los_Angeles:20210206T150000
DTEND;TZID=America/Los_Angeles:20210206T160000
DTSTAMP:20260425T141524
CREATED:20210220T010913Z
LAST-MODIFIED:20210220T010913Z
UID:6328-1612623600-1612627200@www.ayclogic.com
SUMMARY:3 PM Scratch Level 2
DESCRIPTION:Today we were able to finish up our Lists and this week we will not have any homework since we have just began the Supermarket Lists project.
URL:https://www.ayclogic.com/event/3-pm-scratch-level-2-10/
CATEGORIES:Scratch Class,Scratch Class Level 2
END:VEVENT
BEGIN:VEVENT
DTSTART;TZID=America/Los_Angeles:20210206T160000
DTEND;TZID=America/Los_Angeles:20210206T170000
DTSTAMP:20260425T141524
CREATED:20210207T021354Z
LAST-MODIFIED:20210207T021354Z
UID:6209-1612627200-1612630800@www.ayclogic.com
SUMMARY:4 PM - Introduction to Python - Nathaniel
DESCRIPTION:Today we went over:\n\nVariables/String function homework (Pgs. 20-23)\nString functions (title()\, upper()\, lower())\nSpecial characters for formatting ( \n \t )\n\n\nHomework:\n\nPgs. 79-81 of the textbook\n\n\n\nIf you have any questions\, please feel free to email me at nathaniel@ayclogic.com!
URL:https://www.ayclogic.com/event/4-pm-introduction-to-python-nathaniel/
CATEGORIES:Python Level 1
END:VEVENT
BEGIN:VEVENT
DTSTART;TZID=America/Los_Angeles:20210206T160000
DTEND;TZID=America/Los_Angeles:20210206T170000
DTSTAMP:20260425T141524
CREATED:20210207T034459Z
LAST-MODIFIED:20210207T034459Z
UID:6217-1612627200-1612630800@www.ayclogic.com
SUMMARY:4 PM - Intro To Python
DESCRIPTION:We did Robux Balance project.\n\nWe created a function to handle “1”\,”2″ and “3”.\n\n\nWe don’t have a class next week because of President day long weekend and Chinese New Year weekend. The class will resume on Feb 20.\nHomework:\n\nTry to do coding for “4” Add more robux.\n\nask user for their giftcard number.\nif giftcard number is equal to “ABCD1234” then add 200 robux to the robux_balance.\notherwise\, tell user\, “you have entered a wrong giftcard\, please try again.”
URL:https://www.ayclogic.com/event/4-pm-intro-to-python-13/
CATEGORIES:Python Class,Python Level 1
END:VEVENT
BEGIN:VEVENT
DTSTART;TZID=America/Los_Angeles:20210206T170000
DTEND;TZID=America/Los_Angeles:20210206T180000
DTSTAMP:20260425T141524
CREATED:20210207T021746Z
LAST-MODIFIED:20210207T021746Z
UID:6211-1612630800-1612634400@www.ayclogic.com
SUMMARY:5 PM - Introduction to Python - Nathaniel
DESCRIPTION:Today we went over:\n\nGetting a character from a string.\nHow to use a loop to go through a string\nHow to create a clues list with the appropriate length with len(<string variable>)\n\n\nHomework:\n\nNo homework\, but please review this lesson’s lecture on the updating clues list function.\n\n\n\nIf you have any questions\, please feel free to email me at nathaniel@ayclogic.com!
URL:https://www.ayclogic.com/event/5-pm-introduction-to-python-nathaniel/
CATEGORIES:Python Level 1
END:VEVENT
BEGIN:VEVENT
DTSTART;TZID=America/Los_Angeles:20210206T180000
DTEND;TZID=America/Los_Angeles:20210206T190000
DTSTAMP:20260425T141524
CREATED:20210207T034904Z
LAST-MODIFIED:20210207T034904Z
UID:6219-1612634400-1612638000@www.ayclogic.com
SUMMARY:6 PM - Python Game Development
DESCRIPTION:We went over how to make the bird flaps slower.\nWe went over how to create player.py\nWe integrated player.py into main.py.\nThere is no class next week\, the class will resume on Feb 20.\nHomework:\n\nCreate fireball.py sprite. Use bullet.png as the image.\nIntegrate it into main.py.
URL:https://www.ayclogic.com/event/6-pm-python-game-development-94/
CATEGORIES:Python Class,Python Game Development
END:VEVENT
BEGIN:VEVENT
DTSTART;TZID=America/Los_Angeles:20210207T090000
DTEND;TZID=America/Los_Angeles:20210207T100000
DTSTAMP:20260425T141524
CREATED:20210207T182102Z
LAST-MODIFIED:20210207T182102Z
UID:6224-1612688400-1612692000@www.ayclogic.com
SUMMARY:9 AM - Intro To Java
DESCRIPTION:We continued with School Application\n\nWe completed “Add Teacher” (option 2) where we added a new teacher into the school\nWe completed “List Teachers” (option 5) where we list all teachers group by its school.\n\n\nThere is no school next week because of President Day and Chinese New Year weekend.\nHomework:\n\nFor “Add Student” (option 3)\, after you get a new student from shell\, add it to the school.\nAdd code to do “List Students” (option 6). Look at how we did “List Teachers”.
URL:https://www.ayclogic.com/event/9-am-intro-to-java-11/
CATEGORIES:Introduction To Java,Java
END:VEVENT
END:VCALENDAR