BEGIN:VCALENDAR
VERSION:2.0
PRODID:-//American Young Coder - ECPv6.10.1.1//NONSGML v1.0//EN
CALSCALE:GREGORIAN
METHOD:PUBLISH
X-WR-CALNAME:American Young Coder
X-ORIGINAL-URL:https://www.ayclogic.com
X-WR-CALDESC:Events for American Young Coder
REFRESH-INTERVAL;VALUE=DURATION:PT1H
X-Robots-Tag:noindex
X-PUBLISHED-TTL:PT1H
BEGIN:VTIMEZONE
TZID:America/Los_Angeles
BEGIN:DAYLIGHT
TZOFFSETFROM:-0800
TZOFFSETTO:-0700
TZNAME:PDT
DTSTART:20210314T100000
END:DAYLIGHT
BEGIN:STANDARD
TZOFFSETFROM:-0700
TZOFFSETTO:-0800
TZNAME:PST
DTSTART:20211107T090000
END:STANDARD
END:VTIMEZONE
BEGIN:VEVENT
DTSTART;TZID=America/Los_Angeles:20210801T090000
DTEND;TZID=America/Los_Angeles:20210801T100000
DTSTAMP:20260425T054535
CREATED:20210801T030240Z
LAST-MODIFIED:20210801T030731Z
UID:8791-1627808400-1627812000@www.ayclogic.com
SUMMARY:9 AM - Scratch 1 - Indo
DESCRIPTION:Today We Do\n\nWe completed Animal crossing\nWe started Birthday Card project in page 84\n\nHomework\n\nContinue with the Birthday Card project from page 87 to 89\nGet a picture of your mom\, make sure it is available in your computer.\nGet 2 pictures of your self\, make sure it is available in your computer.
URL:https://www.ayclogic.com/event/8791/
CATEGORIES:Scratch Class,Scratch Class Level 1
END:VEVENT
BEGIN:VEVENT
DTSTART;TZID=America/Los_Angeles:20210802T160000
DTEND;TZID=America/Los_Angeles:20210802T170000
DTSTAMP:20260425T054535
CREATED:20210810T015514Z
LAST-MODIFIED:20210810T015514Z
UID:8913-1627920000-1627923600@www.ayclogic.com
SUMMARY:4PM - Python Game Development
DESCRIPTION:Today we did:\n\nContinued working on Shoot Balloon\nFixed Final Project\n\nHomework:\n\nNone\n\nIf you have any questions\, please send an email to latisha@ayclogic.com
URL:https://www.ayclogic.com/event/4pm-python-game-development-24/
END:VEVENT
BEGIN:VEVENT
DTSTART;TZID=America/Los_Angeles:20210802T170000
DTEND;TZID=America/Los_Angeles:20210802T180000
DTSTAMP:20260425T054535
CREATED:20210809T064325Z
LAST-MODIFIED:20210809T064325Z
UID:8905-1627923600-1627927200@www.ayclogic.com
SUMMARY:5PM - Beginner Digital Illustration
DESCRIPTION:MONDAY \nToday we continued on the drawing of Squirt. We added more shading and details to the shell layer\, and also started on the body layer. We used layer clipping to add details to these layers. \nFINAL PROJECT – Your background layer should be done by now. And have one more element added to it that we can talk about next class.
URL:https://www.ayclogic.com/event/5pm-beginner-digital-illustration-41/
CATEGORIES:Beginner Digital Illustration,Digital Illustration
END:VEVENT
BEGIN:VEVENT
DTSTART;TZID=America/Los_Angeles:20210802T170000
DTEND;TZID=America/Los_Angeles:20210802T190000
DTSTAMP:20260425T054535
CREATED:20210803T205517Z
LAST-MODIFIED:20210803T205608Z
UID:8811-1627923600-1627930800@www.ayclogic.com
SUMMARY:5PM – Summer Intro to Python
DESCRIPTION:What We Did Today\n1. We worked on School_Application \n2. We learned how to treat class objects as list items \n3. We learned how to utilize class methods \nHomework\n1. Create a new project in pycharm called August4_ShoppingCart \n  \nIf you guys have any questions you can email me at sohan@ayclogic.com
URL:https://www.ayclogic.com/event/5pm-summer-intro-to-python-13/
CATEGORIES:OOP Python
END:VEVENT
BEGIN:VEVENT
DTSTART;TZID=America/Los_Angeles:20210802T180000
DTEND;TZID=America/Los_Angeles:20210802T190000
DTSTAMP:20260425T054535
CREATED:20210809T065035Z
LAST-MODIFIED:20210809T065035Z
UID:8907-1627927200-1627930800@www.ayclogic.com
SUMMARY:6PM - Intermediate Digital Illustration
DESCRIPTION:MONDAY \nWe are still continuing to work on our Link project. reference \nNo homework\, but as always\, feel free to improve on your current drawing for the best results.
URL:https://www.ayclogic.com/event/6pm-intermediate-digital-illustration-20/
CATEGORIES:Digital Illustration,Intermediate Digital Illustration
END:VEVENT
BEGIN:VEVENT
DTSTART;TZID=America/Los_Angeles:20210803T150000
DTEND;TZID=America/Los_Angeles:20210803T160000
DTSTAMP:20260425T054535
CREATED:20210810T015637Z
LAST-MODIFIED:20210810T020357Z
UID:8915-1628002800-1628006400@www.ayclogic.com
SUMMARY:3PM - Python Game Development
DESCRIPTION:Today we did:\n\nContinued working on Shoot Balloon\n\nCreated Target Sprite\nFinished Balloon Sprite\n\n\n\nHomework:\n\nCreate hitbox for Balloon\n\nIf you have any questions\, please send an email to latisha@ayclogic.com
URL:https://www.ayclogic.com/event/3pm-python-game-development-3/
END:VEVENT
BEGIN:VEVENT
DTSTART;TZID=America/Los_Angeles:20210803T180000
DTEND;TZID=America/Los_Angeles:20210803T190000
DTSTAMP:20260425T054535
CREATED:20210804T015819Z
LAST-MODIFIED:20210806T010020Z
UID:8815-1628013600-1628017200@www.ayclogic.com
SUMMARY:6 PM - Intro To Java
DESCRIPTION:Homework\n\nContinue with the BankAccount exercises we did in the class\n\n1. Insert all three bank accounts into accountMap\, the key would be social security. \n//  Use for loop to go through each element inside the List\n//  And inside the for loop add the bank account one by one to the map.\n2. Ask an input from shell for a social security\n3. if the input from shell exists in the map\, print out the bank account info "Name - Social Security - Balance"\n4. If you don't find it then just print\, the Social Security does not exists in our system.
URL:https://www.ayclogic.com/event/6-pm-intro-to-java-23/
CATEGORIES:Introduction To Java,Java
END:VEVENT
BEGIN:VEVENT
DTSTART;TZID=America/Los_Angeles:20210803T180000
DTEND;TZID=America/Los_Angeles:20210803T190000
DTSTAMP:20260425T054535
CREATED:20210804T023022Z
LAST-MODIFIED:20210804T023022Z
UID:8817-1628013600-1628017200@www.ayclogic.com
SUMMARY:6 PM - Intro to Python - Nathaniel
DESCRIPTION:What we did today: \n\nReviewed Quiz 1\nPracticed problems from previous class material\n\nHomework: \n\nDo ONLY problems 1-3 here: https://www.ayclogic.com/list-inputs-if-and-else-loops-and-function/\n\nIf you have any questions\, feel free to email me at nathaniel@ayclogic.com
URL:https://www.ayclogic.com/event/6-pm-intro-to-python-nathaniel-2/
CATEGORIES:Python Level 1
END:VEVENT
BEGIN:VEVENT
DTSTART;TZID=America/Los_Angeles:20210804T170000
DTEND;TZID=America/Los_Angeles:20210804T180000
DTSTAMP:20260425T054535
CREATED:20210807T073728Z
LAST-MODIFIED:20210811T023242Z
UID:8867-1628096400-1628100000@www.ayclogic.com
SUMMARY:5PM - Intro to Python
DESCRIPTION:Today we did:\n\nContinued learning about for loops without list\nLearned about how to use for loops in for loops\n\nHomework:\n\nDo pg. 118-121 from the textbook in a file called Aug4_WhileLoopHomework.py\n\nIf you have any questions\, please send an email to latisha@ayclogic.com
URL:https://www.ayclogic.com/event/5pm-intro-to-python-22/
END:VEVENT
BEGIN:VEVENT
DTSTART;TZID=America/Los_Angeles:20210804T170000
DTEND;TZID=America/Los_Angeles:20210804T180000
DTSTAMP:20260425T054535
CREATED:20210809T065656Z
LAST-MODIFIED:20210809T065656Z
UID:8909-1628096400-1628100000@www.ayclogic.com
SUMMARY:5PM - Intermediate Digital Illustration
DESCRIPTION:WEDNESDAY \nWelcome to the first class of Intermediate Digital Illustration class! \nWe are starting the class with a pretty anime eye\, and we will finish this next class.
URL:https://www.ayclogic.com/event/5pm-intermediate-digital-illustration/
CATEGORIES:Digital Illustration,Intermediate Digital Illustration
END:VEVENT
BEGIN:VEVENT
DTSTART;TZID=America/Los_Angeles:20210804T170000
DTEND;TZID=America/Los_Angeles:20210804T190000
DTSTAMP:20260425T054535
CREATED:20210805T024033Z
LAST-MODIFIED:20210805T024033Z
UID:8827-1628096400-1628103600@www.ayclogic.com
SUMMARY:5PM – Summer Intro to Python
DESCRIPTION:What We Did Today\n1. We created ShoppingCart with Object Oriented Programming \n2. We learned how to assign object values to a Dictionary key \n3. We learned more about the practicality of Objected Oriented Programming \nHomework\nUsing the grocery variable in the else statement I want you guys to be able to print out the bolded statements below\, so if the user selects “1” it should print “You have purchase Milk for $5”: \nWhat do you want to purchase:\n1. Milk - $5\n2. Eggs - $4\n3. Orange Juice - $6\n4. I am done\, checkout please\nEnter your selection: 1\nYou have purchase Milk for $5\n\nWhat do you want to purchase:\n1. Milk - $5\n2. Eggs - $4\n3. Orange Juice - $6\n4. I am done\, checkout please\nEnter your selection: 2\nYou have purchase Eggs for $4\n\n\nYou should also add the “grocery” variable into the list shopping_cart. Overall this shouldn’t be too difficult it can all be done in two lines of code. \n  \nIf you guys have any questions you can email me at sohan@ayclogic.com
URL:https://www.ayclogic.com/event/5pm-summer-intro-to-python-14/
CATEGORIES:OOP Python
END:VEVENT
BEGIN:VEVENT
DTSTART;TZID=America/Los_Angeles:20210804T180000
DTEND;TZID=America/Los_Angeles:20210804T190000
DTSTAMP:20260425T054535
CREATED:20210805T020105Z
LAST-MODIFIED:20210805T042004Z
UID:8820-1628100000-1628103600@www.ayclogic.com
SUMMARY:6 PM - Python Game Development
DESCRIPTION:Today \nWe went over the homework to add in the credit page and sound effects. \nWe fixed a bug to respawn player correctly. \nI’ve uploaded the finished flappy duck code here. \nHomework: \n\nChoose a final project: define victory conditions\, losing conditions\, and buy game assets.\nCreate a gitlab.com account
URL:https://www.ayclogic.com/event/6-pm-python-game-development-152/
CATEGORIES:Python Game Development
END:VEVENT
BEGIN:VEVENT
DTSTART;TZID=America/Los_Angeles:20210804T190000
DTEND;TZID=America/Los_Angeles:20210804T200000
DTSTAMP:20260425T054535
CREATED:20210805T021938Z
LAST-MODIFIED:20210805T040257Z
UID:8824-1628103600-1628107200@www.ayclogic.com
SUMMARY:7 PM - Python Game Development
DESCRIPTION:Today: \n\nWe went over the final projects.\nWe added in collision detection and animation for the bug.\n\nAydan/Anson: \n\nMake sure invulnerability mode switches back to damage mode after a timer expires.\nInvulnerability mode should work for car collisions.\nIndicate if player is in invulnerability mode.\nAdd logo for landing page.\nAdd back button to the credit page.\nAdd sound effects.\n\nYitong/Spencer: \n\nAdd in some sounds effects for collision. (Yitong)\nMake sure the collision between car and player sets the mode to a GAME_OVER mode. (Yitong)\nAdd a winning zone sprite which switches the game mode on collision. (Spencer)\nAdd a winning page. (Spencer)\nAdd a game over page. (Spencer)
URL:https://www.ayclogic.com/event/7-pm-python-game-development-74/
CATEGORIES:Python Game Development
END:VEVENT
BEGIN:VEVENT
DTSTART;TZID=America/Los_Angeles:20210805T170000
DTEND;TZID=America/Los_Angeles:20210805T180000
DTSTAMP:20260425T054535
CREATED:20210806T014521Z
LAST-MODIFIED:20210806T014521Z
UID:8838-1628182800-1628186400@www.ayclogic.com
SUMMARY:5 PM Scratch Level 1 Alexander Lee
DESCRIPTION:Today We:\nContinued with the Tunnel of Doom project\, reviewing over homework.\nWe learned how to use the wait until and repeat until loops today as well.\nFor Homework:\nPlease do from pages 131-132 in the Scratch book.
URL:https://www.ayclogic.com/event/5-pm-scratch-level-1-alexander-lee-10/
CATEGORIES:Scratch Class,Scratch Class Level 1
END:VEVENT
BEGIN:VEVENT
DTSTART;TZID=America/Los_Angeles:20210805T180000
DTEND;TZID=America/Los_Angeles:20210805T190000
DTSTAMP:20260425T054535
CREATED:20210810T212430Z
LAST-MODIFIED:20210810T212430Z
UID:8938-1628186400-1628190000@www.ayclogic.com
SUMMARY:6 PM - Intro To Java
DESCRIPTION:Today We Do\n\nWe started learning Inheritance with Person and Student classes\n\nHomework\n\nNo Homework
URL:https://www.ayclogic.com/event/6-pm-intro-to-java-24/
CATEGORIES:Introduction To Java,Java
END:VEVENT
BEGIN:VEVENT
DTSTART;TZID=America/Los_Angeles:20210806T180000
DTEND;TZID=America/Los_Angeles:20210806T200000
DTSTAMP:20260425T054535
CREATED:20210807T022630Z
LAST-MODIFIED:20210807T022630Z
UID:8852-1628272800-1628280000@www.ayclogic.com
SUMMARY:6 to 7 PM - Intro To Python
DESCRIPTION:2 hours final test.
URL:https://www.ayclogic.com/event/6-to-7-pm-intro-to-python/
CATEGORIES:Python Class,Python Level 1
END:VEVENT
BEGIN:VEVENT
DTSTART;TZID=America/Los_Angeles:20210807T100000
DTEND;TZID=America/Los_Angeles:20210807T110000
DTSTAMP:20260425T054535
CREATED:20210807T041621Z
LAST-MODIFIED:20210807T041621Z
UID:8858-1628330400-1628334000@www.ayclogic.com
SUMMARY:SAT - 10 AM - Scratch 1 - Indo
DESCRIPTION:Today We Do\n\nWe completed Punch The Dummy project.\nWe started Mary Had A Little Lamb\n\nHomework\n\nDuplicate the yellow ball 7 more times.\nEvery time you duplicate the ball do the following\n\nchange the color/costume.\nIncrease the note from 62 to 64 to 66 and so on.\nMove the location of all the ball to be like below
URL:https://www.ayclogic.com/event/sat-10-am-scratch-1-indo-3/
CATEGORIES:Scratch Class,Scratch Class Level 1
END:VEVENT
BEGIN:VEVENT
DTSTART;TZID=America/Los_Angeles:20210807T100000
DTEND;TZID=America/Los_Angeles:20210807T110000
DTSTAMP:20260425T054535
CREATED:20210807T165950Z
LAST-MODIFIED:20210807T181533Z
UID:8873-1628330400-1628334000@www.ayclogic.com
SUMMARY:10 AM - Intro To Java
DESCRIPTION:Today We Do\n\nWe continued with SchoolApplication.\nWe created Teacher class\nWe added Add New Student feature and added into the List of students.\n\nHomework\n\nAdd code to do “2. Add a teacher”. Store the newly added teacher to a List<Teacher> new attribute. This feature is very similar to “1. Add a student”.\nAlso try to do code for “5. List all students”. In here you have to use for loop to go through each element inside “students” list. Look at example below\n\nSchool System:\n1. Add a student\n2. Add a teacher\n3. Find student\n4. Find teacher\n5. List all students\n6. List all teachers\n7. List all students map\n8. List all students order by firstName\n9. List all students order by Age reverse\n10. Quit\nEnter your selection:1\n\n\nWhat is your student's name? Gamas Chang\nWhat is your student's age? 100\nWhat is your student's grade? 10\nWhat is your student's School Name? Gabrielino Highschool\nIs your student a good listener? True or False: true\nA new student has been created: Gamas Chang\n\nSchool System:\n1. Add a student\n2. Add a teacher\n3. Find student\n4. Find teacher\n5. List all students\n6. List all teachers\n7. List all students map\n8. List all students order by firstName\n9. List all students order by Age reverse\n10. Quit\nEnter your selection:1\n\n\nWhat is your student's name? Amanda\nWhat is your student's age? 13\nWhat is your student's grade? 8\nWhat is your student's School Name? Temple City High\nIs your student a good listener? True or False: true\nA new student has been created: Amanda\n\nSchool System:\n1. Add a student\n2. Add a teacher\n3. Find student\n4. Find teacher\n5. List all students\n6. List all teachers\n7. List all students map\n8. List all students order by firstName\n9. List all students order by Age reverse\n10. Quit\nEnter your selection:5\n\n\nGamas Chang - 100 years old - grade 10\nAmanda - 13 years old - grade 8
URL:https://www.ayclogic.com/event/10-am-intro-to-java-10/
CATEGORIES:Introduction To Java,Java
END:VEVENT
BEGIN:VEVENT
DTSTART;TZID=America/Los_Angeles:20210807T120000
DTEND;TZID=America/Los_Angeles:20210807T130000
DTSTAMP:20260425T054535
CREATED:20210807T200209Z
LAST-MODIFIED:20210807T200209Z
UID:8878-1628337600-1628341200@www.ayclogic.com
SUMMARY:12 PM - Advance Python Game Development
DESCRIPTION:Today We Do\n\nWe display GAME WIN page.\nWe made sure the tank explosion animation is given a chance to finish before GAME WIN page is displayed.\n\nHomework\n\nWhen tank is destroyed\, add sound effect “assets/audio/explodify.wav”.\nCreate a new sprite shield.py. Use “assets/Get_Shield_Player_1.png” for image. Make the sprite appear on the screen.
URL:https://www.ayclogic.com/event/12-pm-advance-python-game-development-3/
CATEGORIES:Advanced Python Game Development,Python Class
END:VEVENT
BEGIN:VEVENT
DTSTART;TZID=America/Los_Angeles:20210807T130000
DTEND;TZID=America/Los_Angeles:20210807T140000
DTSTAMP:20260425T054535
CREATED:20210807T205634Z
LAST-MODIFIED:20210807T210458Z
UID:8880-1628341200-1628344800@www.ayclogic.com
SUMMARY:1 PM - Python Game Development
DESCRIPTION:Today \n\nWe fixed the Flappy Duck credit button. I’ve uploaded the source code here.\nWe went over how to clone source code from Gitlab.\nWe went over the final project proposal\n\nHomework: \n\nMeet with you team to discuss the final project proposal.\nBuy some game assets.\nWrite google docs final project proposal.  You can follow the example here. You don’t need to include a timeline yet.  Include a Title section\, an Assets section\, and a Story section.  Also include a Components section that lists the different sprites and components how you will divide them with your teammate.\nDownload the shoot balloon project.
URL:https://www.ayclogic.com/event/1-pm-python-game-development-29/
CATEGORIES:Python Game Development
END:VEVENT
BEGIN:VEVENT
DTSTART;TZID=America/Los_Angeles:20210807T130000
DTEND;TZID=America/Los_Angeles:20210807T140000
DTSTAMP:20260425T054535
CREATED:20210807T212210Z
LAST-MODIFIED:20210807T212210Z
UID:8885-1628341200-1628344800@www.ayclogic.com
SUMMARY:SAT 1PM - OOP Python - Sohan
DESCRIPTION:What We Did Today:\n1. We used a dictionary to find an object \n2. We went over self. \nHomework:\n1. None \nIf you have any questions\, please send an email to latisha@ayclogic.com
URL:https://www.ayclogic.com/event/sat-1pm-oop-python-sohan/
CATEGORIES:OOP Python
END:VEVENT
BEGIN:VEVENT
DTSTART;TZID=America/Los_Angeles:20210807T140000
DTEND;TZID=America/Los_Angeles:20210807T150000
DTSTAMP:20260425T054535
CREATED:20210807T224628Z
LAST-MODIFIED:20210810T015802Z
UID:8887-1628344800-1628348400@www.ayclogic.com
SUMMARY:2 PM - Intro To Python - Gamas
DESCRIPTION:Today We Do\n\nWe reviewed the functions homework\nWe do more function exercises\n\nHomework\n\nCreate a function according to below instruction\n# Create a new function convert_minute_to_second(minute)\n# inside the function\, multiply minute by 60 and return the multiplication result\n# Ask user input from shell to enter “How many minutes: ”\n# Call the function\, use user input as parameter of the function\n# capture the return value and print “There are <result> seconds in <user_input> minutes.\nDo Page 142. TRY IT YOURSELF 8-6 only.
URL:https://www.ayclogic.com/event/2-pm-intro-to-python-35/
CATEGORIES:Python Class,Python Level 1
END:VEVENT
BEGIN:VEVENT
DTSTART;TZID=America/Los_Angeles:20210807T140000
DTEND;TZID=America/Los_Angeles:20210807T150000
DTSTAMP:20260425T054535
CREATED:20210810T015959Z
LAST-MODIFIED:20210810T020205Z
UID:8920-1628344800-1628348400@www.ayclogic.com
SUMMARY:2PM - Intro to Python
DESCRIPTION:Today we learned:\n\nHow to use “elif”\, “and”\, and “or”\nHow to make a list and access elements\n\nHomework:\n\nPage 37 to 41 from the textbook\nDo it in a file called Aug7_ListHomework.py\n\nIf you have any questions\, please send an email to latisha@ayclogic.com
URL:https://www.ayclogic.com/event/2pm-intro-to-python-2/
END:VEVENT
BEGIN:VEVENT
DTSTART;TZID=America/Los_Angeles:20210807T150000
DTEND;TZID=America/Los_Angeles:20210807T160000
DTSTAMP:20260425T054535
CREATED:20210807T231005Z
LAST-MODIFIED:20210807T231403Z
UID:8889-1628348400-1628352000@www.ayclogic.com
SUMMARY:3 PM - Scratch Level 1
DESCRIPTION:Today we:\n\ncontinued the Mary Had a Little Lamb project\ncoded the D sprite to grow\, shrink\, and change colors when touched by video motion or by the mouse-pointer\ncoded the D sprite to play the letter D\n\nHomework:\n\nduplicate the D sprite (the light blue ball)\, change the duplicate’s costume to a different color\, and rename the duplicate to “B”\nduplicate the D sprite (the light blue ball) again\, change the duplicate’s costume to a different color\, and rename the duplicate to “Higher C”\n\n\ncomplete the homework in the same project we did in class (the Mary Had a Little Lamb project)\ncomplete the homework before our next class together next week\nemail us at gamas@ayclogic.com or allison.682.lee@gmail.com if you need any help or have any questions
URL:https://www.ayclogic.com/event/3-pm-scratch-level-1-42/
CATEGORIES:Scratch Class,Scratch Class Level 1
END:VEVENT
BEGIN:VEVENT
DTSTART;TZID=America/Los_Angeles:20210807T160000
DTEND;TZID=America/Los_Angeles:20210807T170000
DTSTAMP:20260425T054535
CREATED:20210808T000909Z
LAST-MODIFIED:20210808T000909Z
UID:8895-1628352000-1628355600@www.ayclogic.com
SUMMARY:4 PM - Intro To Python - Nathaniel
DESCRIPTION:Gamas sub Nathaniel today \nToday We Do\n\nWe reviewed legs homework.\nWe drew the body\, head and eyeball white strip.\nWe create left_arm(x\,y\,color) function to draw the left arm. The left arm consist of 2 rectangles.\n\nHomework\n\nCreate right_arm(x\,y\,color) function to draw the right arm. It should be similar to the left_arm function. It should consist of 2 rectangles.\nCall the right_arm function after it is done to draw the right arm on the right side of the body.\nDraw 2 small black rectangles inside the eyeball for eye pupil like below\n\n\n 
URL:https://www.ayclogic.com/event/4-pm-intro-to-python-nathaniel-3/
CATEGORIES:Python Class,Python Level 1
END:VEVENT
BEGIN:VEVENT
DTSTART;TZID=America/Los_Angeles:20210807T170000
DTEND;TZID=America/Los_Angeles:20210807T180000
DTSTAMP:20260425T054535
CREATED:20210808T011019Z
LAST-MODIFIED:20210808T011019Z
UID:8898-1628355600-1628359200@www.ayclogic.com
SUMMARY:5 PM - Intro to Python - Nathaniel
DESCRIPTION:Today We:\n\nContinued working on school application\nImplemented add_student() method to StudentApplication class\n\nHomework\n\nThe project can be found in google drive under folder named “SchoolApplication”. Go to the src folder and you will see the python files there\nCreate a method in SchoolApplication class to list all students in the list of students. Look at example below:\n\n  \n\nHere's an example: \n\nstudent_list has 3 student objects. the 3 student objects each have a name attribute. and \nwe'll say that the names are 'N'\, 'E'\, 'L'\nIf I choose option 2:\n\nI expect this output:\n\nStudent list contians:\n'N' who is 18 years old and is in grade 12\n'E' who is 21 years old and is in grade 15\n'L' who is 15 years old and is in grade 10
URL:https://www.ayclogic.com/event/5-pm-intro-to-python-nathaniel-2/
CATEGORIES:Python Level 1
END:VEVENT
BEGIN:VEVENT
DTSTART;TZID=America/Los_Angeles:20210807T170000
DTEND;TZID=America/Los_Angeles:20210807T180000
DTSTAMP:20260425T054535
CREATED:20210810T030119Z
LAST-MODIFIED:20210813T213640Z
UID:8931-1628355600-1628359200@www.ayclogic.com
SUMMARY:5 PM Scratch Level 1 Alexander Lee
DESCRIPTION:Today We:\nFinished up Ask Gobo and started the Funny faces project.\nReviewed about using variables and the if then loop. \nFor Homework:\nPlease create sprites for eye brows\, hair\, and hat. The sprites are on page 75.
URL:https://www.ayclogic.com/event/5-pm-scratch-level-1-alexander-lee-11/
CATEGORIES:Scratch Class,Scratch Class Level 1
END:VEVENT
BEGIN:VEVENT
DTSTART;TZID=America/Los_Angeles:20210807T180000
DTEND;TZID=America/Los_Angeles:20210807T190000
DTSTAMP:20260425T054535
CREATED:20210808T030905Z
LAST-MODIFIED:20210808T030905Z
UID:8902-1628359200-1628362800@www.ayclogic.com
SUMMARY:6 PM - Python Game Development
DESCRIPTION:Today We Do\n\nWe reviewed everyone’s final project progress\nWe continued with Shoot Balloon project\n\nHomework\n\nContinued with your final project progress
URL:https://www.ayclogic.com/event/6-pm-python-game-development-153/
CATEGORIES:Python Class,Python Game Development
END:VEVENT
BEGIN:VEVENT
DTSTART;TZID=America/Los_Angeles:20210808T090000
DTEND;TZID=America/Los_Angeles:20210808T100000
DTSTAMP:20260425T054535
CREATED:20210808T030751Z
LAST-MODIFIED:20210808T030751Z
UID:8900-1628413200-1628416800@www.ayclogic.com
SUMMARY:9 AM - Scratch 1
DESCRIPTION:Today We Do\n\nWe finished Happy Birthday project\nWe started Happy Birthday Mom project\n\nHomework\n\nUpload your pictures to Shark1 and Shark2 sprites.\nResize Happy Birthday Banner smaller and make sure it does not cover the Eiffel Tower.\nWhen you click your mom picture\, it should display the Eiffel Tower background instead of the Party background.
URL:https://www.ayclogic.com/event/9-am-scratch-1-5/
CATEGORIES:Scratch Class,Scratch Class Level 1
END:VEVENT
BEGIN:VEVENT
DTSTART;TZID=America/Los_Angeles:20210808T090000
DTEND;TZID=America/Los_Angeles:20210808T100000
DTSTAMP:20260425T054535
CREATED:20210811T050244Z
LAST-MODIFIED:20210811T050244Z
UID:8953-1628413200-1628416800@www.ayclogic.com
SUMMARY:9 AM - Intro To Java
DESCRIPTION:Today We Do\n\nWe learned how to use customer icon/image for our Android application\nWe learned how to create APK file so it can be installed on Android applications.\nWe reviewed inheritance\, the use of random module in a game.\n\nHomework\n\nCreate a new Java project and call it AnimalFightingInheritanceSystem\nDo Java exercise in here: https://www.ayclogic.com/animal-fighting-inheritance/
URL:https://www.ayclogic.com/event/9-am-intro-to-java-29/
CATEGORIES:Introduction To Java,Java
END:VEVENT
END:VCALENDAR