BEGIN:VCALENDAR
VERSION:2.0
PRODID:-//American Young Coder - ECPv6.10.1.1//NONSGML v1.0//EN
CALSCALE:GREGORIAN
METHOD:PUBLISH
X-ORIGINAL-URL:https://www.ayclogic.com
X-WR-CALDESC:Events for American Young Coder
REFRESH-INTERVAL;VALUE=DURATION:PT1H
X-Robots-Tag:noindex
X-PUBLISHED-TTL:PT1H
BEGIN:VTIMEZONE
TZID:America/Los_Angeles
BEGIN:DAYLIGHT
TZOFFSETFROM:-0800
TZOFFSETTO:-0700
TZNAME:PDT
DTSTART:20220313T100000
END:DAYLIGHT
BEGIN:STANDARD
TZOFFSETFROM:-0700
TZOFFSETTO:-0800
TZNAME:PST
DTSTART:20221106T090000
END:STANDARD
END:VTIMEZONE
BEGIN:VEVENT
DTSTART;TZID=America/Los_Angeles:20220901T170000
DTEND;TZID=America/Los_Angeles:20220901T180000
DTSTAMP:20260423T133905
CREATED:20220902T005610Z
LAST-MODIFIED:20220902T005610Z
UID:14724-1662051600-1662055200@www.ayclogic.com
SUMMARY:5 PM - Python Game Development - Gamas
DESCRIPTION:Homework\n\nWhen the bug in dizzy mode\, make the bug fall down. You have to do this in bug.py in the update method.\nCreate landing page using balloon_title.png\, play_button.png and copy the credit_button.png from Flappy Bird project.
URL:https://www.ayclogic.com/event/5-pm-python-game-development-gamas-9/
CATEGORIES:Python Class,Python Game Development
END:VEVENT
BEGIN:VEVENT
DTSTART;TZID=America/Los_Angeles:20220901T173000
DTEND;TZID=America/Los_Angeles:20220901T183000
DTSTAMP:20260423T133905
CREATED:20220902T021617Z
LAST-MODIFIED:20220902T021617Z
UID:14727-1662053400-1662057000@www.ayclogic.com
SUMMARY:5:30PM - Intro to Python - Parna
DESCRIPTION:Today We Do\n\nReview of Functions with return values\nReview of Last weeks homework\n\nHomework\n\nSince I was substituting for Parna\, there is no homework\n\nIf you have any questions\, you can reach out to me at alexwalburg@ayclogic.com
URL:https://www.ayclogic.com/event/530pm-intro-to-python-parna/
END:VEVENT
BEGIN:VEVENT
DTSTART;TZID=America/Los_Angeles:20220902T170000
DTEND;TZID=America/Los_Angeles:20220902T180000
DTSTAMP:20260423T133905
CREATED:20220903T035237Z
LAST-MODIFIED:20220903T035237Z
UID:14741-1662138000-1662141600@www.ayclogic.com
SUMMARY:5 PM – Scratch 1 – Yitong
DESCRIPTION:What we did today:\n\nMade the Splat clones switch to a random costume.\nAdded a MaxSplats variable\, a SplatsOnScreen variable\, a Score variable\, and a Countdown variable.\nAdded a 60-second countdown that stops the game when it reaches 0.\nChanges SplatsOnScreens when a Splat clone is deleted and created.\nAdded code to make sure new Splat clones appear when they disappear.\n\nHomework:\n\nMake 3 more Splat costumes. Each splat must be a different color.
URL:https://www.ayclogic.com/event/5-pm-scratch-1-yitong-4/
CATEGORIES:Scratch Class,Scratch Class Level 1
END:VEVENT
BEGIN:VEVENT
DTSTART;TZID=America/Los_Angeles:20220902T173000
DTEND;TZID=America/Los_Angeles:20220902T183000
DTSTAMP:20260423T133905
CREATED:20220903T014202Z
LAST-MODIFIED:20220903T014202Z
UID:14742-1662139800-1662143400@www.ayclogic.com
SUMMARY:5:30 PM - Intro to Python - Alex W.
DESCRIPTION:Today We Do\n\nReview of lists\n\n.insert\n.append\nmodifying with []\n\n\nDeleting with lists\n\ndel\n.pop\n.remove\n\n\nFor loops\n\nHomework\n\nRead pages 54-55\nIn Sep02_ForLoopHomework.py: Page 56 TRY IT YOURSELF
URL:https://www.ayclogic.com/event/530-pm-intro-to-python-alex-w-3/
END:VEVENT
BEGIN:VEVENT
DTSTART;TZID=America/Los_Angeles:20220902T190000
DTEND;TZID=America/Los_Angeles:20220902T200000
DTSTAMP:20260423T133905
CREATED:20220911T000320Z
LAST-MODIFIED:20220911T000320Z
UID:14882-1662145200-1662148800@www.ayclogic.com
SUMMARY:7 PM - Minecraft Modding with Java - Gamas
DESCRIPTION:Today We Did\n\nWe downloaded Forge 1.16.5 MDK file\nWe created aycessentials mod\n\nHomework\nNo homework
URL:https://www.ayclogic.com/event/7-pm-minecraft-modding-with-java-gamas/
END:VEVENT
BEGIN:VEVENT
DTSTART;TZID=America/Los_Angeles:20220903T100000
DTEND;TZID=America/Los_Angeles:20220903T110000
DTSTAMP:20260423T133905
CREATED:20220903T043810Z
LAST-MODIFIED:20220909T015056Z
UID:14751-1662199200-1662202800@www.ayclogic.com
SUMMARY:10 AM - Indo - Intro To Python - Gamas
DESCRIPTION:Today We Did\n\nWe went over the String homework2 today.\nWe reviewed String\, Integer data types.\nWe introduced Float data types.\nWe reviewed .strip()\, .rstrip()\, .lstrip() String functions.\nWe reviewed \t and \n\n\nHomework\n\nCreate Sept03_IfElseHomework.py\nIdentify what is the name of the variable\, the value and the data types of these variables below. Just put a comment (#) for each line the name\, value and data type. For example do something like this\n\n\nx = 10 # name is "x"\, value is 10\, data type Integer\n\n\nfirst_name = "Matthew"\nprice_of_a_book = 9.99\nnumber = -30\nnumber_2 = "20"\nnumber_3 = 2.0\n\n\n\nCopy codes from page 79 to 81 into the homework files and run them. Try to understand the result of the program.
URL:https://www.ayclogic.com/event/10-am-indo-intro-to-python-gamas-3/
CATEGORIES:Python Level 1
END:VEVENT
BEGIN:VEVENT
DTSTART;TZID=America/Los_Angeles:20220903T140000
DTEND;TZID=America/Los_Angeles:20220903T150000
DTSTAMP:20260423T133905
CREATED:20220903T220110Z
LAST-MODIFIED:20220903T221858Z
UID:14757-1662213600-1662217200@www.ayclogic.com
SUMMARY:2 PM - Intro To Python - Sebastian
DESCRIPTION:Today We Did\n\nWe learned about Integer\, Float\, String\, Boolean\nWe learned how to combine String together using + and \, (one has space and one doesn’t)\n\nHomework\n\nCreate a new file in Thonny with this name: Sep3_StringHomework.py\nCopy codes from book page 20 to 23 IntroToPythonP20toP23\nIf you have questions\, please email to sebastian@ayclogic.com
URL:https://www.ayclogic.com/event/3-pm-intro-to-python-sebastian-2/
CATEGORIES:Python Class,Python Level 1
END:VEVENT
BEGIN:VEVENT
DTSTART;TZID=America/Los_Angeles:20220906T170000
DTEND;TZID=America/Los_Angeles:20220906T180000
DTSTAMP:20260423T133905
CREATED:20220907T012726Z
LAST-MODIFIED:20220907T012726Z
UID:14768-1662483600-1662487200@www.ayclogic.com
SUMMARY:5PM - Intro To Python - Alex W.
DESCRIPTION:Today We Do\n\nModifying lists\nChanging values based on indicies\nAdding values to lists using .append and .insert\nRemoving values from lists using .pop\, del\, and .remove\n\nHomework\n\nIn Sep09_ListHomework: Complete page 42 TRY IT YOURSELF 3-4\,3-5\,and 3-6\n\nIf you have any questions\, don’t hesitate to contact me at alexwalburg@ayclogic.com
URL:https://www.ayclogic.com/event/5pm-intro-to-python-alex-w-2/
END:VEVENT
BEGIN:VEVENT
DTSTART;TZID=America/Los_Angeles:20220906T170000
DTEND;TZID=America/Los_Angeles:20220906T180000
DTSTAMP:20260423T133905
CREATED:20220907T025549Z
LAST-MODIFIED:20220907T025549Z
UID:14771-1662483600-1662487200@www.ayclogic.com
SUMMARY:5 PM - Python OOP - Bill
DESCRIPTION:Today We:\n\nWent over the bank system project/final exam\n\nYour HW:\n\nNone
URL:https://www.ayclogic.com/event/5-pm-python-oop-bill-22/
END:VEVENT
BEGIN:VEVENT
DTSTART;TZID=America/Los_Angeles:20220906T173000
DTEND;TZID=America/Los_Angeles:20220906T183000
DTSTAMP:20260423T133905
CREATED:20220907T233943Z
LAST-MODIFIED:20220907T233943Z
UID:14815-1662485400-1662489000@www.ayclogic.com
SUMMARY:5:30 PM - Intro to Python - Parna
DESCRIPTION:Today We Did\n\nWe went over 2nd quiz\, focused on reviewing functions and lists.\n\nHomework\n\nNo homework next week
URL:https://www.ayclogic.com/event/530-pm-intro-to-python-parna-32/
END:VEVENT
BEGIN:VEVENT
DTSTART;TZID=America/Los_Angeles:20220906T180000
DTEND;TZID=America/Los_Angeles:20220906T190000
DTSTAMP:20260423T133905
CREATED:20220907T045821Z
LAST-MODIFIED:20220907T045821Z
UID:14770-1662487200-1662490800@www.ayclogic.com
SUMMARY:6 PM – Scratch 2 – Yitong
DESCRIPTION:Today we:\n\nAdded a game over collision in the Asteroid sprite.\nAdded code for the GameOver sprite.\nAdded background music.\n\nHomework:\n\nWhen the player loses the game\, stop the background music and play the song GuitarChords2 once.\n\n\n\nEmail me if you need help: idyllicalyssum@gmail.com
URL:https://www.ayclogic.com/event/6-pm-scratch-2-yitong-6/
CATEGORIES:Scratch Class,Scratch Class Level 2
END:VEVENT
BEGIN:VEVENT
DTSTART;TZID=America/Los_Angeles:20220906T180000
DTEND;TZID=America/Los_Angeles:20220906T190000
DTSTAMP:20260423T133905
CREATED:20220913T065538Z
LAST-MODIFIED:20220913T065538Z
UID:14913-1662487200-1662490800@www.ayclogic.com
SUMMARY:6PM - Digital Illustration 1
DESCRIPTION:TUESDAY \nWelcome back to class! Today we continued the Corgi Puppy project. This project is to learn what kind of other ways we can draw and color that are different than the things we have done before. \nLast class we finished the lines\, and today we did the flat colors and also started to add shading to the face and chest fur. \n \nHOMEWORK \nFinish coloring and shading the white-ish fur of the chest\, by color-sampling from the little thumbnail picture in the corner.
URL:https://www.ayclogic.com/event/6pm-digital-illustration-1-13/
END:VEVENT
BEGIN:VEVENT
DTSTART;TZID=America/Los_Angeles:20220906T183000
DTEND;TZID=America/Los_Angeles:20220906T193000
DTSTAMP:20260423T133905
CREATED:20220910T010138Z
LAST-MODIFIED:20220910T032736Z
UID:14852-1662489000-1662492600@www.ayclogic.com
SUMMARY:6:30 PM – Scratch Level 1 – Allison
DESCRIPTION:Today we:\n\nContinued the Dino Dance project\nFixed any codes that had errors\nCoded the Dinosaur3 sprite to move up when the up arrow key is pressed\nCoded the Dinosaur3 sprite to move down when the down arrow key is pressed\n\nImportant Reminders:\n\nThere are new homework rules. After you finish your homework in Scratch\, you have to send an email the night before the day of the class.\nSince our class is on Tuesday\, send an email to allison@ayclogic.com by Monday at 8 PM. In that email\, write down your name and a link to your shared Scratch project homework. Make sure to share your Scratch project.\n\nHomework:\n\nRead and do the codes in Scratch book pg. 40 step #16-17. Please do the codes in the same project we did in class.\nContact us at gamas@ayclogic.com or allison@ayclogic.com if you have any questions or need any help.
URL:https://www.ayclogic.com/event/630-pm-scratch-level-1-allison-4/
CATEGORIES:Scratch Class,Scratch Class Level 1
END:VEVENT
BEGIN:VEVENT
DTSTART;TZID=America/Los_Angeles:20220906T193000
DTEND;TZID=America/Los_Angeles:20220906T193000
DTSTAMP:20260423T133905
CREATED:20220907T030643Z
LAST-MODIFIED:20220907T030653Z
UID:14774-1662492600-1662492600@www.ayclogic.com
SUMMARY:7 PM - 3D Animation Beginner
DESCRIPTION:Week 11\nToday we do:\n\nWe continue animating the half of the cycle and jumping animation\nWe add poses and adjust the timing of the poses\n\nHomework:\nFind a good jumping reference poses on the internet \nLook at the reference and continue adding poses for until you finish the rest of the jumping poses.
URL:https://www.ayclogic.com/event/7-pm-3d-animation-beginner-10/
END:VEVENT
BEGIN:VEVENT
DTSTART;TZID=America/Los_Angeles:20220907T170000
DTEND;TZID=America/Los_Angeles:20220907T180000
DTSTAMP:20260423T133905
CREATED:20220908T012008Z
LAST-MODIFIED:20220908T012008Z
UID:14817-1662570000-1662573600@www.ayclogic.com
SUMMARY:5 PM - Scratch 2 - Abigail
DESCRIPTION:What we did today\n\nWe finished working on the Cheese Chase project.\nWe worked on and finished the 2nd Level.\nWe added two more beetles.\nWe made the ghost faster.\nWe made a new maze for the 2nd level.\nWe coded it so a win banner displays after eating 5 cheese.\n\nHomework\n\nMake it so the “You Win” banner fades away after 3 seconds. You can copy ghost effect the code from the “Level 1/2” banner\, but you don’t need to use My Block.\n(Optional) make a 3rd level with your choice of difficulty\, (ex: 2 ghosts\, faster beetles\, harder mazes\, new enemies\, etc.)
URL:https://www.ayclogic.com/event/5-pm-scratch-2-abigail-5/
CATEGORIES:Scratch Class,Scratch Class Level 2
END:VEVENT
BEGIN:VEVENT
DTSTART;TZID=America/Los_Angeles:20220907T170000
DTEND;TZID=America/Los_Angeles:20220907T180000
DTSTAMP:20260423T133905
CREATED:20220909T211554Z
LAST-MODIFIED:20220909T211554Z
UID:14845-1662570000-1662573600@www.ayclogic.com
SUMMARY:5PM - Digital Illustration 3
DESCRIPTION:WEDNESDAY \nToday we reviewed the last part of the Room project\, and received feedback for the homework from last class\, which is to finish drawing\, coloring\, and shading the girl. >click here to see the details from last week’s homework< \nWe also started a new project: Tanjiro and Nezuko \nThe theme for this project is to learn and get practice to draw two figures in one drawing\, which is much harder than drawing only one figure. Until now\, we have only drawn one figure in a drawing. \nToday we used a pre-made stick figure to start off the pose of our two figures\, and we also started to add details to the Nezuko sketch. \n  \nHOMEWORK \n1. Finish the girl from the Room Project\, especially the shading details. \n2. Find an example of a pose you would like to draw.\n– You can google: “two friend pose reference” to help you find something you might like. It can be any pose\, friendly or romantic\, as long as the figures are interacting with each other. Please avoid fighting poses for now. Once you found a pose you like\, download the image onto your iPad/Tablet so that we can use it for next time.
URL:https://www.ayclogic.com/event/5pm-digital-illustration-3-16/
CATEGORIES:Digital Illustration,Intermediate Digital Illustration
END:VEVENT
BEGIN:VEVENT
DTSTART;TZID=America/Los_Angeles:20220907T170000
DTEND;TZID=America/Los_Angeles:20220907T180000
DTSTAMP:20260423T133905
CREATED:20220910T005616Z
LAST-MODIFIED:20220910T005616Z
UID:14850-1662570000-1662573600@www.ayclogic.com
SUMMARY:5 PM - Scratch Level 1 - Allison
DESCRIPTION:Today we:\n\nContinued the Birthday Card project\nCoded the background to change when the Button sprite is clicked\nAdded two Shark sprites and added a Cake sprite\nLearned how to make sprites glide\nCoded the Shark sprites to start at the top of the screen and hide when the game starts\nCoded the Shark sprites to show and glide down to a different place when the Button sprite is clicked\n\nHomework:\n\nRead and do the codes in the Scratch book pg. 86 step #9-10 and pg. 87.\nContact us if you have any questions or need any help.
URL:https://www.ayclogic.com/event/5-pm-scratch-level-1-allison-37/
CATEGORIES:Scratch Class,Scratch Class Level 1
END:VEVENT
BEGIN:VEVENT
DTSTART;TZID=America/Los_Angeles:20220907T180000
DTEND;TZID=America/Los_Angeles:20220907T200000
DTSTAMP:20260423T133905
CREATED:20220908T030537Z
LAST-MODIFIED:20220908T030627Z
UID:14819-1662573600-1662580800@www.ayclogic.com
SUMMARY:Competitive Programming
DESCRIPTION:Homework: \nCount Number of Pairs With Absolute Difference K \nGiven an integer array nums and an integer k\, return the number of pairs (i\, j) where i < j such that |nums[i] - nums[j]| == k. \nThe value of |x| is defined as: \n\nx if x >= 0.\n-x if x < 0.\n\nExample: \nInput: nums = [1\,2\,2\,1]\, k = 1\nOutput: 4\nExplanation: The pairs with an absolute difference of 1 are:\n- [1\,2\,2\,1]\n- [1\,2\,2\,1]\n- [1\,2\,2\,1]\n- [1\,2\,2\,1]
URL:https://www.ayclogic.com/event/14819/
END:VEVENT
BEGIN:VEVENT
DTSTART;TZID=America/Los_Angeles:20220907T190000
DTEND;TZID=America/Los_Angeles:20220907T200000
DTSTAMP:20260423T133905
CREATED:20220909T063110Z
LAST-MODIFIED:20220909T063110Z
UID:14841-1662577200-1662580800@www.ayclogic.com
SUMMARY:7PM - Intro to Python - Latisha
DESCRIPTION:Today We Did\n\nFinished Grocery Cart\nStarted Robux System\n\nHomework\n\nDo selections 2 and 3 for Robux System\n\nIf you have any questions\, please send an email to latisha@ayclogic.com
URL:https://www.ayclogic.com/event/7pm-intro-to-python-latisha-12/
END:VEVENT
BEGIN:VEVENT
DTSTART;TZID=America/Los_Angeles:20220907T193000
DTEND;TZID=America/Los_Angeles:20220907T203000
DTSTAMP:20260423T133905
CREATED:20220908T032734Z
LAST-MODIFIED:20220908T032734Z
UID:14822-1662579000-1662582600@www.ayclogic.com
SUMMARY:7:30 PM Intro To Java - Alex Lee
DESCRIPTION:Today We Did:\n\nWe continued with the Email Application project.\nAdded in how to log in and the menu for it.\n\nFor Homework:\n\nFollow the code below\, by asking the user for the email’s recipient\, subject\, and content.\nEnsure that the recipient is an email in our system already.\nAlso\, create a new class called EmailMessage and it should have 4 attributes. They are senderEmail\, recipientEmail\, subject\, and content.\n\nGamas\, please select from below:\n1. Check your inbox\n2. Create new email message\n3. Logout\nEnter your selection: 2\nSend to: las\nWe cannot find las email in our system\n\nGamas\, please select from below:\n1. Check your inbox\n2. Create new email message\n3. Logout\nEnter your selection: 2\nSend to: aidan@ayclogic.com\nSubject: Test\nContent: You passed!
URL:https://www.ayclogic.com/event/730-pm-intro-to-java-alex-lee/
CATEGORIES:Introduction To Java,Java
END:VEVENT
BEGIN:VEVENT
DTSTART;TZID=America/Los_Angeles:20220908T170000
DTEND;TZID=America/Los_Angeles:20220908T180000
DTSTAMP:20260423T133905
CREATED:20220909T023905Z
LAST-MODIFIED:20220909T024141Z
UID:14829-1662656400-1662660000@www.ayclogic.com
SUMMARY:5 PM - Python Game Development - Gamas
DESCRIPTION:Today We Did\n\nWe continued with Shoot Balloon project.\nWe added ability for the Bug to do chirping.\nWe utilized inheritance method overriding to override Sprite.kill() method.\nWe started a Loading page but we did not finish.\n\nHomework\n\nInside main.py init function\, set your game_mode back to GAME_LANDING_PAGE. Remember in the class we set it to GAME_LOADING_PAGE\, but it will remain in GAME_LOADING_PAGE unless we manually set to GAME_LOADING_PAGE for now. You have to do this otherwise you cannot do your homework.\nAdd Countdown timer 30 seconds to the game. Put it on the top right corner of the screen. This is similar to Flappy Bird game. When the count down goes to 0\, check if score is greater than 100 or not\, if it is greater than 100\, then show GAME WIN page\, if it is less than 100\, then show GAME LOSE page.\nBy the way\, in the class\, I mentioned about a website where it can generate loader/spinner images for you\, here it is: https://loading.io/
URL:https://www.ayclogic.com/event/5-pm-python-game-development-gamas-10/
CATEGORIES:Python Class,Python Level 1
END:VEVENT
BEGIN:VEVENT
DTSTART;TZID=America/Los_Angeles:20220908T173000
DTEND;TZID=America/Los_Angeles:20220908T183000
DTSTAMP:20260423T133905
CREATED:20220909T013307Z
LAST-MODIFIED:20220909T013307Z
UID:14825-1662658200-1662661800@www.ayclogic.com
SUMMARY:5:30 PM - Intro to Python - Parna
DESCRIPTION:Today We Do\n\nWe went over how to get a random number and how to get a random element from a list\nWe went over one version of the Magic 8 Ball program using random.randint\n\nHomework\n\nProblem https://www.ayclogic.com/intro-to-python/magic-8-ball/\nDo above problem using random.choice instead of random.randint\nName it <Date>_Magic8Ball_V2.py
URL:https://www.ayclogic.com/event/530-pm-intro-to-python-parna-33/
END:VEVENT
BEGIN:VEVENT
DTSTART;TZID=America/Los_Angeles:20220908T190000
DTEND;TZID=America/Los_Angeles:20220908T200000
DTSTAMP:20260423T133905
CREATED:20220909T040141Z
LAST-MODIFIED:20220909T040141Z
UID:14839-1662663600-1662667200@www.ayclogic.com
SUMMARY:7PM - Object Oriented Programming with Python - Alex W.
DESCRIPTION:Today We Do\n\nInstalled PyCharm\nConfigured our first python project\nLearned how to make and access values with dictionaries\n\nHomework\n\nRead Pages 92 to 97\nIn file Sep08_IntroToDictionariesHomework.py: page 99 TRY IT YOURSELF 6-1 and 6-2\n\nIf you have any questions\, I can be contacted at alexwalburg@ayclogic.com
URL:https://www.ayclogic.com/event/7pm-object-oriented-programming-with-python-alex-w/
END:VEVENT
BEGIN:VEVENT
DTSTART;TZID=America/Los_Angeles:20220909T170000
DTEND;TZID=America/Los_Angeles:20220909T180000
DTSTAMP:20260423T133905
CREATED:20220910T025326Z
LAST-MODIFIED:20220910T025326Z
UID:14856-1662742800-1662746400@www.ayclogic.com
SUMMARY:5 PM – Scratch 1 – Yitong
DESCRIPTION:Today we:\n\nAdded the Camera extension.\nAdded camera sensing for touching the Splat clones.\nAdded a Difficulty variable.\nFinished Window Cleaner project.\n\nHomework:\n\nAdd code so that when you press the space key on your keyboard\, you turn off the camera.
URL:https://www.ayclogic.com/event/5-pm-scratch-1-yitong-5/
CATEGORIES:Scratch Class,Scratch Class Level 1
END:VEVENT
BEGIN:VEVENT
DTSTART;TZID=America/Los_Angeles:20220909T173000
DTEND;TZID=America/Los_Angeles:20220909T183000
DTSTAMP:20260423T133905
CREATED:20220910T014938Z
LAST-MODIFIED:20220910T014938Z
UID:14854-1662744600-1662748200@www.ayclogic.com
SUMMARY:5:30 PM - Intro To Python - Alex W.
DESCRIPTION:Today We did\n\nFor loops without lists using range\n\nStarting at a nonzero value\nSkipping numbers\n\n\nWhile loops\n\nconditions\nforever loops and break\n\n\n\nHomework\n\nRead pages 57-58\,118 and 121\nIn file Sep09_WhileLoopHomework: Page 123-124 TRY IT YOURSELF 7-4\,7-5\,7-6\, and 7-7\n\nIf you have any questions\, you can email me at alexwalburg@ayclogic.com
URL:https://www.ayclogic.com/event/530-pm-intro-to-python-alex-w-4/
END:VEVENT
BEGIN:VEVENT
DTSTART;TZID=America/Los_Angeles:20220909T190000
DTEND;TZID=America/Los_Angeles:20220909T200000
DTSTAMP:20260423T133905
CREATED:20220910T043546Z
LAST-MODIFIED:20220910T043546Z
UID:14861-1662750000-1662753600@www.ayclogic.com
SUMMARY:7 PM - Python Game Development - Gamas
DESCRIPTION:Today We Did\n\nHelped Keanu with his Final Project.\nHelped Christopher with his Final Project.\n\nHomework\n\nContinue with your team project.
URL:https://www.ayclogic.com/event/7-pm-python-game-development-gamas-6/
CATEGORIES:Python Class,Python Game Development
END:VEVENT
BEGIN:VEVENT
DTSTART;TZID=America/Los_Angeles:20220910T090000
DTEND;TZID=America/Los_Angeles:20220910T100000
DTSTAMP:20260423T133905
CREATED:20220910T165728Z
LAST-MODIFIED:20220910T165807Z
UID:14863-1662800400-1662804000@www.ayclogic.com
SUMMARY:9 AM - Intro To Java - Gamas
DESCRIPTION:Homework\n\nContinue on your Android Temperature Converter project.\nAdd “Celcius” header on top right of the app. Change the id to “convertedTempHeader”.\nUnderneath\, add a text field. Change the id to “convertedTextField”.
URL:https://www.ayclogic.com/event/9-am-intro-to-java-gamas-16/
CATEGORIES:Introduction To Java,Java
END:VEVENT
BEGIN:VEVENT
DTSTART;TZID=America/Los_Angeles:20220910T090000
DTEND;TZID=America/Los_Angeles:20220910T100000
DTSTAMP:20260423T133905
CREATED:20220910T170808Z
LAST-MODIFIED:20220910T170808Z
UID:14867-1662800400-1662804000@www.ayclogic.com
SUMMARY:9AM - Intro to Python - Saagar
DESCRIPTION:Today we did:\n\nWent over the review sheet in depth\nTrivia style questions for more practice for the quiz\n\nHomework\n\nStudy for the quiz!!! I strongly recommend doing practice problems and using the notes from today’s class when we went over review sheet to study. If you are able to do the problems on the review sheet comfortably\, you will do well on the quiz. Study hard now and it’ll pay off later!!! As always\, if you have questions\, feel free to email me. GOOD LUCK!!!
URL:https://www.ayclogic.com/event/9am-intro-to-python-saagar-6/
CATEGORIES:Python Class,Python Level 1
END:VEVENT
BEGIN:VEVENT
DTSTART;TZID=America/Los_Angeles:20220910T100000
DTEND;TZID=America/Los_Angeles:20220910T110000
DTSTAMP:20260423T133905
CREATED:20220910T040943Z
LAST-MODIFIED:20220917T041727Z
UID:14859-1662804000-1662807600@www.ayclogic.com
SUMMARY:10 AM - Indo - Intro To Python - Gamas
DESCRIPTION:Homework\n\nIf you did not do your homework last week or 2 weeks ago or 3 weeks ago\, please do them.\nCreate a new file Sep10_IfElseHomework2.py\nAnswer questions from page 84 and 85: TRY IT YOURSELF 5-3\, 5-4\, 5-5\, 5-6\, 5-7\nSubmit your homework to google drive on Friday night.
URL:https://www.ayclogic.com/event/10-am-indo-intro-to-python-gamas-4/
CATEGORIES:Python Class,Python Level 1
END:VEVENT
BEGIN:VEVENT
DTSTART;TZID=America/Los_Angeles:20220910T120000
DTEND;TZID=America/Los_Angeles:20220910T130000
DTSTAMP:20260423T133905
CREATED:20220910T235543Z
LAST-MODIFIED:20220910T235543Z
UID:14870-1662811200-1662814800@www.ayclogic.com
SUMMARY:12 PM - Android Game Development - Gamas
DESCRIPTION:Homework\n\nContinue on Birdie Mobile game.\nIn main_activity.xml\, add the setting button (using gear.png image).\nWhen this button is clicked\, bring to SettingActivity. This is very similar to when you click the Credit button.
URL:https://www.ayclogic.com/event/12-pm-android-game-development-gamas/
END:VEVENT
END:VCALENDAR