BEGIN:VCALENDAR
VERSION:2.0
PRODID:-//American Young Coder - ECPv6.10.1.1//NONSGML v1.0//EN
CALSCALE:GREGORIAN
METHOD:PUBLISH
X-ORIGINAL-URL:https://www.ayclogic.com
X-WR-CALDESC:Events for American Young Coder
REFRESH-INTERVAL;VALUE=DURATION:PT1H
X-Robots-Tag:noindex
X-PUBLISHED-TTL:PT1H
BEGIN:VTIMEZONE
TZID:America/Los_Angeles
BEGIN:DAYLIGHT
TZOFFSETFROM:-0800
TZOFFSETTO:-0700
TZNAME:PDT
DTSTART:20230312T100000
END:DAYLIGHT
BEGIN:STANDARD
TZOFFSETFROM:-0700
TZOFFSETTO:-0800
TZNAME:PST
DTSTART:20231105T090000
END:STANDARD
END:VTIMEZONE
BEGIN:VEVENT
DTSTART;TZID=America/Los_Angeles:20230301T170000
DTEND;TZID=America/Los_Angeles:20230301T180000
DTSTAMP:20260423T052724
CREATED:20230306T221112Z
LAST-MODIFIED:20230306T221112Z
UID:18374-1677690000-1677693600@www.ayclogic.com
SUMMARY:5PM - Digital Illustration 3
DESCRIPTION:WEDNESDAY \nToday we continued one of the clothing sketches from last time for the in-class project. \n\nFinished the lines of her body and clothes\nAdded lines for the hair and face of the character\n\n \n  \nHOMEWORK : FINAL PROJECT \nCatch up on the lines for Style 1 (if you need to) \nAdd some flat colors to your character on a separate layer.
URL:https://www.ayclogic.com/event/5pm-digital-illustration-3-36/
CATEGORIES:Digital Illustration,Intermediate Digital Illustration
END:VEVENT
BEGIN:VEVENT
DTSTART;TZID=America/Los_Angeles:20230301T180000
DTEND;TZID=America/Los_Angeles:20230301T190000
DTSTAMP:20260423T052724
CREATED:20230302T030123Z
LAST-MODIFIED:20230302T030123Z
UID:18312-1677693600-1677697200@www.ayclogic.com
SUMMARY:6 PM - Python OOP - Gamas
DESCRIPTION:Homework\n\nInside LibrarySystem\, add code inside book.py so it will have a new method called get_info(self)\n\nWhen get_info(self) is called it will return information of the book. Like this\n\nTitle: Lightning Thief – Book Author: Henry – Year Published: 1995 – id: AAA1\nLook at example in Nov8_ClassHomework3.py inside Car class method get_descriptive_name(self)\n\n\nInside main.py\, change the code to use this new book.get_info()
URL:https://www.ayclogic.com/event/6-pm-python-oop-gamas-18/
CATEGORIES:OOP Python,Python Class
END:VEVENT
BEGIN:VEVENT
DTSTART;TZID=America/Los_Angeles:20230301T180000
DTEND;TZID=America/Los_Angeles:20230301T190000
DTSTAMP:20260423T052724
CREATED:20230304T210753Z
LAST-MODIFIED:20230304T210753Z
UID:18334-1677693600-1677697200@www.ayclogic.com
SUMMARY:6 PM – Scratch Level 2 – Allison
DESCRIPTION:Today we:\n\nReviewed the homework\nContinued the Fantastic Flowers project\nLearned more about “My Blocks”\nRandomized the number of petals and petal colors a flower will have\n\nImportant Reminders:\n\nAfter you finish your homework in Scratch\, send an email to allison@ayclogic.com by Tuesday at 8 PM. In that email\, write down your name and a link to your shared Scratch project homework. Make sure to share your Scratch project.\n\nHomework:\n\nRead and do the codes in the pink Scratch Book Pg. 116-117\nNote: you can choose any background you want\nIf you do not have the book\, please click on this link to see the pages: Scratch Book Pg. 116-117\nContact us if you have any questions or need any help
URL:https://www.ayclogic.com/event/6-pm-scratch-level-2-allison-4/
CATEGORIES:Scratch Class,Scratch Class Level 2
END:VEVENT
BEGIN:VEVENT
DTSTART;TZID=America/Los_Angeles:20230301T183000
DTEND;TZID=America/Los_Angeles:20230301T193000
DTSTAMP:20260423T052724
CREATED:20230302T033315Z
LAST-MODIFIED:20230309T022407Z
UID:18314-1677695400-1677699000@www.ayclogic.com
SUMMARY:6:30 PM – Intro To Python – Sebastian
DESCRIPTION:Today We Did\n\nMixed functions with random module\nMixed functions with for loops and while loops\nMixed functions with if statements\nIn case you need anything\, feel free to email me at sebastian@ayclogic.com\n\nHomework\n\nName your homework MAR1_starwars_hw\, please submit by next Monday.\nHomework: Since last time you were only supposed to do #1\, do #2 – #4 from the following link:\nhttps://www.ayclogic.com/intro-to-python/star-wars-problem/
URL:https://www.ayclogic.com/event/630-pm-intro-to-python-sebastian-8/
CATEGORIES:Python Class,Python Level 1
END:VEVENT
BEGIN:VEVENT
DTSTART;TZID=America/Los_Angeles:20230301T190000
DTEND;TZID=America/Los_Angeles:20230301T200000
DTSTAMP:20260423T052724
CREATED:20230306T081404Z
LAST-MODIFIED:20230306T081448Z
UID:18361-1677697200-1677700800@www.ayclogic.com
SUMMARY:7PM - OOP Python - Latisha
DESCRIPTION:Today We Did\n\nContinued working on Monster Inheritance\n\nHomework\n\nIn sword_attack\, do the second half of the attack. Get the number of damage points the monster does to you\, which should be a random number between 5 and the monster’s max attack. Then decrease your health by that number. Finally\, print a message saying “<monster name> attacked you with <monster random damage> damage. Your remaining health is <your health>”\n\nIf you have any questions\, you can ask me at latisha@ayclogic.com.
URL:https://www.ayclogic.com/event/7pm-oop-python-latisha-33/
END:VEVENT
BEGIN:VEVENT
DTSTART;TZID=America/Los_Angeles:20230302T160000
DTEND;TZID=America/Los_Angeles:20230302T170000
DTSTAMP:20260423T052724
CREATED:20230303T011800Z
LAST-MODIFIED:20230303T011800Z
UID:18316-1677772800-1677776400@www.ayclogic.com
SUMMARY:4 PM - Scratch 1 - Abigail
DESCRIPTION:What we did today\n\nWe started working on the Gobo Project.\n\nHomework\n\nAdd 3 more options to your Gobo project. (In the end you should have 6 options in total).\nLook at the previous if statements you did in class as reference.\nGobo’s 6 options should say\, “yes”\, “no”\, “maybe”\, “definitely”\, “never”\, “{A random word of your liking}”.\n\nIf you need help\, email abigail@ayclogic.com.
URL:https://www.ayclogic.com/event/4-pm-scratch-1-abigail-4/
CATEGORIES:Scratch Class,Scratch Class Level 1
END:VEVENT
BEGIN:VEVENT
DTSTART;TZID=America/Los_Angeles:20230302T190000
DTEND;TZID=America/Los_Angeles:20230302T200000
DTSTAMP:20260423T052725
CREATED:20230306T081559Z
LAST-MODIFIED:20230306T081559Z
UID:18364-1677783600-1677787200@www.ayclogic.com
SUMMARY:7PM - Python Game Development - Latisha
DESCRIPTION:Today We Did\n\nStarted working Dragon Birdie\n\nHomework\n\nNone\n\nIf you have any questions\, you can ask me at latisha@ayclogic.com.
URL:https://www.ayclogic.com/event/7pm-python-game-development-latisha-9/
END:VEVENT
BEGIN:VEVENT
DTSTART;TZID=America/Los_Angeles:20230303T170000
DTEND;TZID=America/Los_Angeles:20230303T180000
DTSTAMP:20260423T052725
CREATED:20230304T015911Z
LAST-MODIFIED:20230304T015911Z
UID:18319-1677862800-1677866400@www.ayclogic.com
SUMMARY:5 PM – Intro To Python – Shawn
DESCRIPTION:What we did\n\nHomework review\nIf statements\n\nHomework\n\nCreate a file named Mar3_IfElseHW.py\nCopy pages 79-81 from the textbook\nTurn it in a day before class\n\nIf you have any questions\, don’t hesitate to email me at szhuang@ayclogic.com.
URL:https://www.ayclogic.com/event/5-pm-intro-to-python-shawn-10/
END:VEVENT
BEGIN:VEVENT
DTSTART;TZID=America/Los_Angeles:20230303T170000
DTEND;TZID=America/Los_Angeles:20230303T180000
DTSTAMP:20260423T052725
CREATED:20230308T211853Z
LAST-MODIFIED:20230308T211853Z
UID:18400-1677862800-1677866400@www.ayclogic.com
SUMMARY:5 PM - Intro To Java - Alex Lee
DESCRIPTION:Homework\n\nCreate a new project called Mar3Magic8Ball.java\, and use a combination of Random module\, while loop\, if else statements to create Magic8Ball game.\nLook at below Python codes for your reference\n\n\n\n\nimport random\n\nwhile True: \n    user_question = input("\nEnter your question? ")\n    if user_question.lower() == "quit" or user_question.lower() == "exit": \n        print("Bye bye")\n        break\n    random_num = random.randint(1\, 8)\n    if random_num == 1:\n        print("It is certain") \n    elif random_num == 2:\n        print("Most likely.") \n    elif random_num == 3:\n        print("Signs point to yes.") \n    elif random_num == 4:\n        print("I don’t think so.") \n    elif random_num == 5:\n        print("Ask again later.") \n    elif random_num == 6:\n        print("Concentrate and ask again.") \n    elif random_num == 7:\n        print("Outlook not so good.") \n    elif random_num == 8:\n        print("My reply is no")
URL:https://www.ayclogic.com/event/5-pm-intro-to-java-alex-lee-2/
CATEGORIES:Introduction To Java,Java
END:VEVENT
BEGIN:VEVENT
DTSTART;TZID=America/Los_Angeles:20230303T173000
DTEND;TZID=America/Los_Angeles:20230303T183000
DTSTAMP:20260423T052725
CREATED:20230304T024233Z
LAST-MODIFIED:20230304T024233Z
UID:18322-1677864600-1677868200@www.ayclogic.com
SUMMARY:5:30 PM - Intro To Python - Gamas
DESCRIPTION:Homework\n\nContinue on Feb24_RobuxShoppingCart.py\nAdd codes so your program can have these 2 features\n\nIt will not allow to make purchase if you do not have enough robux\nYou will be able to add 200 robux if you enter the right credit card number ABCD1234.\n\n\nIf you do it correctly\, it will do the following\n\nWelcome to Robux Bank\, you have 300 robux in the beginning.\n\nWhat do you want to do: \n1. Buy hat 100 Robux\n2. Buy hair 150 Robux\n3. VIP Server 500 Robux\n4. Add more Robux\nEnter your selection. Enter “done” when finish: 3\nYou only have 300 robux remaining. Therefore you cannot purchase VIP Server for 500 robux.\n\nWhat do you want to do: \n1. Buy hat 100 Robux\n2. Buy hair 150 Robux\n3. VIP Server 500 Robux\n4. Add more Robux\nEnter your selection. Enter “done” when finish: 4\nEnter your Credit Card number: asdfasd\nYou have entered an invalid credit card number\n\nWhat do you want to do: \n1. Buy hat 100 Robux\n2. Buy hair 150 Robux\n3. VIP Server 500 Robux\n4. Add more Robux\nEnter your selection. Enter “done” when finish: 4\nEnter your Credit Card number: ABCD1234\nThank you for purchasing 200 Robux. You now have 500 robux remaining.
URL:https://www.ayclogic.com/event/530-pm-intro-to-python-gamas-12/
CATEGORIES:Python Class,Python Level 1
END:VEVENT
BEGIN:VEVENT
DTSTART;TZID=America/Los_Angeles:20230304T093000
DTEND;TZID=America/Los_Angeles:20230304T103000
DTSTAMP:20260423T052725
CREATED:20230304T193741Z
LAST-MODIFIED:20230304T195851Z
UID:18327-1677922200-1677925800@www.ayclogic.com
SUMMARY:9:30 AM – Scratch 1 – Yitong
DESCRIPTION:Today we:\n\nFinished the Draw Shapes project.\nStarted the Animal Crossing project.\nAdded the XY-Grid background.\nAdded the Mouse1 sprite and made it walk to the right. When it hits the edge of the screen\, it says “Ouch!”\nAdded the Mouse2 sprite and made it glide to the right.\nAdded the Bat sprite and made it fly up. When it gets to the top of the screen\, it says “Weee!”\n\nHomework:\n\nAdd the “Bear-walking” sprite from the Scratch Library.\nSet the Bear sprite’s size to 50%.\nMake the Bear sprite face towards the left USING CODE.\nMake the Bear sprite walk towards the left of the screen.\nMake the Bear sprite switch costumes while walking.\nWhen the Bear sprite gets to the left edge of the screen\, it should say “I win!”\nAdd the “Dinosaur3” sprite from the Scratch Library.\nSet the Dinosaur sprite’s size to 50%.\nMake the Dinosaur sprite fly down the screen.\nMake the Dinosaur sprite switch costumes while flying.\nWhen the Dinosaur sprite gets to the bottom of the screen\, it should say “Hello!”\n\n\n\n\nHere is a video that shows what your project should look like: https://www.youtube.com/watch?v=sOjqBiF94bo\n\n\n\nSubmit your homework to this email: yitong@ayclogic.com
URL:https://www.ayclogic.com/event/930-am-scratch-1-yitong-6/
CATEGORIES:Scratch Class,Scratch Class Level 1
END:VEVENT
BEGIN:VEVENT
DTSTART;TZID=America/Los_Angeles:20230304T100000
DTEND;TZID=America/Los_Angeles:20230304T110000
DTSTAMP:20260423T052725
CREATED:20230304T034630Z
LAST-MODIFIED:20230304T034630Z
UID:18324-1677924000-1677927600@www.ayclogic.com
SUMMARY:10 AM - Indo - Intro to Python - Gamas
DESCRIPTION:Today We Did\n\nWe went over how to fix python errors. How to read python errors.\n\nHomework\n\nCreate March4_2ndQuizPrep.py\nDo exercises from https://www.ayclogic.com/intro-to-python-exercises-for-quiz-2/
URL:https://www.ayclogic.com/event/10-am-indo-intro-to-python-gamas-7/
CATEGORIES:Python Class,Python Level 1
END:VEVENT
BEGIN:VEVENT
DTSTART;TZID=America/Los_Angeles:20230304T103000
DTEND;TZID=America/Los_Angeles:20230304T233000
DTSTAMP:20260423T052725
CREATED:20230304T193203Z
LAST-MODIFIED:20230304T193203Z
UID:18328-1677925800-1677972600@www.ayclogic.com
SUMMARY:10:30 AM – Scratch 1 – Yitong
DESCRIPTION:Today we:\n\nFinished the Mary Had A Little Lamb project.\nStarted the Virtual Snow project.\nMade a gradient background.\nMade the Snow sprite.\nMade clones of the Snow sprite.\nMade the clones go to the top of the screen and fall down. When they get to the edge of the screen\, they are deleted.\n\nHomework:\n\nAdd the Snowman sprite.\n\nEmail me if you need help: yitong@ayclogic.com
URL:https://www.ayclogic.com/event/1030-am-scratch-1-yitong-16/
CATEGORIES:Scratch Class,Scratch Class Level 1
END:VEVENT
BEGIN:VEVENT
DTSTART;TZID=America/Los_Angeles:20230304T120000
DTEND;TZID=America/Los_Angeles:20230304T130000
DTSTAMP:20260423T052725
CREATED:20230304T205554Z
LAST-MODIFIED:20230304T205554Z
UID:18332-1677931200-1677934800@www.ayclogic.com
SUMMARY:12 PM - Android Game Development - Gamas
DESCRIPTION:Homework\n\nWe are using a lot of if elif else statements in our codes. There is a slightly faster way which is using switch https://www.w3schools.com/java/java_switch.asp\nReplaced code inside GameView.update() to use Java switch.
URL:https://www.ayclogic.com/event/12-pm-android-game-development-gamas-12/
CATEGORIES:Android Game Development,Java
END:VEVENT
BEGIN:VEVENT
DTSTART;TZID=America/Los_Angeles:20230304T130000
DTEND;TZID=America/Los_Angeles:20230304T140000
DTSTAMP:20260423T052725
CREATED:20230304T220042Z
LAST-MODIFIED:20230304T220042Z
UID:18338-1677934800-1677938400@www.ayclogic.com
SUMMARY:1 PM - Android Game Dev - Gamas
DESCRIPTION:Homework\n\nInside activity_game.xml\, add the component number 3\, 4\, 5 and 7.\nFor component 4\, just put start (left:32dp) and top constraint (8dp).\nFor component 3\, just put end (right:32dp) and top constraint (32dp).\nFor component 5\, just put end (right:32dp) and top constraint (8dp).\nFor component 7 (reset button)\, put top\, left (32dp) and right (32dp) constraint.\nWhen you click the reset button\, print something to shell (“Reset button is clicked”)
URL:https://www.ayclogic.com/event/1-pm-android-game-dev-gamas-2/
CATEGORIES:Android Game Development,Java
END:VEVENT
BEGIN:VEVENT
DTSTART;TZID=America/Los_Angeles:20230304T140000
DTEND;TZID=America/Los_Angeles:20230304T150000
DTSTAMP:20260423T052725
CREATED:20230305T000810Z
LAST-MODIFIED:20230305T001209Z
UID:18342-1677938400-1677942000@www.ayclogic.com
SUMMARY:2 PM – Intro To Python – Sebastian
DESCRIPTION:Today We Did\n\nRobot builder left and right arm\nReviewed why functions are useful for large projects like this\nturtle.forward() & turtle.right()\nIn case you need anything\, feel free to email me at sebastian@ayclogic.com\n\nHomework\n\nName your homework MAR4_robot_builder_hw\, please submit by next Friday.\nHomework: Copy code from “MAR4_robot_builder” made in class. Create “right_arm” function taking x\, y\, and color as parameters. In two lines\, use the rectangle function to draw the right arm and test it out the same way we called our left arm function. Please submit by next Friday
URL:https://www.ayclogic.com/event/2-pm-intro-to-python-sebastian-22/
CATEGORIES:Python Class,Python Level 1
END:VEVENT
BEGIN:VEVENT
DTSTART;TZID=America/Los_Angeles:20230304T150000
DTEND;TZID=America/Los_Angeles:20230304T160000
DTSTAMP:20260423T052725
CREATED:20230305T001206Z
LAST-MODIFIED:20230311T215610Z
UID:18341-1677942000-1677945600@www.ayclogic.com
SUMMARY:3 PM – Intro To Python – Sebastian
DESCRIPTION:Today We Did\n\nColor shapes with turtle.begin_fill() & turtle.end_fill()\nMove and turn pen with turtle.forward() & turtle.right()\nDrawing rectangles in different ways\nIn case you need anything\, feel free to email me at sebastian@ayclogic.com\n\nHomework\n\nName your homework MAR4_turtle_shapes_hw\, please submit by next Friday.\nHomework: Finish numbers 4 and 5 from the website linked below\, and remember to use the coordinate picture on number 6 for help.\nhttps://www.ayclogic.com/event/6-pm-intro-to-python-46/
URL:https://www.ayclogic.com/event/3-pm-intro-to-python-sebastian-22/
CATEGORIES:Python Class,Python Level 1
END:VEVENT
BEGIN:VEVENT
DTSTART;TZID=America/Los_Angeles:20230304T150000
DTEND;TZID=America/Los_Angeles:20230304T160000
DTSTAMP:20260423T052725
CREATED:20230311T180917Z
LAST-MODIFIED:20230311T180917Z
UID:18438-1677942000-1677945600@www.ayclogic.com
SUMMARY:3:00 PM - Python Game Development - Juan
DESCRIPTION:Today We Did\n\nSet-up PyCharm\, Gitlab account\, and cloned the dragon-birdie repository.\nStarted blitting images for PyGame to display.\n\nHomework\n\nDraw bird01_A.png\n\nIf you have any questions\, you can ask me at juan@ayclogic.com.
URL:https://www.ayclogic.com/event/300-pm-python-game-development-juan/
CATEGORIES:Python Class,Python Game Development
END:VEVENT
BEGIN:VEVENT
DTSTART;TZID=America/Los_Angeles:20230304T160000
DTEND;TZID=America/Los_Angeles:20230304T170000
DTSTAMP:20260423T052725
CREATED:20230306T081718Z
LAST-MODIFIED:20230306T081718Z
UID:18366-1677945600-1677949200@www.ayclogic.com
SUMMARY:4PM - Python Game Development - Latisha
DESCRIPTION:Today We Did\n\nStarted working on Shoot Balloon\n\nHomework\n\nKeep working on tasks for project\n\nIf you have any questions\, you can ask me at latisha@ayclogic.com.
URL:https://www.ayclogic.com/event/4pm-python-game-development-latisha-19/
END:VEVENT
BEGIN:VEVENT
DTSTART;TZID=America/Los_Angeles:20230304T170000
DTEND;TZID=America/Los_Angeles:20230304T180000
DTSTAMP:20260423T052725
CREATED:20230305T020540Z
LAST-MODIFIED:20230305T020540Z
UID:18346-1677949200-1677952800@www.ayclogic.com
SUMMARY:5 PM - Minecraft Modding with Java - Gamas
DESCRIPTION:Today We Did\n\nWe were able to add AYC Essentials creative mode tab.\nWe were able to add SaturnSword into AYC Essentials creative mode tab.
URL:https://www.ayclogic.com/event/5-pm-minecraft-modding-with-java-gamas-19/
CATEGORIES:Java,Minecraft Modding With Java
END:VEVENT
BEGIN:VEVENT
DTSTART;TZID=America/Los_Angeles:20230304T170000
DTEND;TZID=America/Los_Angeles:20230304T180000
DTSTAMP:20260423T052725
CREATED:20230305T055423Z
LAST-MODIFIED:20230305T055423Z
UID:18351-1677949200-1677952800@www.ayclogic.com
SUMMARY:5 PM – Scratch Level 2 – Allison
DESCRIPTION:Today We:\n\nContinued the Jumpy Monkey project\nCreated the Level Banner\nUsed “My Blocks” to code the Level Banner to switch costumes\nCoded the Dinosaur sprite to move\n\nHomework:\n\nRead and do the codes in the yellow Scratch Book Pg. 100-101\nContact us if you have any questions or need any help
URL:https://www.ayclogic.com/event/5-pm-scratch-level-2-allison-4/
END:VEVENT
BEGIN:VEVENT
DTSTART;TZID=America/Los_Angeles:20230304T180000
DTEND;TZID=America/Los_Angeles:20230304T190000
DTSTAMP:20260423T052725
CREATED:20230311T180505Z
LAST-MODIFIED:20230311T180505Z
UID:18436-1677952800-1677956400@www.ayclogic.com
SUMMARY:6:00 PM - Intro to Python - Juan
DESCRIPTION:Today We Did\n\nReviewed getting shell from the input and flow of if-elif-else statements.\nLearned how to convert shell input from string into an int.\nBriefly learned about lists.\nIn case you need anything\, feel free to email me at juan@ayclogic.com\nView what we covered today at the google drive: https://drive.google.com/drive/folders/15Guajo6GvNi_09_rLw7QNwPyAcz1sBNA\n\nHomework\n\nMar11_shell_homework2.py\,   #3 from do-it-yourself https://www.ayclogic.com/list-inputs-if-and-else-loops-and-function/
URL:https://www.ayclogic.com/event/600-pm-intro-to-python-juan-5/
CATEGORIES:Python Class,Python Level 1
END:VEVENT
BEGIN:VEVENT
DTSTART;TZID=America/Los_Angeles:20230304T190000
DTEND;TZID=America/Los_Angeles:20230304T200000
DTSTAMP:20260423T052725
CREATED:20230305T040634Z
LAST-MODIFIED:20230305T040634Z
UID:18349-1677956400-1677960000@www.ayclogic.com
SUMMARY:7 PM - Digital Illustration - Abigail
DESCRIPTION:What we did today\n\nWe continued working on the Eevee drawing.\n\nHomework\n\nNo homework\nNo class next week.
URL:https://www.ayclogic.com/event/7-pm-digital-illustration-abigail-21/
CATEGORIES:Beginner Digital Illustration,Digital Illustration
END:VEVENT
BEGIN:VEVENT
DTSTART;TZID=America/Los_Angeles:20230306T160000
DTEND;TZID=America/Los_Angeles:20230306T170000
DTSTAMP:20260423T052725
CREATED:20230308T212223Z
LAST-MODIFIED:20230308T212223Z
UID:18402-1678118400-1678122000@www.ayclogic.com
SUMMARY:4 PM - Scratch 1 - Alex Lee
DESCRIPTION:What We Did\n\nContinued and finished up the punch the dummy project by adding in the pow.\nStarted the Mary Had A Little Lamb project\n\nAdded in the different notes for the song\n\n\n\nHomework\n\nContinue on your Mary Had A Little Lamb project. Go to ayclogic.com\, then hover over courses menu and go to project resources. In that Project Resource page scroll down until you see the Mary Had a Little Lamb music notes.\nIn your project\, then create a new sprite that does not have a costume\, and inside it broadcast each of the notes with waiting 0.5 seconds between each of the broadcasts for the notes.
URL:https://www.ayclogic.com/event/4-pm-scratch-1-alex-lee/
CATEGORIES:Scratch Class,Scratch Class Level 1
END:VEVENT
BEGIN:VEVENT
DTSTART;TZID=America/Los_Angeles:20230306T170000
DTEND;TZID=America/Los_Angeles:20230306T180000
DTSTAMP:20260423T052725
CREATED:20230306T114957Z
LAST-MODIFIED:20230306T115326Z
UID:18368-1678122000-1678125600@www.ayclogic.com
SUMMARY:5 PM - Indo - Intro to Python - Joel
DESCRIPTION:Today we did:\n\nWe went over the homework for fix Python errors and did some more practice for fixing Python errors.\n\nHomework:\n\nCreate a file called March6_2ndQuizPrep.py\nDo exercises from https://www.ayclogic.com/intro-to-python-exercises-for-quiz-2/
URL:https://www.ayclogic.com/event/5-pm-indo-intro-to-python-joel-3/
END:VEVENT
BEGIN:VEVENT
DTSTART;TZID=America/Los_Angeles:20230306T170000
DTEND;TZID=America/Los_Angeles:20230306T180000
DTSTAMP:20260423T052725
CREATED:20230312T052852Z
LAST-MODIFIED:20230312T052852Z
UID:18458-1678122000-1678125600@www.ayclogic.com
SUMMARY:5 PM - Python OOP - Bill
DESCRIPTION:Today We:\n\nContinued the School system project\nAdded feature to add a student\nAdded feature to list all students\n\nYour HW:\n\nAdd to the menu the following options:\n\n“Add a teacher”\n“List all teachers”\n\n\nThen create 2 new methods to add a new teacher and list them all just like we did for students in class
URL:https://www.ayclogic.com/event/5-pm-python-oop-bill-35/
END:VEVENT
BEGIN:VEVENT
DTSTART;TZID=America/Los_Angeles:20230307T170000
DTEND;TZID=America/Los_Angeles:20230307T180000
DTSTAMP:20260423T052725
CREATED:20230308T004201Z
LAST-MODIFIED:20230308T004201Z
UID:18377-1678208400-1678212000@www.ayclogic.com
SUMMARY:5 PM – Intro To Python – Shawn
DESCRIPTION:What we did\n\nHomework review\nReview before quiz\n\nHomework\n\nDo these exercises: https://www.ayclogic.com/intro-to-python-exercises/\nPut these in a file named Mar7_QuizReviewHW.py\n\nIf you have any questions\, please don’t hesitate to email me at szhuang@ayclogic.com.
URL:https://www.ayclogic.com/event/5-pm-intro-to-python-shawn-11/
END:VEVENT
BEGIN:VEVENT
DTSTART;TZID=America/Los_Angeles:20230307T170000
DTEND;TZID=America/Los_Angeles:20230307T180000
DTSTAMP:20260423T052725
CREATED:20230308T041927Z
LAST-MODIFIED:20230308T041927Z
UID:18396-1678208400-1678212000@www.ayclogic.com
SUMMARY:5 PM - Intro To Python - Gamas
DESCRIPTION:Homework\n\nNext week is 2 hours final test. The test is an open book test.\nPlease study the following\n\nRobux Shopping Cart\nGrocery Shopping Cart\nTurtle codes\, like draw face.\n\n\nAll python files that we have done in the class can be found in https://drive.google.com/drive/u/0/folders/10gSNvKsNKHapu_-rKAYYOR56UVBblwp2
URL:https://www.ayclogic.com/event/5-pm-intro-to-python-gamas-12/
CATEGORIES:Python Class,Python Level 1
END:VEVENT
BEGIN:VEVENT
DTSTART;TZID=America/Los_Angeles:20230307T180000
DTEND;TZID=America/Los_Angeles:20230307T190000
DTSTAMP:20260423T052725
CREATED:20230308T004526Z
LAST-MODIFIED:20230314T015238Z
UID:18379-1678212000-1678215600@www.ayclogic.com
SUMMARY:6 PM – Intro To Python – Shawn
DESCRIPTION:What we did\n\nHomework review\nIf else review (all the operators\, indentation)\nAnd or not statements\nNested if statements\nInput from shell\n\nHomework\n\nCreate a file named Mar7_IfElseHomework2.py\nDo 5-3 and 5-4 from page 84\nDo number 3 only from https://www.ayclogic.com/list-inputs-if-and-else-loops-and-function/\n\nIf you have any questions\, don’t hesitate to email me at szhuang@ayclogic.com.
URL:https://www.ayclogic.com/event/6-pm-intro-to-python-shawn-4/
END:VEVENT
BEGIN:VEVENT
DTSTART;TZID=America/Los_Angeles:20230307T180000
DTEND;TZID=America/Los_Angeles:20230307T190000
DTSTAMP:20260423T052725
CREATED:20230308T030905Z
LAST-MODIFIED:20230308T031026Z
UID:18385-1678212000-1678215600@www.ayclogic.com
SUMMARY:6:00 PM – Scratch 2 – Yitong
DESCRIPTION:Today we:\n\nStarted the Fireball Fight project.\nAdded the Left Player and Right Player sprites.\nAdded movement code for the Left player.\nMade Apple clones\, and had them wait for a bit before making more clones.\nMade the Apple clones appear at random places on the screen.\nAdded the Left Player Health and Right Player Health variables.\n\nHomework:\n\nMake the Right Player sprite move using the arrow keys.\n\nUp arrow: move up\nDown arrow: move down\nLeft arrow: move left\nRight arrow: move right\n\n\nMake the Star sprite make clones of itself. Make it wait 5-10 seconds before making a clone.\nMake the Star clones show up at random places on the screen.\nAdd TWO attack sprites\, one for the Left Player sprite and one for the Right Player sprite. The players will throw these sprites as attacks at each other.\nMake the attack sprites hide when the game starts. Also\, use code to change their size if they are too big or too small.\n\nTurn in your homework here: yitong@ayclogic.com
URL:https://www.ayclogic.com/event/600-pm-scratch-2-yitong-4/
CATEGORIES:Scratch Class,Scratch Class Level 2
END:VEVENT
END:VCALENDAR