BEGIN:VCALENDAR
VERSION:2.0
PRODID:-//American Young Coder - ECPv6.10.1.1//NONSGML v1.0//EN
CALSCALE:GREGORIAN
METHOD:PUBLISH
X-ORIGINAL-URL:https://www.ayclogic.com
X-WR-CALDESC:Events for American Young Coder
REFRESH-INTERVAL;VALUE=DURATION:PT1H
X-Robots-Tag:noindex
X-PUBLISHED-TTL:PT1H
BEGIN:VTIMEZONE
TZID:America/Los_Angeles
BEGIN:DAYLIGHT
TZOFFSETFROM:-0800
TZOFFSETTO:-0700
TZNAME:PDT
DTSTART:20240310T100000
END:DAYLIGHT
BEGIN:STANDARD
TZOFFSETFROM:-0700
TZOFFSETTO:-0800
TZNAME:PST
DTSTART:20241103T090000
END:STANDARD
END:VTIMEZONE
BEGIN:VEVENT
DTSTART;TZID=America/Los_Angeles:20240903T170000
DTEND;TZID=America/Los_Angeles:20240903T180000
DTSTAMP:20260422T003121
CREATED:20240904T022652Z
LAST-MODIFIED:20240904T022652Z
UID:26666-1725382800-1725386400@www.ayclogic.com
SUMMARY:5 PM - Adv Python Game Dev - Gamas
DESCRIPTION:Today We Did\n\nWe continued with EnemyPathFinder class.\nWe integrated EnemyPathFinder with EnemyTank class.\n\nHomework\n\nInside EnemyTank class\, inside set_direction(self) method\n\nprint the “path” to see the coordinates. The path is a List inside a List.\nUse for loop to go trough each element inside the “path”.\nInside the for loop\, get the coordinate by getting 2nd element (index 1).\nprint circle by using\, the x and y variables are from the step number 3\n\n\npygame.draw.circle(self.screen\, (252\, 252\, 252)\, (x * WALL_SIZE\, y * WALL_SIZE)\, 5)
URL:https://www.ayclogic.com/event/5-pm-adv-python-game-dev-gamas/
END:VEVENT
BEGIN:VEVENT
DTSTART;TZID=America/Los_Angeles:20240903T180000
DTEND;TZID=America/Los_Angeles:20240903T190000
DTSTAMP:20260422T003121
CREATED:20240904T020402Z
LAST-MODIFIED:20240911T015806Z
UID:26662-1725386400-1725390000@www.ayclogic.com
SUMMARY:6 PM - Intro To Python - Gamas
DESCRIPTION:Today We Did\n\nWe reviewed a couple of difficult questions from the 2nd quiz.\nWe started learning about Python Turtle.\n\nHomework\n\nInside sep_3_intro_to_turtle.py\, create 3 new functions\n\ndraw_rectangle(pen_color)\ndraw_triangle(pen_color)\ndraw_octagon(pen_color)\n\n\nThe coordinates have to be according to
URL:https://www.ayclogic.com/event/6-pm-intro-to-python-gamas-32/
END:VEVENT
BEGIN:VEVENT
DTSTART;TZID=America/Los_Angeles:20240903T180000
DTEND;TZID=America/Los_Angeles:20240903T190000
DTSTAMP:20260422T003121
CREATED:20240904T042413Z
LAST-MODIFIED:20240904T042413Z
UID:26663-1725386400-1725390000@www.ayclogic.com
SUMMARY:6 PM – Python OOP – Darin
DESCRIPTION:NEXT WEEK IS YOUR FINAL EXAM FROM 6-8 PM\n\nWhat We Did Today:\n\nReviewed the driver system project for the final exam next week.\n\nHomework:\n\nStudy for your final exam through driver system\, monster inheritance\, OOP concepts in past notes!!\n\nNotes:\n\nIf you have any questions\, you can contact me at ddjapri@ayclogic.com
URL:https://www.ayclogic.com/event/6-pm-python-oop-darin-8/
CATEGORIES:OOP Python,Python Class
END:VEVENT
BEGIN:VEVENT
DTSTART;TZID=America/Los_Angeles:20240904T170000
DTEND;TZID=America/Los_Angeles:20240904T180000
DTSTAMP:20260422T003121
CREATED:20240905T010810Z
LAST-MODIFIED:20240905T010810Z
UID:26674-1725469200-1725472800@www.ayclogic.com
SUMMARY:5 PM - Intro To Python - Gamas
DESCRIPTION:Today We Did\n\nWe reviewed function homeworks\nWe learned about parameter default value\nWe learned how to rotate rectangle\n\nHomework\n\nCreate sep_4_turtle_clock_hw.py\n\nCopy rectangle function that we did today.\nCopy circle function that we did in the past.\n\n\nCreate below drawing
URL:https://www.ayclogic.com/event/5-pm-intro-to-python-gamas-23/
END:VEVENT
BEGIN:VEVENT
DTSTART;TZID=America/Los_Angeles:20240904T170000
DTEND;TZID=America/Los_Angeles:20240904T180000
DTSTAMP:20260422T003121
CREATED:20240905T012819Z
LAST-MODIFIED:20240905T013345Z
UID:26678-1725469200-1725472800@www.ayclogic.com
SUMMARY:5 PM - Scratch 1 - Abigail
DESCRIPTION:Today We Did\n\nWe started working on the Dino Dance project\n\nHomework\n\nDo page 42 on your pink Scratch book. If you don’t have the book right now\, click this link to get access to the pdf: Scratch Pg. 41-42\n\nIf you have any questions\, email me at abigail@ayclogic.com
URL:https://www.ayclogic.com/event/5-pm-scratch-1-abigail/
CATEGORIES:Scratch Class,Scratch Class Level 1
END:VEVENT
BEGIN:VEVENT
DTSTART;TZID=America/Los_Angeles:20240904T180000
DTEND;TZID=America/Los_Angeles:20240904T190000
DTSTAMP:20260422T003121
CREATED:20240905T002241Z
LAST-MODIFIED:20240905T032644Z
UID:26671-1725472800-1725476400@www.ayclogic.com
SUMMARY:6 PM – Intro to Python – Daniel
DESCRIPTION:What We Did\n\nReviewed the debugging homework\nPrepared for the quiz next week through the Quiz 2 Review exercise.\n\nHomework\n\nContinue on your Sep4_QuizReview2.py file and finish number 4!!\nIf you have any questions\, email me at dmeng@ayclogic.com or ddjapri@ayclogic.com
URL:https://www.ayclogic.com/event/6-pm-intro-to-python-daniel-20/
CATEGORIES:Python Class,Python Level 1
END:VEVENT
BEGIN:VEVENT
DTSTART;TZID=America/Los_Angeles:20240904T190000
DTEND;TZID=America/Los_Angeles:20240904T210000
DTSTAMP:20260422T003121
CREATED:20240905T032313Z
LAST-MODIFIED:20240905T032427Z
UID:26672-1725476400-1725483600@www.ayclogic.com
SUMMARY:7 PM – Intro To Java – Darin
DESCRIPTION:Today We:\n\nDid our final exam!
URL:https://www.ayclogic.com/event/7-pm-intro-to-java-darin-21/
CATEGORIES:Introduction To Java,Java
END:VEVENT
BEGIN:VEVENT
DTSTART;TZID=America/Los_Angeles:20240905T180000
DTEND;TZID=America/Los_Angeles:20240905T190000
DTSTAMP:20260422T003121
CREATED:20240906T021236Z
LAST-MODIFIED:20240906T021236Z
UID:26686-1725559200-1725562800@www.ayclogic.com
SUMMARY:6pm – Intro To Python – Joshua Widjanarko (Darin Sub)
DESCRIPTION:Today We Did:\n\nReviewed the homework\nBrushed up on what functions are with/without return values\nDid examples of functions from the https://www.ayclogic.com/list-inputs-if-and-else-loops-and-function/ page\n\nHomework:\nIn one new file\, “Sep5_FunctionsWithRVCopyHW”\, do the following: \n\nCopy pages:\n2nd edition: pg. 138\, 139\n3rd edition: pg. 137-139\n\n\nCreate a new function called “convert_from_kg_to_gram”\nThe function accepts one argument/parameter: kg\nInside the function\, convert from kg to gram by multiplying 1000 to kg\nreturn the result of the conversion \nget input from the user in the shell\, and save that in a variable named “kg”\ncall the function with parameter from user input and save the return value in a variable called “result”.\nprint (for example) “There are 4000 grams in 4 KG” \nEXAMPLE OUTPUT:\nEnter the number of kg: 10\nThere are 10000 grams in 10 KG \nNOTES:\nIf you have any questions feel free to email me jwidjanarko@ayclogic.com or ddjapri@ayclogic.com
URL:https://www.ayclogic.com/event/6pm-intro-to-python-joshua-widjanarko-darin-sub/
CATEGORIES:Python Class,Python Level 1
END:VEVENT
BEGIN:VEVENT
DTSTART;TZID=America/Los_Angeles:20240905T180000
DTEND;TZID=America/Los_Angeles:20240905T190000
DTSTAMP:20260422T003121
CREATED:20240908T032056Z
LAST-MODIFIED:20240908T032056Z
UID:26718-1725559200-1725562800@www.ayclogic.com
SUMMARY:6 PM - Intro To Python - Daniel
DESCRIPTION:Gamas Sub \nToday We Did\n\nWe reviewed For loop in range and For loop using List.\nWe started with while loop.\n\nHomework\n\n If your book is 2nd edition copy codes from these pages\n\nPage 118 and 121: 10th week\n\n\nIf your book is 3rd edition copy codes from these pages\n\nPage 117 and 121: 10th week
URL:https://www.ayclogic.com/event/6-pm-intro-to-python-daniel-21/
END:VEVENT
BEGIN:VEVENT
DTSTART;TZID=America/Los_Angeles:20240905T190000
DTEND;TZID=America/Los_Angeles:20240905T200000
DTSTAMP:20260422T003121
CREATED:20240906T030939Z
LAST-MODIFIED:20240906T030939Z
UID:26688-1725562800-1725566400@www.ayclogic.com
SUMMARY:7 PM - Intro To Python - Gamas
DESCRIPTION:Today We Did\n\nWe learned about variables and data types.\nWe learned how to combine String together\n\nHomework\n\nIn Thonny\, create a new file sep_5_string_hw.py\ncopy codes from page 20 to 23 from the text book.\n\nJust in case you do not have the book IntroToPythonP20toP23\nIf you see >>> only copy the codes after the >>>\n\nFor example\, if you see ” >>> print(“python”. You only copy print(“Python”)
URL:https://www.ayclogic.com/event/7-pm-intro-to-python-gamas-21/
END:VEVENT
BEGIN:VEVENT
DTSTART;TZID=America/Los_Angeles:20240905T190000
DTEND;TZID=America/Los_Angeles:20240905T200000
DTSTAMP:20260422T003121
CREATED:20240906T054420Z
LAST-MODIFIED:20240906T054420Z
UID:26693-1725562800-1725566400@www.ayclogic.com
SUMMARY:7 PM - Intro To Java - Bill
DESCRIPTION:Your HW:\n\nStudy for your 2 hour final test next week\n\nMonster Inheritence\nDriver System\n\nYou can do this one more time without looking at the answers for practice\n\n\nOther Misc. Stuff:\n\n\n\nRandom\nLists\nDictionaries/Hash Maps\nInput\n\n\n\n\n\n\nIf you did not do so\, do the practice quiz from last week’s hw (worth 10% of your grade)\n\n– 10 Points late penalty
URL:https://www.ayclogic.com/event/7-pm-intro-to-java-bill-20/
END:VEVENT
BEGIN:VEVENT
DTSTART;TZID=America/Los_Angeles:20240906T183000
DTEND;TZID=America/Los_Angeles:20240906T193000
DTSTAMP:20260422T003121
CREATED:20240907T023005Z
LAST-MODIFIED:20240907T023005Z
UID:26702-1725647400-1725651000@www.ayclogic.com
SUMMARY:6:30 PM – Scratch 2 – Yitong
DESCRIPTION:Today we:\n\nContinued the Spaceship project.\n\nHomework:\n\nMake a Game Over Banner sprite. When the game starts\, make it hide. When the Spaceship sprite hits the Meteor sprite\, make it show up.\nDo the code for the BombPowerUp sprite. Copy the code from the FireballPowerUp sprite and change it.\n\nIf you have any questions\, email me at yitong@ayclogic.com
URL:https://www.ayclogic.com/event/630-pm-scratch-2-yitong-2/
CATEGORIES:Scratch Class,Scratch Class Level 2
END:VEVENT
BEGIN:VEVENT
DTSTART;TZID=America/Los_Angeles:20240906T190000
DTEND;TZID=America/Los_Angeles:20240906T200000
DTSTAMP:20260422T003121
CREATED:20240907T021943Z
LAST-MODIFIED:20240907T021943Z
UID:26700-1725649200-1725652800@www.ayclogic.com
SUMMARY:7 PM - Python Game Dev - Gamas
DESCRIPTION:Today We Did\nTBD \nHomework\n\nAdd collision detection between player and coin.\n\nThe coin will disappear\nPlay assets/collect5.wav\n\n\nAdd score attribute\n\nDisplay score on the screen\nincrease score when player collide with the coin.
URL:https://www.ayclogic.com/event/7-pm-python-game-dev-gamas-16/
END:VEVENT
BEGIN:VEVENT
DTSTART;TZID=America/Los_Angeles:20240907T080000
DTEND;TZID=America/Los_Angeles:20240907T090000
DTSTAMP:20260422T003121
CREATED:20240907T015725Z
LAST-MODIFIED:20240907T041441Z
UID:26698-1725696000-1725699600@www.ayclogic.com
SUMMARY:8 AM - Python Game Dev - Joel
DESCRIPTION:Gamas Sub \nToday We Did\n\nWe finished game landing page\nWe finished bird chirping sound (except when count down goes to zero)\n\nHomework\n\nWhen you pop the balloon\, play the assets/plop.wav\nWhen you pop the bug\, play the assets/collect5.wav\nAdd the credit page.
URL:https://www.ayclogic.com/event/8-am-python-game-dev-joel-2/
END:VEVENT
BEGIN:VEVENT
DTSTART;TZID=America/Los_Angeles:20240907T100000
DTEND;TZID=America/Los_Angeles:20240907T110000
DTSTAMP:20260422T003121
CREATED:20240907T040040Z
LAST-MODIFIED:20240907T040040Z
UID:26705-1725703200-1725706800@www.ayclogic.com
SUMMARY:10 AM - Python Game Dev - Gamas
DESCRIPTION:Today We Did\n\nWe fixed the giant fireball spawn location\nWe started creating landing page and game in session\n\nHomework\nCurrently in landing page there is only play button. You need to do more stuff on landing page \n\nCenter the play_button\nAdd title image above the play_button\nSpawn birds\nSpawn clouds.
URL:https://www.ayclogic.com/event/10-am-python-game-dev-gamas-2/
END:VEVENT
BEGIN:VEVENT
DTSTART;TZID=America/Los_Angeles:20240907T103000
DTEND;TZID=America/Los_Angeles:20240907T113000
DTSTAMP:20260422T003121
CREATED:20240909T032613Z
LAST-MODIFIED:20240909T033727Z
UID:26721-1725705000-1725708600@www.ayclogic.com
SUMMARY:10:30 AM - Intro To Python - Bill
DESCRIPTION:Your HW:\n\nContinue to work on your turtle projects (Week 2)\nDue 9/21
URL:https://www.ayclogic.com/event/1030-am-intro-to-python-bill-30/
END:VEVENT
BEGIN:VEVENT
DTSTART;TZID=America/Los_Angeles:20240907T113000
DTEND;TZID=America/Los_Angeles:20240907T123000
DTSTAMP:20260422T003121
CREATED:20240909T032943Z
LAST-MODIFIED:20240909T032943Z
UID:26723-1725708600-1725712200@www.ayclogic.com
SUMMARY:11:30 AM - Unity Game Development - Bill
DESCRIPTION:Your HW:\n\nAdd a pause button that stops the game like in the platformer\nCreate a small paused menu with an unpause button in it that will pop up when you click the pause button
URL:https://www.ayclogic.com/event/1130-am-unity-game-development-bill-18/
END:VEVENT
BEGIN:VEVENT
DTSTART;TZID=America/Los_Angeles:20240907T120000
DTEND;TZID=America/Los_Angeles:20240907T130000
DTSTAMP:20260422T003121
CREATED:20240907T200312Z
LAST-MODIFIED:20240907T200312Z
UID:26707-1725710400-1725714000@www.ayclogic.com
SUMMARY:12 PM - AI and ML - Gamas
DESCRIPTION:Today We Did\n\nWe continued with Titanic Survival project\nWe were able to feed a training CSV file into our learning model and predicts the survival of each of the person inside training CSV and save the result back into another CSV file\n\nHomework\n\nResearch on how to display a chart that will show the percentage of survival base on their age. The type of chart that I expect you to do would be like the following\n\nYou should use import matplotlib.pyplot as plt for creating chart.
URL:https://www.ayclogic.com/event/12-pm-ai-and-ml-gamas-3/
END:VEVENT
BEGIN:VEVENT
DTSTART;TZID=America/Los_Angeles:20240907T143000
DTEND;TZID=America/Los_Angeles:20240907T153000
DTSTAMP:20260422T003121
CREATED:20240909T033349Z
LAST-MODIFIED:20240909T033349Z
UID:26725-1725719400-1725723000@www.ayclogic.com
SUMMARY:2:30 PM - Unity Game Development - Bill
DESCRIPTION:Your HW:\n\nCreate a new main menu scene\nGive it a canvas and display the logo image on that canvas\nCreate a button with text that says “Play”\n\nYou do not have to code any of it yet just lay out the UI elements
URL:https://www.ayclogic.com/event/230-pm-unity-game-development-bill-12/
END:VEVENT
BEGIN:VEVENT
DTSTART;TZID=America/Los_Angeles:20240907T150000
DTEND;TZID=America/Los_Angeles:20240907T160000
DTSTAMP:20260422T003121
CREATED:20240907T231909Z
LAST-MODIFIED:20240907T232038Z
UID:26710-1725721200-1725724800@www.ayclogic.com
SUMMARY:3 PM – Intro To Python – Daniel (Darin Sub)
DESCRIPTION:Your final exam will be on Sep 21. \nWhat We Did:\n\nImplemented a more advanced text based program – Robux System – that tests the knowledge gained in the class so far on loops\, conditionals\, lists\, functions\, code efficiency.\n\nHomework:\n\n Continue on your file called Project.py and continue working on the project.\nThe project is due on 09/21\, by next week (08/24)\, you should have your project 75% completed.\n\nNotes:\nYou can email at ddjapri@ayclogic.com or dmeng@ayclogic.com if you have any questions!
URL:https://www.ayclogic.com/event/3-pm-intro-to-python-daniel-darin-sub/
CATEGORIES:Python Class,Python Level 1
END:VEVENT
BEGIN:VEVENT
DTSTART;TZID=America/Los_Angeles:20240907T183000
DTEND;TZID=America/Los_Angeles:20240907T193000
DTSTAMP:20260422T003121
CREATED:20240908T023641Z
LAST-MODIFIED:20240908T024424Z
UID:26714-1725733800-1725737400@www.ayclogic.com
SUMMARY:6:30 PM – Intro To Java – Darin
DESCRIPTION:What We Did Today:\n\nLearnt how to grab an element by its id using findViewById().\nUtilized ID’s to change the text of other elements on our screen\nImplemented the math to convert the input value for Fahrenheit to an output value of Celsius and displayed them accordingly on the screen using the ID’s.\nAdded a spinner class that’s left for us to implement next week!\n\nHomework:\n\nContinue on your TemperatureConverter Project.\nCreate two new elements ( a button (that says “changeText”) and a textview (that says “changeMe”) ) and place them WITH constraints to the edges of the screen below the convertButton in activity_main.xml.\nIn MainActivity.java\, create a new function called button2OnClick\, and make it so that the new textview element changes to your name when the changeText button is clicked.\n\nNotes:\nYou can email me at ddjapri@ayclogic.com if you have any questions!
URL:https://www.ayclogic.com/event/26714/
CATEGORIES:Introduction To Java,Java
END:VEVENT
BEGIN:VEVENT
DTSTART;TZID=America/Los_Angeles:20240909T160000
DTEND;TZID=America/Los_Angeles:20240909T170000
DTSTAMP:20260422T003121
CREATED:20240910T060522Z
LAST-MODIFIED:20240910T060522Z
UID:26728-1725897600-1725901200@www.ayclogic.com
SUMMARY:4 PM – Python OOP – Darin
DESCRIPTION:Today We:\n\nReviewed the homework for the grocery system v2 program\, in adding a dictionary to keep track whether an item is meant to be frozen or not.\nIntroduced the concept of object-oriented programming\, highlighting the relationship between classes and objects.\nNext week we will explore how to use more classes and objects with different ideas.\n\nHomework:\n\nIn a new file called Sep9_OOP_HW.py\, copy pages 158 – 161\nCreate a new file called Sep9_RobuxSystem.py and modify your robux system from thonny (you can get the code from the google drive notes if you don’t have the file anymore) to use a dictionary to keep track of the names of the items and the price of the items\, and modify the code inside of the while True loop to be similar to how you did in the grocery system to use the dictionary instead.\nYou do not need to modify the function at all for this assignment.\n\nNotes:\nEmail me at ddjapri@ayclogic.com if you have any questions.
URL:https://www.ayclogic.com/event/4-pm-python-oop-darin-5/
CATEGORIES:Python Class,Python Level 1
END:VEVENT
BEGIN:VEVENT
DTSTART;TZID=America/Los_Angeles:20240909T170000
DTEND;TZID=America/Los_Angeles:20240909T180000
DTSTAMP:20260422T003121
CREATED:20240910T065056Z
LAST-MODIFIED:20240910T065056Z
UID:26731-1725901200-1725904800@www.ayclogic.com
SUMMARY:5 PM – Python Game Dev – Darin
DESCRIPTION:Today We Did:\n\nWe reviewed each individual project.\nWe continued on Shoot Balloon project by implementing the loading page\, as well as cleaning up our code inside of __init__.\n\nHomework:\nIn Shoot Balloon\, make sure you have the game landing page (with blitting the balloon_title.png)\, game win/lose page\, all with the option of being able to replay the game (reset variables\, kill all existing balloons and bugs) \nFor Chris: Try out using group collide by pygame.sprite.groupcollide(self.target_group\, self.bug_group\, False\, False\, self.target_bug_collision)\, and add an extra “and if bug.dizzy = FLYING_MODE” to make the bug go to dizzy mode. \nFor your final projects: \nBrandon: make sure your self.kill() is used properly for all the projectiles \n\n\n\nIMPORTANT NOTES:\nYou can contact me via ddjapri@ayclogic.com for any questions or concerns.
URL:https://www.ayclogic.com/event/5-pm-python-game-dev-darin-5/
CATEGORIES:Python Class,Python Game Development
END:VEVENT
BEGIN:VEVENT
DTSTART;TZID=America/Los_Angeles:20240909T190000
DTEND;TZID=America/Los_Angeles:20240909T200000
DTSTAMP:20260422T003121
CREATED:20240910T064324Z
LAST-MODIFIED:20240910T064324Z
UID:26732-1725908400-1725912000@www.ayclogic.com
SUMMARY:7 PM – Intro To Java – Darin
DESCRIPTION:Today We Did:\n\nContinued in Android Studio\, implementing the function for the convert button.\nLearnt how to grab UI elements in code by id\, and manipulate them using getText and setText.\n\nHomework:\n\nComplete the method below inside of MainActivity.java: Grab the other EditText UI element and use .setText() on it to set it with the calculated value for the Celsius.\n\npublic void convertButtonOnClick(View view) {\n    // findViewById will grab the UI (user interface) element by its ID\n    EditText originalTempValue = findViewById(R.id.originalTempValue);\n    String originalTempStr = originalTempValue.getText().toString();\n\n    // Double.parseDouble(string value)\n    // String.valueOf(   int/double value   )\n\n\n    // convert the String originalTempStr to a double\, and then\n    // convert it to its celsius version with the formula:\n    // celsius = (fahrenheit - 32) * 5/9\n\n    // and then\, GRAB the other EditText and name it convertedTempValue\, and use\n    // convertedTempValue.setText(  celsius (as a string)   )\n\n    System.out.println(originalTempStr);\n}\nNotes:\nEmail me at ddjapri@ayclogic.com if you have any questions.
URL:https://www.ayclogic.com/event/7-pm-intro-to-java-darin-22/
CATEGORIES:Introduction To Java,Java
END:VEVENT
BEGIN:VEVENT
DTSTART;TZID=America/Los_Angeles:20240909T193000
DTEND;TZID=America/Los_Angeles:20240909T203000
DTSTAMP:20260422T003121
CREATED:20240913T003726Z
LAST-MODIFIED:20240913T003726Z
UID:26754-1725910200-1725913800@www.ayclogic.com
SUMMARY:7:30 PM - Python Game Development - Bill
DESCRIPTION:Your HW:\n\nWork on your pygame projects week 7\n\nDue September 23rd
URL:https://www.ayclogic.com/event/730-pm-python-game-development-bill-27/
END:VEVENT
BEGIN:VEVENT
DTSTART;TZID=America/Los_Angeles:20240910T180000
DTEND;TZID=America/Los_Angeles:20240910T190000
DTSTAMP:20260422T003121
CREATED:20240911T015114Z
LAST-MODIFIED:20240911T015913Z
UID:26735-1725991200-1725994800@www.ayclogic.com
SUMMARY:6 PM - Intro To Python - Gamas
DESCRIPTION:Today We Did\n\nWe learned how to make draw_square function reusable by adding x and y coordinates.\n\nHomework\n\nIf you have not done last week homework\, please do so. https://www.ayclogic.com/event/6-pm-intro-to-python-gamas-32/\nAnd then change the following functions to have x and y coordinates and then call them 3 times for each function to draw each shape in 3 different locations\n\ndraw_rectangle(x\,y\, color)\ndraw_triangle(x\,y\, color)\ndraw_octagon(x\,y\,color)\n\n\nThis homework is very similar to what we did in the class today with draw_square(x\,y\,color)
URL:https://www.ayclogic.com/event/6-pm-intro-to-python-gamas-33/
END:VEVENT
BEGIN:VEVENT
DTSTART;TZID=America/Los_Angeles:20240910T180000
DTEND;TZID=America/Los_Angeles:20240910T190000
DTSTAMP:20260422T003121
CREATED:20240911T020818Z
LAST-MODIFIED:20240911T020818Z
UID:26737-1725991200-1725994800@www.ayclogic.com
SUMMARY:6 PM - Intro to Python - Daniel
DESCRIPTION:Today we did:\n\nWe continued with while loops\, and learned about while True (forever) loops\, and the way to break out of them (using the ‘break’ keyword)\n\nHomework:\n\nFinish these exercises before next week. Here are the exercises: https://www.ayclogic.com/intro-to-python-exercises/\nDon’t worry if you get stuck on some of them\, just do them all as much as you can.
URL:https://www.ayclogic.com/event/6-pm-intro-to-python-daniel-22/
END:VEVENT
BEGIN:VEVENT
DTSTART;TZID=America/Los_Angeles:20240910T180000
DTEND;TZID=America/Los_Angeles:20240910T200000
DTSTAMP:20260422T003121
CREATED:20240911T031009Z
LAST-MODIFIED:20240911T031009Z
UID:26741-1725991200-1725998400@www.ayclogic.com
SUMMARY:6 PM – Python OOP – Darin
DESCRIPTION:What We Did Today:\n\nDid our final exam.\nYou will get your results soon within the next 3 days.\n\nNotes:\n\nIf you have any questions\, you can contact me at ddjapri@ayclogic.com
URL:https://www.ayclogic.com/event/6-pm-python-oop-darin-9/
CATEGORIES:OOP Python,Python Class
END:VEVENT
BEGIN:VEVENT
DTSTART;TZID=America/Los_Angeles:20240911T080000
DTEND;TZID=America/Los_Angeles:20240911T170000
DTSTAMP:20260422T003121
CREATED:20240912T011018Z
LAST-MODIFIED:20240912T011018Z
UID:26746-1726041600-1726074000@www.ayclogic.com
SUMMARY:5 PM - Scratch 1 - Abigail
DESCRIPTION:Today We Did\n\nWe finished working on the Dino Dance project\n\nHomework\n\nWith your second sprite\, make up a dance sequence for that sprite.\nUse the Ballerina sprite as reference on how to do it.\nIf you have another Ballerina sprite\, you cannot do the same dance sequence twice.\n\nIf you have any questions\, email me at abigail@ayclogic.com
URL:https://www.ayclogic.com/event/5-pm-scratch-1-abigail-2/
CATEGORIES:Scratch Class,Scratch Class Level 1
END:VEVENT
BEGIN:VEVENT
DTSTART;TZID=America/Los_Angeles:20240911T170000
DTEND;TZID=America/Los_Angeles:20240911T180000
DTSTAMP:20260422T003121
CREATED:20240912T012153Z
LAST-MODIFIED:20240912T012153Z
UID:26749-1726074000-1726077600@www.ayclogic.com
SUMMARY:5 PM - Intro To Python - Gamas
DESCRIPTION:Today We Did\n\nWe learned how to create face\n\nHomework\n\nFinish last week homework https://www.ayclogic.com/event/5-pm-intro-to-python-gamas-23/\nContinue with sep_11_face.py finish the face(x\,y) function so the face will look like below\nInside same file sep_11_face.py\, create a new function face_2(x\,y) this function when called will produce below drawing.
URL:https://www.ayclogic.com/event/5-pm-intro-to-python-gamas-24/
END:VEVENT
END:VCALENDAR